Workbook

Sheet 入力シート
A1: ※着色セルに入力してください
B2: （入力シート）
B4: ①基本情報を入力してください。
B5: 基本情報
B6: 提出年月日 | J6: （記載例）
B7: 文書番号
B8: 所在地
B9: 団体名 | I9: → | J9: 医療法人○○会
B10: 医療機関名 | I10: → | J10: 理事長 ○○ ○○
B11: 代表者名
B12: 補助金担当者職氏名
B13: 補助金担当者連絡先 | C13: （TEL） | E13: （FAX）
B14: 補助金担当者メールアドレス
B16: ②補助金見込額 ※自動計算します
B18: ='（様式１）'!L11 -> 0 | C18: （円）
B19: （注）対象経費の支出額が補助基準額合計を下回る場合、対象経費の支出額×1/2が補助上限額となります。
B20: 金額は上限額であり、各病院からの要望状況により減額する可能性があります。
B22: ③補助金振込口座を入力してください。（記載誤りのないよう、よく確認してください。）
B23: 補助金振込金融機関
B24: 金融機関名 | C24: 銀行(信用金庫・信用組合) | E24: 支店（出張所） | J24: （記載例）
B25: 預金種別 | I25: → | J25: 『普通』又は『当座』
B26: 口座番号
B27: （ﾌﾘｶﾞﾅ）
B28: 口座名義人
B29: （注）預金通帳等を確認しながら正確に記載してください。振込先口座等を県において確認後、
B30: 県への債権者登録の新規・変更登録手続きが必要な場合は、おって連絡いたします。
B32: ④各シート入力後、このエクセルファイルを下記アドレス宛てにメールで送付してください。（郵送での提出は不要です。）
C36: 山形県健康福祉部 医療政策課あて FAX：０２３－６３０－２３０１

Sheet （様式１）
A1: ※着色セルに入力してください
A2: 様式１
A3: 新人看護職員研修事業所要額調書
J5: 医療機関名 | K5: =IF(入力シート!C10=""," ",入力シート!C10)
A7: 総事業費 | B7: 寄付金 その他の収入 | C7: 差引額 | D7: 対象経費の 実支出額 | E7: 新人看護職員研修事業経費 | H7: 研修受入加算 （実施病院のみ） | J7: 合計 | K7: 選定額 | L7: 補助金 所要額 （千円未満切捨）
E8: 研修経費 | F8: 教育担当 者経費 | G8: 小計 | H8: 受入 人数 | I8: 他施設 受入経費
A9: A | B9: B | C9: （A-B）C | D9: D | E9: E | F9: F | G9: （E＋F）G | I9: H | J9: (G＋H)I | K9: J | L9: （J×1/2）K
A10: 円 | B10: 円 | C10: 円 | D10: 円 | E10: 円 | F10: 円 | G10: 円 | H10: 人 | I10: 円 | J10: 円 | K10: 円 | L10: 円
C11: =A11-B11 -> 0 | D11: ='（様式３）'!E51 -> 0 | E11: =SUM('（様式２）'!M22:O23) -> 0 | F11: ='（様式２）'!M24 -> 0 | G11: =E11+F11 -> 0 | H11: =ROUNDDOWN(IF('（様式２）'!E22/40>30,30,'（様式２）'!E22/40),0) -> 0 | I11: ='（様式２）'!M25 -> 0 | J11: =ROUNDDOWN((G11+I11),0) -> 0 | K11: =MIN(C11,D11,J11) -> 0 | L11: =ROUNDDOWN(K11*1/2,-3) -> 0
A13: （注）１ 総事業費Ａ欄には、新人看護職員卒後臨床研修事業にかかる総事業費を記入すること。
A14: ２ 寄付金その他の収入欄Ｂには、新人看護職員卒後臨床研修にかかる寄付金及び他収入を記入すること。
A15: ３ 対象経費の実支出額D欄は様式３「対象経費の支出予定額内訳」の合計と一致すること。
A16: ４ 研修受入人数については、実人員ではなく、研修受入時間が年間４０時間で１名とし、３０名を上限とする。なお１名４０時間に満たない場合は、複数人で４０時間となれば１名とする。
A17: ５ 選定額J欄にはＣ欄とＤ欄及びＩ欄の金額を比較して一番少ない額を記入すること。
A18: ６ 補助金所要額欄Ｋには、選定額Ｊ欄に1/2を乗じた額（ただし1,000円未満の端数が出る場合は切捨て）を記入すること。

Sheet （様式２）
A1: ※着色セルに入力してください
B2: 様式２
B3: 新人看護職員定着状況見込書（基準額計算書）
K6: 医療機関名 | M6: =IF(入力シート!C10=""," ",入力シート!C10)
D8: ４月 | E8: ５月 | F8: ６月 | G8: ７月 | H8: ８月 | I8: ９月 | J8: １０月 | K8: １１月 | L8: １２月 | M8: １月 | N8: ２月 | O8: ３月
B9: 新人看護職員数 （保健師、助産師含む）
B10: 新人保健師数（再掲）
B11: 新人助産師数（再掲）
B12: 基準額 | C12: 研修経費 | D12: =IF(D9>=2,52000,IF(D9=1,36000,0)) -> 0 | E12: =IF(E9>=2,52000,IF(E9=1,36000,0)) -> 0 | F12: =IF(F9>=2,52000,IF(F9=1,36000,0)) -> 0 | G12: =IF(G9>=2,52000,IF(G9=1,36000,0)) -> 0 | H12: =IF(H9>=2,52000,IF(H9=1,36000,0)) -> 0 | I12: =IF(I9>=2,52000,IF(I9=1,36000,0)) -> 0 | J12: =IF(J9>=2,52000,IF(J9=1,36000,0)) -> 0 | K12: =IF(K9>=2,52000,IF(K9=1,36000,0)) -> 0 | ... O12: =IF(O9>=2,52000,IF(O9=1,36000,0)) -> 0
C13: 研修経費加算 | D13: =IF(AND(D9>=2,D10>=1,D11>=1),24000,IF(AND(D9>=2,OR(D10>=1,D11>=1)),12000,IF(AND(D9=1,OR(D10=1,D11=1)),12000,0))) -> 0 | E13: =IF(AND(E9>=2,E10>=1,E11>=1),24000,IF(AND(E9>=2,OR(E10>=1,E11>=1)),12000,IF(AND(E9=1,OR(E10=1,E11=1)),12000,0))) -> 0 | F13: =IF(AND(F9>=2,F10>=1,F11>=1),24000,IF(AND(F9>=2,OR(F10>=1,F11>=1)),12000,IF(AND(F9=1,OR(F10=1,F11=1)),12000,0))) -> 0 | G13: =IF(AND(G9>=2,G10>=1,G11>=1),24000,IF(AND(G9>=2,OR(G10>=1,G11>=1)),12000,IF(AND(G9=1,OR(G10=1,G11=1)),12000,0))) -> 0 | H13: =IF(AND(H9>=2,H10>=1,H11>=1),24000,IF(AND(H9>=2,OR(H10>=1,H11>=1)),12000,IF(AND(H9=1,OR(H10=1,H11=1)),12000,0))) -> 0 | I13: =IF(AND(I9>=2,I10>=1,I11>=1),24000,IF(AND(I9>=2,OR(I10>=1,I11>=1)),12000,IF(AND(I9=1,OR(I10=1,I11=1)),12000,0))) -> 0 | J13: =IF(AND(J9>=2,J10>=1,J11>=1),24000,IF(AND(J9>=2,OR(J10>=1,J11>=1)),12000,IF(AND(J9=1,OR(J10=1,J11=1)),12000,0))) -> 0 | K13: =IF(AND(K9>=2,K10>=1,K11>=1),24000,IF(AND(K9>=2,OR(K10>=1,K11>=1)),12000,IF(AND(K9=1,OR(K10=1,K11=1)),12000,0))) -> 0 | ... O13: =IF(AND(O9>=2,O10>=1,O11>=1),24000,IF(AND(O9>=2,OR(O10>=1,O11>=1)),12000,IF(AND(O9=1,OR(O10=1,O11=1)),12000,0))) -> 0
C14: 教育担当者経費 | D14: =ROUNDDOWN(IF(D9>70,70,D9)/5,0)*17000 -> 0 | E14: =ROUNDDOWN(IF(E9>70,70,E9)/5,0)*17000 -> 0 | F14: =ROUNDDOWN(IF(F9>70,70,F9)/5,0)*17000 -> 0 | G14: =ROUNDDOWN(IF(G9>70,70,G9)/5,0)*17000 -> 0 | H14: =ROUNDDOWN(IF(H9>70,70,H9)/5,0)*17000 -> 0 | I14: =ROUNDDOWN(IF(I9>70,70,I9)/5,0)*17000 -> 0 | J14: =ROUNDDOWN(IF(J9>70,70,J9)/5,0)*17000 -> 0 | K14: =ROUNDDOWN(IF(K9>70,70,K9)/5,0)*17000 -> 0 | ... O14: =ROUNDDOWN(IF(O9>70,70,O9)/5,0)*17000 -> 0
B16: ※令和８年度の該当月の末日時点で在職する新人職員の人数（見込み）を計上すること。
K20: 補助基準額 ※自動計算します
C21: 他病院から受入をする場合 | E21: （単位：時間） | K21: 補助基準額合計 | M21: =SUM(M22:M25) -> 0
C22: 他病院受入総研修時間数 | K22: ①研修経費 | M22: =SUM(D12:O12) -> 0
K23: ②研修経費加算 | M23: =SUM(D13:O13) -> 0
K24: ③教育担当者経費 | M24: =SUM(D14:O14) -> 0
K25: ④受入経費 | M25: =VLOOKUP(E22/40,計算用シート!G3:H33,2) -> 0 | N25: =VLOOKUP(I33/40,計算用シート!#REF!,2) -> #REF! | O25: =VLOOKUP(J33/40,計算用シート!#REF!,2) -> #REF!

Sheet （様式３）
B1: ※着色セルに入力してください
B2: 様式３ | H2: （新人看護職員研修事業）
G4: 医療機関名 | H4: =IF(入力シート!C10=""," ",入力シート!C10)
B6: 対 象 経 費 の 支 出 予 定 額 内 訳
B8: 区 分 | E8: 支出予定額 | F8: 積 算 内 訳
E9: 円
B10: （研修経費）
C11: 賃 金 | I11: （別紙４の報告人数）
C12: 研修責任者経費 | E12: =SUM(E13:E15) -> 0 | I12: 研修責任者 | J12: 専任 | K12: ='（様式４）'!Q12 -> 0
C13: （内訳） | D13: 謝金 | J13: 兼任 | K13: ='（様式４）'!R12 -> 0
D14: 人件費
D15: 手当
C16: 報償費
C17: 旅費
C18: 需用費 | E18: =SUM(E19:E22) -> 0
C19: （内訳） | D19: 消耗品費
D20: 印刷製本費
D21: 会議費
D22: 図書購入費
C23: 役務費 | E23: =SUM(E24:E25) -> 0
C24: (内訳) | D24: 通信運搬費
D25: 雑役務費
C26: 使用料及び賃借料
C27: 備品購入費 | I27: ※備品購入費は新人１名でも計上できます。
B28: 小計 | E28: =SUM(E11,E12,E16,E17,E18,E23,E26,E27) -> 0
B29: （教育担当者経費） | I29: ※教育担当者経費は新人５名以上の場合のみ計上できます。
C30: 教育担当者経費 | E30: =SUM(E31:E33) -> 0 | I30: （様式４の報告人数）
C31: （内訳） | D31: 謝金 | I31: 教育担当者 | J31: 専任 | K31: ='（様式４）'!S12 -> 0
D32: 人件費 | J32: 兼任 | K32: ='（様式４）'!T12 -> 0
D33: 手当
B34: 小計 | E34: =E30 -> 0
B35: （医療機関受入研修事業） | I35: ※医療機関受入研修事業経費は、受入研修を実施する施設のみ計上できます。
C36: 教育担当者経費 | E36: =SUM(E37:E39) -> 0 | I36: （様式４の報告人数）
C37: （内訳） | D37: 謝金 | I37: 教育担当者 | J37: 専任 | K37: ='（様式４）'!S12 -> 0
D38: 人件費 | J38: 兼任 | K38: ='（様式４）'!T12 -> 0
D39: 手当
C40: 需用費 | E40: =SUM(E41:E44) -> 0
C41: （内訳） | D41: 消耗品費
D42: 印刷製本費
D43: 会議費
...

Sheet 経費内訳（記入例）
B1: 様式３ | G1: （新人看護職員研修事業）
F3: 医療機関名 | G3: 山形○○病院
B5: 対 象 経 費 の 支 出 予 定 額 内 訳
B7: 区 分 | D7: 支出予定額 | E7: 積 算 内 訳
D8: 円
B9: （研修経費）
B10: 賃 金 | D10: 100000 | E10: 代替職員（△△ △△） ＠2,500円×40時間＝100,000円
B11: 研修責任者経費 | D11: =SUM(D12:D14) -> 360000
C12: 謝金
C13: 人件費 | D13: 360000 | E13: 看護部長（○○ ○○） ＠4,500円×80時間＝360,000円
C14: 手当
B15: 報償費 | D15: 40000 | E15: 外部講師（×× ××） ＠8,000円×5時間＝40,000円
B16: 旅費 | D16: 5000 | E16: 外部講師（×× ××） 旅費 5,000円
B17: 需用費 | D17: =SUM(D18:D21) -> 73000
C18: 消耗品費 | D18: 5000 | E18: 手袋、ガーゼ、注射器等
C19: 印刷製本費 | D19: 8000 | E19: テキスト代 8,000円
C20: 会議費 | D20: 60000 | E20: 会議室使用料 ＠2,000円×30時間＝60,000円
C21: 図書購入費
B22: 役務費 | D22: =SUM(D23:D24) -> 0
C23: 通信運搬費
C24: 雑役務費
B25: 使用料及び賃借料 | D25: 50000 | E25: シミュレーターレンタル ＠25,000円×2日＝50,000円
B26: 備品購入費 | D26: 80000 | E26: プロジェクター @80,000円
B27: 小計 | D27: =SUM(D10,D11,D15,D16,D17,D22,D25,D26) -> 708000
B28: （教育担当者経費）
B29: 教育担当者経費 | D29: =SUM(D30:D32) -> 560000
C30: 謝金 | H30: 複数の教育担当者を計上する場合、別途一覧表を作成し対応可
C31: 人件費 | D31: 560000 | E31: 看護師長（○× ○×） ＠3,500円×80時間＝280,000円
C32: 手当 | E32: 看護師長（○△ △×） ＠3,500円×80時間＝280,000円
B33: 小計 | D33: =D29 -> 560000
B34: （医療機関受入研修事業）
B35: 教育担当者経費 | D35: =SUM(D36:D38) -> 180000
C36: 謝金
C37: 人件費 | D37: 180000 | E37: 看護師長（△× ○△） ＠3,000円×60時間＝180,000円
C38: 手当
B39: 需用費 | D39: =SUM(D40:D43) -> 26000
C40: 消耗品費 | D40: 3000 | E40: 手袋、ガーゼ、注射器等
C41: 印刷製本費 | D41: 3000 | E41: テキスト代 3,000円
C42: 会議費 | D42: 20000 | E42: 会議室使用料 ＠2,000円×10時間＝20,000円
C43: 図書購入費
...

Sheet 対象経費

Sheet 対象経費内容
A1: 対 象 経 費 の 内 容 に つ い て
A3: （研 修 経 費）
A4: 区 分 | E4: 内 容 | F4: 備 考
B5: 賃金 | E5: 一部外部研修に参加した新人看護職員の代替職員にかかる賃金
B6: 研修責任者経費 | E6: 研修責任者が新人看護職員研修事業の業務（注1）にかかる謝金・人件費・手当 ※『専任』である場合、全ての人件費の計上が可能。 ※『兼任』である場合、本事業に従事する時間に時間単価を乗じて計上が可能。ただし、その他の業務にかかる人件費との棲み分けを説明ができるように整理しておく必要がある。 ※謝金とは、研修責任者の本事業の業務に係る対価が謝金として支給される場合を想定。 ※手当とは、研修責任者の本事業の業務に係る対価が時間外手当やその他特別手当などの方法により支給される場合を想定。 | F6: 【注1】 ・新人看護職員研修事業の業務として補助金上積算可能なのは、原則実際の研修に従事した時間としますが、研修の企画・立案に従事したと明確に証明できる場合は当該時間も計上可能です。 ・教育担当者・実地指導者の育成・研修等は、対象外となります。
C7: 謝金
C8: 人件費
C9: 手当
B10: 報償費 | E10: 新人看護職員の院内研修における外部講師や委員に対する謝金等の報償費
B11: 旅費 | E11: 新人看護職員の院内研修における外部講師や委員に対する旅費、新人看護職員が外部の研修に参加する場合の旅費等
B12: 需用費
C13: 消耗品費 | E13: 本事業に必要な消耗品費（研修に必要な衛生材料などの医療用消耗品や薬品類等の購入に係る経費も含む）
C14: 印刷製本費 | E14: 本事業に必要な印刷製本費（本事業に係る会議や院内研修などの資料や教材の印刷を業者に依頼した場合の経費等）
C15: 会議費 | E15: 本事業に係る会議の開催に必要な経費（外部講師や委員等のお茶・弁当代や速記に係る経費が想定されますが、病院職員のお茶代などは除く）
C16: 図書購入費 | E16: 本事業に必要な図書の購入費（本事業で使用する書籍やDVD教材の購入に係る経費等）
B17: 役務費
C18: 通信運搬費 | E18: 本事業に必要な郵便料、宅急便料金（例えば、郵便料として切手、葉書、小包、速達、書留等の料金が考えられます）
C19: 雑役務費 | E19: 本事業に係るその他役務費（例えば、新人看護職員が外部の研修に参加した場合の受講料などが考えられます）
B20: 使用料及び賃借料 | E20: 本事業に係る研修に用いる器材等のリース料や外部の会議室を使用する場合等の賃借に係る経費
B21: 備品購入費 | E21: 本事業で使用する器具機械その他備品等のうち、比較的長期の使用に耐えうる物品の購入に係る経費（例えば、シュミレーターやモデル人形の購入費等が考えられます）
A22: （教 育 担 当 者 経 費）
A23: 区 分 | E23: 内 容 | F23: 備 考
B24: 教育担当者経費 | E24: 教育担当者が新人看護職員研修事業の業務（注2）にかかる謝金・人件費・手当 ※『専任』である場合、全ての人件費の計上が可能。 ※『兼任』である場合、本事業に従事する時間に時間単価を乗じて計上が可能。ただし、その他の業務にかかる人件費との棲み分けを説明ができるように整理しておく必要がある。 ※謝金とは、教育担当者の本事業の業務に係る対価が謝金として支給される場合を想定。 ※手当とは、教育担当者の本事業の業務に係る対価が時間外手当やその他特別手当などの方法により支給される場合を想定。 | F24: 【注２】 ・新人看護職員研修事業の業務として補助金上積算可能なのは、原則実際の研修に従事した時間としますが、研修の企画・立案に従事したと明確に証明できる場合は当該時間も計上可能です。 ・教育担当者・実地指導者の育成・研修等は、対象外となります。
C25: 謝金
C26: 人件費
C27: 手当
A28: （医 療 機 関 受 入 研 修 事 業）
A29: 区 分 | E29: 内 容 | F29: 備 考
B30: 教育担当者経費 | E30: 教育担当者が新人看護職員研修事業の業務（注３）にかかる謝金・人件費・手当 ※『専任』である場合、全ての人件費の計上が可能。 ※『兼任』である場合、本事業に従事する時間に時間単価を乗じて計上が可能。ただし、その他の業務にかかる人件費との棲み分けを説明ができるように整理しておく必要がある。 ※謝金とは、教育担当者の本事業の業務に係る対価が謝金として支給される場合を想定。 ※手当とは、教育担当者の本事業の業務に係る対価が時間外手当やその他特別手当などの方法により支給される場合を想定。 | F30: 【注３】 ・医療機関受入研修を実施する場合、自施設の新人研修に係る教育担当者経費と受入研修に係る教育担当者経費を区別する事が困難な場合は、全ての教育担当者経費を自施設の新人研修に係る教育担当者経費に一括計上する事が可能です。 ・教育担当者・実地指導者の育成・研修等は、対象外となります。
C31: 謝金
C32: 人件費
C33: 手当
B34: 需用費
C35: 消耗品費 | E35: 本事業に必要な消耗品費（研修に必要な衛生材料などの医療用消耗品や薬品類等の購入に係る経費も含む）
C36: 印刷製本費 | E36: 本事業に必要な印刷製本費（本事業に係る会議や院内研修などの資料や教材の印刷を業者に依頼した場合の経費等）
C37: 会議費 | E37: 本事業に係る会議の開催に必要な経費（外部講師や委員等のお茶・弁当代や速記に係る経費が想定されますが、病院職員のお茶代などは除く）
C38: 図書購入費 | E38: 本事業に必要な図書の購入費（本事業で使用する書籍やDVD教材の購入に係る経費等）
B39: 役務費
C40: 通信運搬費 | E40: 本事業に必要な郵便料、宅急便料金（例えば、郵便料として切手、葉書、小包、速達、書留等の料金が考えられます）
C41: 雑役務費 | E41: 本事業に係るその他役務費（例えば、新人看護職員が外部の研修に参加した場合の受講料などが考えられます）
...

Sheet （様式４）
A1: ※着色セルに入力してください
A2: 様式４
A4: 新 人 看 護 職 員 研 修 事 業 計 画 書
AD6: 医療機関名 | AE6: =IF(入力シート!C10=""," ",入力シート!C10)
A8: 医療 法上の 許可 病床数 | B8: 看護 職員数 | C8: 新人 看護 職員数 | D8: 新人 保健 師数 | E8: うち 再掲 分 | F8: 新人 助産 師数 | G8: うち 再掲分 | H8: （全体） | K8: （新人） | N8: 過去の新人看護職員研修実施状況 | O8: 令和７年度事業への 申請の有無 | P8: 新人看護職員 を支える体制 | Q8: 研修における組織体制 | W8: 到達 目標 設定の 有無 | X8: 研修プログラムの 有無 | Y8: 医療機関受入研修事業 | AF8: 備考
H9: 看護 職員 離職率 | I9: 保健師 離職率 | J9: 助産師 離職率 | K9: 新人 看護 職員 離職率 | L9: 新人 保健師 離職率 | M9: 新人 助産師 離職率 | Q9: 研修責 任者数 | S9: 教育担 当者数 | U9: 実地指 導者数 | Y9: 受入予定人数 | AC9: 実施 月数 | AD9: 実施 日数 | AE9: 研修の公開 ・ 公募方法
Q10: 専任 | R10: 兼任 | S10: 専任 | T10: 兼任 | U10: 専任 | V10: 兼任 | Y10: 計 | Z10: 看護職 員研修 | AA10: 保健師 研修 | AB10: 助産師 研修
A11: 床 | B11: 人 | C11: 人 | D11: 人 | E11: 人 | F11: 人 | G11: 人 | H11: ％ | I11: ％ | J11: ％ | K11: ％ | L11: ％ | M11: ％ | Q11: 人 | R11: 人 | S11: 人 | T11: 人 | U11: 人 | V11: 人 | Y11: 人 | Z11: 人 | AA11: 人 | AB11: 人 | AC11: 月 | AD11: 日
Y12: =SUM(Z12:AB12) -> 0
A14: （注） | B14: １ 令和８年度の４月末日現在で作成すること（ただし、以下の注６及び注７については当該年度の前年度の数値を用いて算出すること）。
B15: ２ 「看護職員数」及び「新人看護職員数」とは、保健師・助産師・看護師・准看護師のいずれかの免許の有資格者数とし、二以上の免許を持つ者も一人として数える。
B16: ３ 「新人保健師数」には、主として保健師免許取得後に初めて保健師として就労する保健師のうち、新人保健師研修に参加する者の数を記載すること。
B17: ４ 「新人助産師数」には、主として助産師免許取得後に初めて助産師として就労する助産師のうち、新人助産師研修に参加する者の数を記載すること。
B18: ５ 「うち再掲分」には、「新人保健師数」又は「新人助産師数」のうち「新人看護職員数」にも計上した者の数を記載すること。
B19: ６ 「看護職員（保健師・助産師）離職率」の算出にあたっては次式による。なお、各数値は令和７年度の数値を使用すること。
B20: 看護職員（保健師・助産師）離職率＝看護職員（保健師・助産師）退職者数／平均看護職員（保健師・助産師）数×１００ （小数第２位を四捨五入）
C21: ※看護職員（保健師・助産師）退職者数＝令和７年４月１日～令和８年３月３１日までの間に退職した看護職員（保健師、助産師）の数
C22: ※平均看護職員（保健師・助産師）数＝（年度当初の在籍看護職員（保健師・助産師）数＋年度末の在籍看護職員（保健師・助産師）数）／２
B23: ７ 「新人看護職員（新人保健師・新人助産師）離職率」の算出にあたっては次式による。なお、各数値は令和７年度の数値（実績）を使用すること。
B24: 新人看護職員（新人保健師・新人助産師）離職率＝新人看護職員（新人保健師・新人助産師）退職者数／新人看護職員（新人保健師・新人助産師）採用者数×１００ （小数第２位を四捨五入）
C25: ※新人看護職員（新人保健師・新人助産師）退職者数＝令和７年４月１日～令和８年３月３１日の間に退職した新人看護職員（新人保健師・新人助産師）の数
C26: ※新人看護職員（新人保健師・新人助産師）在職者数＝令和７年４月１日～令和８年３月３１日の間に採用した新人看護職員（新人保健師・新人助産師）の数
B27: ８ 「過去の新人看護職員研修の実施状況」は、令和７年度以前に新人看護職員研修ガイドラインに沿った研修を実施していた場合に開始年度を下記から選び番号で記載すること。
B28: （なお、平成２２年度以前はガイドラインと同程度の研修を実施していた場合に記載すること）
B29: ①平成２２年度以前 ②平成２３年度 ③平成２４年度 ④平成２５年度 ⑤平成２６年度 ⑥平成２７年度 ⑦平成２８年度 ⑧平成２９年度 ⑨平成30年度 ⑩令和元年度 ⑪令和２年度 ⑫令和３年度 ⑬令和４年度
B30: ⑭令和５年度 ⑮令和６年度 ⑯令和７年度
B31: ９ 「新人看護職員を支える体制」及び「研修の公開・公募方法」は、リストから最もよく当てはまるものを選択し、「その他」を選択した場合は備考欄に内容を記載すること。
B32: １０ 「研修責任者数」、「教育担当者数」及び「実地指導者数」は、兼任の場合は、兼務している役割のそれぞれで「兼任」欄の人数に含めること。
B33: １１ 「受入予定人数」は、自施設の研修に、他の病院等から受け入れる予定の新人数とし、実人数とする。
B34: １２ 受入研修に係る「実施月数」は複数月（“２”以上）となるように記載し、「実施日数」は、医療機関受入研修事業の年間実施予定日数を記載する。
AG38: 新人看護職員を支える体制 | AH38: 研修の公開・公募方法
B39: プリセプターシップ | C39: 有 | E39: ① | H39: ＨＰ上での公募 | AG39: プリセプターシップ | AH39: ＨＰ上での公募
B40: チューターシップ | C40: 無 | E40: ② | H40: 機関誌等での公募 | AG40: チューターシップ | AH40: 機関誌等での公募
B41: メンターシップ | E41: ③ | H41: 地方自治体を通じての広報等 | AG41: メンターシップ | AH41: 地方自治体を通じての広報等
B42: チーム支援型 | E42: ④ | H42: 関係団体等を通じての広報等 | AG42: チーム支援型 | AH42: 関係団体等を通じての広報等
B43: 相談窓口 | E43: ⑤ | H43: 地域の会議等での広報等 | AG43: 相談窓口 | AH43: 地域の会議等での広報等
B44: その他 | E44: ⑥ | H44: その他 | AG44: その他 | AH44: その他
E45: ⑦
E46: ⑧
E47: ⑨
...

Sheet (様式５)研修内容計画書
A1: 様式５
A2: 研 修 内 容 計 画 書
AA4: =IF([1]入力シート!C10=""," ",[1]入力シート!C10)
A6: (新人看護職員研修)
A7: 研修実施日 | F7: 実施 時間 | H7: 主な研修内容 | I7: 新人 参加 者数 | K7: 備考 | L7: 業務従事時間数
J8: うち他施設 受入人数 | L8: 研修責任者 | N8: 教育担当者
I10: （人） | J10: （人） | L10: 研修 | M10: 企画 | N10: 研修 | O10: 企画 | P10: 研修 | Q10: 企画 | R10: 研修 | S10: 企画 | T10: 研修 | U10: 企画 | V10: 研修 | W10: 企画 | X10: 研修 | Y10: 企画 | Z10: 研修 | AA10: 企画 | AB10: 研修 | AC10: 企画 | AD10: 研修 | AE10: 企画 | AF10: 研修 | AG10: 企画
C11: 月 | E11: 日 | G11: 時間
C13: 月 | E13: 日 | G13: 時間
C15: 月 | E15: 日 | G15: 時間
C17: 月 | E17: 日 | G17: 時間
C19: 月 | E19: 日 | G19: 時間
C21: 月 | E21: 日 | G21: 時間
C23: 月 | E23: 日 | G23: 時間
C25: 月 | E25: 日 | G25: 時間
C27: 月 | E27: 日 | G27: 時間
C29: 月 | E29: 日 | G29: 時間
C31: 月 | E31: 日 | G31: 時間
C33: 月 | E33: 日 | G33: 時間
... C43: 月 | E43: 日 | G43: 時間
A45: （注） １ 実績報告書提出時は研修報告書等を別途添付すること。
A46: ２ 適宜行を追加し報告すること。
A47: ３ 業務従事時間数の欄は、上段に時間外を含めた総時間数を、下段に総時間数のうち時間外をそれぞれ記入すること。
A48: ４ 業務従事時間に小数点第３位以下の端数が生じる場合は、これを四捨五入して記入すること。
J51: 合計 （うち時間外） | L51: =SUM(L11:M11,L13:M13,L15:M15,L17:M17,L19:M19,L21:M21,L23:M23,L25:M25,L27:M27,L29:M29,L31:M31,L33:M33,L35:M35,L37:M37,L39:M39,L41:M41,L43:M43) -> 0 | N51: =SUM(N11:O11,N13:O13,N15:O15,N17:O17,N19:O19,N21:O21,N23:O23,N25:O25,N27:O27,N29:O29,N31:O31,N33:O33,N35:O35,N37:O37,N39:O39,N41:O41,N43:O43) -> 0 | P51: =SUM(P11:Q11,P13:Q13,P15:Q15,P17:Q17,P19:Q19,P21:Q21,P23:Q23,P25:Q25,P27:Q27,P29:Q29,P31:Q31,P33:Q33,P35:Q35,P37:Q37,P39:Q39,P41:Q41,P43:Q43) -> 0 | R51: =SUM(R11:S11,R13:S13,R15:S15,R17:S17,R19:S19,R21:S21,R23:S23,R25:S25,R27:S27,R29:S29,R31:S31,R33:S33,R35:S35,R37:S37,R39:S39,R41:S41,R43:S43) -> 0 | T51: =SUM(T11:U11,T13:U13,T15:U15,T17:U17,T19:U19,T21:U21,T23:U23,T25:U25,T27:U27,T29:U29,T31:U31,T33:U33,T35:U35,T37:U37,T39:U39,T41:U41,T43:U43) -> 0 | V51: =SUM(V11:W11,V13:W13,V15:W15,V17:W17,V19:W19,V21:W21,V23:W23,V25:W25,V27:W27,V29:W29,V31:W31,V33:W33,V35:W35,V37:W37,V39:W39,V41:W41,V43:W43) -> 0 | X51: =SUM(X11:Y11,X13:Y13,X15:Y15,X17:Y17,X19:Y19,X21:Y21,X23:Y23,X25:Y25,X27:Y27,X29:Y29,X31:Y31,X33:Y33,X35:Y35,X37:Y37,X39:Y39,X41:Y41,X43:Y43) -> 0 | Z51: =SUM(Z11:AA11,Z13:AA13,Z15:AA15,Z17:AA17,Z19:AA19,Z21:AA21,Z23:AA23,Z25:AA25,Z27:AA27,Z29:AA29,Z31:AA31,Z33:AA33,Z35:AA35,Z37:AA37,Z39:AA39,Z41:AA41,Z43:AA43) -> 0 | AB51: =SUM(AB11:AC11,AB13:AC13,AB15:AC15,AB17:AC17,AB19:AC19,AB21:AC21,AB23:AC23,AB25:AC25,AB27:AC27,AB29:AC29,AB31:AC31,AB33:AC33,AB35:AC35,AB37:AC37,AB39:AC39,AB41:AC41,AB43:AC43) -> 0 | AD51: =SUM(AD11:AE11,AD13:AE13,AD15:AE15,AD17:AE17,AD19:AE19,AD21:AE21,AD23:AE23,AD25:AE25,AD27:AE27,AD29:AE29,AD31:AE31,AD33:AE33,AD35:AE35,AD37:AE37,AD39:AE39,AD41:AE41,AD43:AE43) -> 0 | AF51: =SUM(AF11:AG11,AF13:AG13,AF15:AG15,AF17:AG17,AF19:AG19,AF21:AG21,AF23:AG23,AF25:AG25,AF27:AG27,AF29:AG29,AF31:AG31,AF33:AG33,AF35:AG35,AF37:AG37,AF39:AG39,AF41:AG41,AF43:AG43) -> 0
L52: =SUM(L12:M12,L14:M14,L16:M16,L18:M18,L20:M20,L22:M22,L24:M24,L26:M26,L28:M28,L30:M30,L32:M32,L34:M34,L36:M36,L38:M38,L40:M40,L42:M42,L44:M44) -> 0 | N52: =SUM(N12:O12,N14:O14,N16:O16,N18:O18,N20:O20,N22:O22,N24:O24,N26:O26,N28:O28,N30:O30,N32:O32,N34:O34,N36:O36,N38:O38,N40:O40,N42:O42,N44:O44) -> 0 | P52: =SUM(P12:Q12,P14:Q14,P16:Q16,P18:Q18,P20:Q20,P22:Q22,P24:Q24,P26:Q26,P28:Q28,P30:Q30,P32:Q32,P34:Q34,P36:Q36,P38:Q38,P40:Q40,P42:Q42,P44:Q44) -> 0 | R52: =SUM(R12:S12,R14:S14,R16:S16,R18:S18,R20:S20,R22:S22,R24:S24,R26:S26,R28:S28,R30:S30,R32:S32,R34:S34,R36:S36,R38:S38,R40:S40,R42:S42,R44:S44) -> 0 | T52: =SUM(T12:U12,T14:U14,T16:U16,T18:U18,T20:U20,T22:U22,T24:U24,T26:U26,T28:U28,T30:U30,T32:U32,T34:U34,T36:U36,T38:U38,T40:U40,T42:U42,T44:U44) -> 0 | V52: =SUM(V12:W12,V14:W14,V16:W16,V18:W18,V20:W20,V22:W22,V24:W24,V26:W26,V28:W28,V30:W30,V32:W32,V34:W34,V36:W36,V38:W38,V40:W40,V42:W42,V44:W44) -> 0 | X52: =SUM(X12:Y12,X14:Y14,X16:Y16,X18:Y18,X20:Y20,X22:Y22,X24:Y24,X26:Y26,X28:Y28,X30:Y30,X32:Y32,X34:Y34,X36:Y36,X38:Y38,X40:Y40,X42:Y42,X44:Y44) -> 0 | Z52: =SUM(Z12:AA12,Z14:AA14,Z16:AA16,Z18:AA18,Z20:AA20,Z22:AA22,Z24:AA24,Z26:AA26,Z28:AA28,Z30:AA30,Z32:AA32,Z34:AA34,Z36:AA36,Z38:AA38,Z40:AA40,Z42:AA42,Z44:AA44) -> 0 | AB52: =SUM(AB12:AC12,AB14:AC14,AB16:AC16,AB18:AC18,AB20:AC20,AB22:AC22,AB24:AC24,AB26:AC26,AB28:AC28,AB30:AC30,AB32:AC32,AB34:AC34,AB36:AC36,AB38:AC38,AB40:AC40,AB42:AC42,AB44:AC44) -> 0 | AD52: =SUM(AD12:AE12,AD14:AE14,AD16:AE16,AD18:AE18,AD20:AE20,AD22:AE22,AD24:AE24,AD26:AE26,AD28:AE28,AD30:AE30,AD32:AE32,AD34:AE34,AD36:AE36,AD38:AE38,AD40:AE40,AD42:AE42,AD44:AE44) -> 0 | AF52: =SUM(AF12:AG12,AF14:AG14,AF16:AG16,AF18:AG18,AF20:AG20,AF22:AG22,AF24:AG24,AF26:AG26,AF28:AG28,AF30:AG30,AF32:AG32,AF34:AG34,AF36:AG36,AF38:AG38,AF40:AG40,AF42:AG42,AF44:AG44) -> 0
K53: 時間内 | L53: =L51-L52 -> 0 | N53: =N51-N52 -> 0 | P53: =P51-P52 -> 0 | R53: =R51-R52 -> 0 | T53: =T51-T52 -> 0 | V53: =V51-V52 -> 0 | X53: =X51-X52 -> 0 | Z53: =Z51-Z52 -> 0 | AB53: =AB51-AB52 -> 0 | AD53: =AD51-AD52 -> 0 | AF53: =AF51-AF52 -> 0

Sheet （様式５）研修内容計画書（記入例）
A1: 様式５
A2: 研 修 内 容 計 画 書
AA4: =IF([1]入力シート!C10=""," ",[1]入力シート!C10)
A6: (新人看護職員研修)
A7: 研修実施日 | F7: 実施 時間 | H7: 主な研修内容 | I7: 新人 参加 者数 | K7: 備考 | L7: 業務従事時間数
J8: うち他施設 受入人数 | L8: 研修責任者 | N8: 教育担当者
L9: ◆◆ ◆◆ | N9: ◎◎ ◎◎ | P9: △△ △△
I10: （人） | J10: （人） | L10: 研修 | M10: 企画 | N10: 研修 | O10: 企画 | P10: 研修 | Q10: 企画 | R10: 研修 | S10: 企画 | T10: 研修 | U10: 企画 | V10: 研修 | W10: 企画 | X10: 研修 | Y10: 企画 | Z10: 研修 | AA10: 企画 | AB10: 研修 | AC10: 企画 | AD10: 研修 | AE10: 企画 | AF10: 研修 | AG10: 企画
B11: 4 | C11: 月 | D11: 3 | E11: 日 | F11: 3 | G11: 時間 | H11: ・病院の理念、基本方針 ・看護部の理念、基本方針、看護部がめざす看護師像 | I11: 7 | L11: 3 | N11: 3
B13: 4 | C13: 月 | D13: 5 | E13: 日 | F13: 0.75 | G13: 時間 | H13: ・看護必要度の概要 ・看護必要度の評価の特徴、チェック方法 | I13: 6 | L13: 0.75 | P13: 0.75
L14: 0.25 | P14: 0.25
C15: 月 | E15: 日 | G15: 時間
C17: 月 | E17: 日 | G17: 時間
C19: 月 | E19: 日 | G19: 時間
C21: 月 | E21: 日 | G21: 時間
C23: 月 | E23: 日 | G23: 時間
C25: 月 | E25: 日 | G25: 時間
C27: 月 | E27: 日 | G27: 時間
C29: 月 | E29: 日 | G29: 時間
C31: 月 | E31: 日 | G31: 時間
C33: 月 | E33: 日 | G33: 時間
C35: 月 | E35: 日 | G35: 時間
C37: 月 | E37: 日 | G37: 時間
... C43: 月 | E43: 日 | G43: 時間
A45: （注） １ 実績報告書提出時は研修報告書等を別途添付すること。
A46: ２ 適宜行を追加し報告すること。
A47: ３ 業務従事時間数の欄は、上段に時間外を含めた総時間数を、下段に総時間数のうち時間外をそれぞれ記入すること。
A48: ４ 業務従事時間に小数点第３位以下の端数が生じる場合は、これを四捨五入して記入すること。
J51: 合計 （うち時間外） | L51: =SUM(L11:M11,L13:M13,L15:M15,L17:M17,L19:M19,L21:M21,L23:M23,L25:M25,L27:M27,L29:M29,L31:M31,L33:M33,L35:M35,L37:M37,L39:M39,L41:M41,L43:M43) -> 3.75 | N51: =SUM(N11:O11,N13:O13,N15:O15,N17:O17,N19:O19,N21:O21,N23:O23,N25:O25,N27:O27,N29:O29,N31:O31,N33:O33,N35:O35,N37:O37,N39:O39,N41:O41,N43:O43) -> 3 | P51: =SUM(P11:Q11,P13:Q13,P15:Q15,P17:Q17,P19:Q19,P21:Q21,P23:Q23,P25:Q25,P27:Q27,P29:Q29,P31:Q31,P33:Q33,P35:Q35,P37:Q37,P39:Q39,P41:Q41,P43:Q43) -> 0.75 | R51: =SUM(R11:S11,R13:S13,R15:S15,R17:S17,R19:S19,R21:S21,R23:S23,R25:S25,R27:S27,R29:S29,R31:S31,R33:S33,R35:S35,R37:S37,R39:S39,R41:S41,R43:S43) -> 0 | T51: =SUM(T11:U11,T13:U13,T15:U15,T17:U17,T19:U19,T21:U21,T23:U23,T25:U25,T27:U27,T29:U29,T31:U31,T33:U33,T35:U35,T37:U37,T39:U39,T41:U41,T43:U43) -> 0 | V51: =SUM(V11:W11,V13:W13,V15:W15,V17:W17,V19:W19,V21:W21,V23:W23,V25:W25,V27:W27,V29:W29,V31:W31,V33:W33,V35:W35,V37:W37,V39:W39,V41:W41,V43:W43) -> 0 | X51: =SUM(X11:Y11,X13:Y13,X15:Y15,X17:Y17,X19:Y19,X21:Y21,X23:Y23,X25:Y25,X27:Y27,X29:Y29,X31:Y31,X33:Y33,X35:Y35,X37:Y37,X39:Y39,X41:Y41,X43:Y43) -> 0 | Z51: =SUM(Z11:AA11,Z13:AA13,Z15:AA15,Z17:AA17,Z19:AA19,Z21:AA21,Z23:AA23,Z25:AA25,Z27:AA27,Z29:AA29,Z31:AA31,Z33:AA33,Z35:AA35,Z37:AA37,Z39:AA39,Z41:AA41,Z43:AA43) -> 0 | AB51: =SUM(AB11:AC11,AB13:AC13,AB15:AC15,AB17:AC17,AB19:AC19,AB21:AC21,AB23:AC23,AB25:AC25,AB27:AC27,AB29:AC29,AB31:AC31,AB33:AC33,AB35:AC35,AB37:AC37,AB39:AC39,AB41:AC41,AB43:AC43) -> 0 | AD51: =SUM(AD11:AE11,AD13:AE13,AD15:AE15,AD17:AE17,AD19:AE19,AD21:AE21,AD23:AE23,AD25:AE25,AD27:AE27,AD29:AE29,AD31:AE31,AD33:AE33,AD35:AE35,AD37:AE37,AD39:AE39,AD41:AE41,AD43:AE43) -> 0 | AF51: =SUM(AF11:AG11,AF13:AG13,AF15:AG15,AF17:AG17,AF19:AG19,AF21:AG21,AF23:AG23,AF25:AG25,AF27:AG27,AF29:AG29,AF31:AG31,AF33:AG33,AF35:AG35,AF37:AG37,AF39:AG39,AF41:AG41,AF43:AG43) -> 0
L52: =SUM(L12:M12,L14:M14,L16:M16,L18:M18,L20:M20,L22:M22,L24:M24,L26:M26,L28:M28,L30:M30,L32:M32,L34:M34,L36:M36,L38:M38,L40:M40,L42:M42,L44:M44) -> 0.25 | N52: =SUM(N12:O12,N14:O14,N16:O16,N18:O18,N20:O20,N22:O22,N24:O24,N26:O26,N28:O28,N30:O30,N32:O32,N34:O34,N36:O36,N38:O38,N40:O40,N42:O42,N44:O44) -> 0 | P52: =SUM(P12:Q12,P14:Q14,P16:Q16,P18:Q18,P20:Q20,P22:Q22,P24:Q24,P26:Q26,P28:Q28,P30:Q30,P32:Q32,P34:Q34,P36:Q36,P38:Q38,P40:Q40,P42:Q42,P44:Q44) -> 0.25 | R52: =SUM(R12:S12,R14:S14,R16:S16,R18:S18,R20:S20,R22:S22,R24:S24,R26:S26,R28:S28,R30:S30,R32:S32,R34:S34,R36:S36,R38:S38,R40:S40,R42:S42,R44:S44) -> 0 | T52: =SUM(T12:U12,T14:U14,T16:U16,T18:U18,T20:U20,T22:U22,T24:U24,T26:U26,T28:U28,T30:U30,T32:U32,T34:U34,T36:U36,T38:U38,T40:U40,T42:U42,T44:U44) -> 0 | V52: =SUM(V12:W12,V14:W14,V16:W16,V18:W18,V20:W20,V22:W22,V24:W24,V26:W26,V28:W28,V30:W30,V32:W32,V34:W34,V36:W36,V38:W38,V40:W40,V42:W42,V44:W44) -> 0 | X52: =SUM(X12:Y12,X14:Y14,X16:Y16,X18:Y18,X20:Y20,X22:Y22,X24:Y24,X26:Y26,X28:Y28,X30:Y30,X32:Y32,X34:Y34,X36:Y36,X38:Y38,X40:Y40,X42:Y42,X44:Y44) -> 0 | Z52: =SUM(Z12:AA12,Z14:AA14,Z16:AA16,Z18:AA18,Z20:AA20,Z22:AA22,Z24:AA24,Z26:AA26,Z28:AA28,Z30:AA30,Z32:AA32,Z34:AA34,Z36:AA36,Z38:AA38,Z40:AA40,Z42:AA42,Z44:AA44) -> 0 | AB52: =SUM(AB12:AC12,AB14:AC14,AB16:AC16,AB18:AC18,AB20:AC20,AB22:AC22,AB24:AC24,AB26:AC26,AB28:AC28,AB30:AC30,AB32:AC32,AB34:AC34,AB36:AC36,AB38:AC38,AB40:AC40,AB42:AC42,AB44:AC44) -> 0 | AD52: =SUM(AD12:AE12,AD14:AE14,AD16:AE16,AD18:AE18,AD20:AE20,AD22:AE22,AD24:AE24,AD26:AE26,AD28:AE28,AD30:AE30,AD32:AE32,AD34:AE34,AD36:AE36,AD38:AE38,AD40:AE40,AD42:AE42,AD44:AE44) -> 0 | AF52: =SUM(AF12:AG12,AF14:AG14,AF16:AG16,AF18:AG18,AF20:AG20,AF22:AG22,AF24:AG24,AF26:AG26,AF28:AG28,AF30:AG30,AF32:AG32,AF34:AG34,AF36:AG36,AF38:AG38,AF40:AG40,AF42:AG42,AF44:AG44) -> 0
K53: 時間内 | L53: =L51-L52 -> 3.5 | N53: =N51-N52 -> 3 | P53: =P51-P52 -> 0.5 | R53: =R51-R52 -> 0 | T53: =T51-T52 -> 0 | V53: =V51-V52 -> 0 | X53: =X51-X52 -> 0 | Z53: =Z51-Z52 -> 0 | AB53: =AB51-AB52 -> 0 | AD53: =AD51-AD52 -> 0 | AF53: =AF51-AF52 -> 0

Sheet (様式６)時間単価算出表
A1: 様式６ 時間単価算出表
A3: （１） 研修責任者
B4: 氏名 | C4: 役職 | D4: 時間単価 | F4: 算出内訳
A5: 1 | D5: ＠
A7: 2 | D7: ＠
A10: （２） 教育担当者
B11: 氏名 | C11: 役職 | D11: 時間単価 | F11: 算出内訳
A12: 1 | D12: ＠
A14: 2 | D14: ＠
A16: 3 | D16: ＠
A18: 4 | D18: ＠
A20: 5 | D20: ＠
A22: 6 | D22: ＠
A24: 7 | D24: ＠
A26: 8 | D26: ＠
A28: 9 | D28: ＠
A30: 10 | D30: ＠
A34: （３） 時間単価算出に係る考え方

Sheet (様式６)時間単価算出表（記入例）
A1: 時間単価算出表
A3: （１） 研修責任者
B4: 氏名 | C4: 役職 | D4: 時間単価 | F4: 算出内訳
A5: 1 | B5: ◆◆ ◆◆ | C5: 看護部長 | D5: ＠ | E5: 2891 | F5: （400,000＋50,000）×12÷（38.75×52-7.75×19）
A7: 2 | D7: ＠
A10: （２） 教育担当者
B11: 氏名 | C11: 役職 | D11: 時間単価 | F11: 算出内訳
A12: 1 | B12: ◎◎ ◎◎ | C12: 看護師長 | D12: ＠ | E12: 1927 | F12: （300,000×12）÷（38.75×52-7.75×19）
A14: 2 | B14: ▲▲ ▲▲ | C14: 看護師長 | D14: ＠ | E14: 1927 | F14: （300,000×12）÷（38.75×52-7.75×19）
A16: 3 | D16: ＠
A18: 4 | D18: ＠
A20: 5 | D20: ＠
A22: 6 | D22: ＠
A24: 7 | D24: ＠
A26: 8 | D26: ＠
A28: 9 | D28: ＠
A30: 10 | D30: ＠
A34: （３） 時間単価算出に係る考え方
A35: ①【役職手当あり】※管理職等 ・（給与月額＋役職手当）×12÷（１週間当たりの勤務時間数×52-7.75×19） ②【役職手当なし】 ・（給与月額×12）÷（１週間当たりの勤務時間数×52-7.75×19） など ※割増賃金を算定する際の基礎となる時間単価の算出方法など、各病院ごと就業規則等で規定されている算出方法を記載すること。

Sheet 計算用シート
A2: 研修経費 | D2: 教育担当者経費 | G2: 受入経費
A3: 0 | B3: 0 | D3: 0 | E3: 0 | G3: 0 | H3: 0
A4: 1 | B4: 440000 | D4: 1 | E4: 215000 | G4: 1 | H4: 113000
A5: 2 | B5: 630000 | D5: 2 | E5: 430000 | G5: 2 | H5: 113000
A6: 3 | B6: 630000 | D6: 3 | E6: 645000 | G6: 3 | H6: 113000
A7: 4 | B7: 630000 | D7: 4 | E7: 860000 | G7: 4 | H7: 113000
A8: 5 | B8: 630000 | D8: 5 | E8: 1075000 | G8: 5 | H8: 226000
A9: 6 | B9: 630000 | D9: 6 | E9: 1290000 | G9: 6 | H9: 226000
A10: 7 | B10: 630000 | D10: 7 | E10: 1505000 | G10: 7 | H10: 226000
A11: 8 | B11: 630000 | D11: 8 | E11: 1720000 | G11: 8 | H11: 226000
A12: 9 | B12: 630000 | D12: 9 | E12: 1935000 | G12: 9 | H12: 226000
A13: 10 | B13: 630000 | D13: 10 | E13: 2150000 | G13: 10 | H13: 566000
A14: 11 | B14: 630000 | D14: 11 | E14: 2365000 | G14: 11 | H14: 566000
... A17: 14 | B17: 630000 | D17: 14 | E17: 3010000 | G17: 14 | H17: 566000
A18: 15 | B18: 630000 | G18: 15 | H18: 849000
A19: 16 | B19: 630000 | G19: 16 | H19: 849000
A20: 17 | B20: 630000 | G20: 17 | H20: 849000
A21: 18 | B21: 630000 | G21: 18 | H21: 849000
A22: 19 | B22: 630000 | G22: 19 | H22: 849000
A23: 20 | B23: 630000 | G23: 20 | H23: 1132000
A24: 21 | B24: 630000 | G24: 21 | H24: 1177000
A25: 22 | B25: 630000 | G25: 22 | H25: 1222000
A26: 23 | B26: 630000 | G26: 23 | H26: 1267000
A27: 24 | B27: 630000 | G27: 24 | H27: 1312000
A28: 25 | B28: 630000 | G28: 25 | H28: 1357000
A29: 26 | B29: 630000 | G29: 26 | H29: 1402000
... A33: 30 | B33: 630000 | G33: 30 | H33: 1582000
A34: 31 | B34: 630000
A35: 32 | B35: 630000
A36: 33 | B36: 630000
A37: 34 | B37: 630000
A38: 35 | B38: 630000
A39: 36 | B39: 630000
A40: 37 | B40: 630000
A41: 38 | B41: 630000
A42: 39 | B42: 630000
A43: 40 | B43: 630000
A44: 41 | B44: 630000
A45: 42 | B45: 630000
... A73: 70 | B73: 630000

Sheet 貼付用
A2: 所要額集計表
A4: 別紙４－（５）
A5: ↓このデータを集計表に貼付ること
H6: 基準額
A7: 施 設 区 分 | B7: 病院等名 | C7: 設置 主体 | D7: 総事業費 | E7: 寄付金 その他の 収入額 | F7: 差引額 | G7: 対象経費 の支出 予定額 | H7: 新人 看護 職員 等数 | I7: 研修経費 の分 | J7: 教育担当者 経費の分 | K7: 医療機関受入 研修事業の分 | N7: 計 | O7: 選定額 | P7: 選定額 | Q7: 都道府県 補助支出 予定額 | R7: 国庫補助 基本額 | S7: 国庫補助 所要額 | T7: 備考
I8: 金額 | J8: 金額 | K8: 総時間数 | L8: 受入予定数 | M8: 金額
D9: Ａ | E9: Ｂ | F9: (Ａ－Ｂ)Ｃ | G9: Ｄ | N9: Ｅ | O9: Ｆ | P9: Ｇ | Q9: Ｈ | R9: Ｉ | S9: Ｊ
A10: 病院 | B10: =#REF! -> #REF! | C10: =#REF! -> #REF! | D10: ='（様式１）'!A11 -> 0 | E10: ='（様式１）'!B11 -> 0 | F10: ='（様式１）'!C11 -> 0 | G10: ='（様式１）'!D11 -> 0 | H10: =#REF! -> #REF! | I10: ='（様式１）'!E11 -> 0 | J10: ='（様式１）'!F11 -> 0 | K10: =#REF! -> #REF! | L10: ='（様式１）'!H11 -> 0 | M10: ='（様式１）'!I11 -> 0 | N10: ='（様式１）'!J11 -> 0 | O10: =MIN(G10,N10) -> 0 | P10: =MIN(F10,O10) -> 0 | Q10: ='（様式１）'!L11 -> 0 | R10: =Q10 -> 0 | S10: =R10 -> 0
A12: 別紙４－（７）④
A13: ↓このデータを集計表に貼付ること
A14: 施設区分 | B14: 病院等名称 | C14: 設置 主体 | D14: 医療法上の許可病床総数 | E14: 看護 職員数 | F14: 新人 看護 職員数 | G14: 新人保 健師数 | H14: うち 再掲分 | I14: 新人助産師数 | J14: うち 再掲分 | K14: 看護 職員 離職率 | L14: 新人 看護 職員 離職率 | M14: 過去の新人看護職員研修の実施状況 | N14: 平成22年度事業への 申請の有無 | O14: 新人看護職員を支える体制 | P14: 研修における組織体制 | V14: 到達目標の設定の有無 | W14: 研修プログラムの有無 | X14: 医療機関受入研修事業 | AE14: 備考
P15: 研修 責任者数 | R15: 教育 担当者数 | T15: 実地 指導者数 | X15: 受入 予定 人数 | AB15: 実施 月数 | AC15: 実施日数 | AD15: 研修の公開 ・公募方法
P16: 専任 | Q16: 兼任 | R16: 専任 | S16: 兼任 | T16: 専任 | U16: 兼任 | X16: 計 | Y16: 新人看護職員研修 | Z16: 新人 保健師 研修 | AA16: 新人 助産師 研修
A17: 病院 | B17: =B10 -> #REF! | C17: =C10 -> #REF! | D17: ='（様式４）'!A12 -> 0 | E17: ='（様式４）'!B12 -> 0 | F17: ='（様式４）'!C12 -> 0 | G17: ='（様式４）'!D12 -> 0 | H17: ='（様式４）'!E12 -> 0 | I17: ='（様式４）'!F12 -> 0 | J17: ='（様式４）'!G12 -> 0 | K17: ='（様式４）'!H12 -> 0 | L17: ='（様式４）'!K12 -> 0 | M17: ='（様式４）'!N12 -> 0 | N17: ='（様式４）'!O12 -> 0 | O17: ='（様式４）'!P12 -> 0 | P17: ='（様式４）'!Q12 -> 0 | Q17: ='（様式４）'!R12 -> 0 | R17: ='（様式４）'!S12 -> 0 | S17: ='（様式４）'!T12 -> 0 | T17: ='（様式４）'!U12 -> 0 | ... AD17: ='（様式４）'!AE12 -> 0 | AE17: =IF('（様式４）'!AF12=""," ",'（様式４）'!AF12)
A19: 病院名、所在地、担当者名等
A20: =B10 -> #REF! | B20: =#REF! -> #REF! | C20: =#REF! -> #REF! | D20: =#REF! -> #REF! | E20: =#REF! -> #REF! | F20: =#REF! -> #REF! | G20: =#REF! -> #REF! | H20: =#REF! -> #REF!
A22: 銀行名等
A23: =#REF! -> #REF! | B23: =#REF! -> #REF! | C23: =#REF! -> #REF! | D23: =#REF! -> #REF! | E23: =#REF! -> #REF!
