Workbook
Name 該当なし: #REF!
Name 該当なし: #REF!

Sheet 初めにお読みください
A2: 競争入札参加資格審査申請に係る様式集
A3: (建設工事、復旧・復興ＪＶ)
B6: 0 | C6: 基礎データ入力シート…記載例あり【最初に記入をお願いします】
B7: 1 | C7: 自己チェックシート兼受理票(復旧・復興ＪＶ)
B8: 2 | C8: 競争入札参加資格審査申請書(復旧・復興ＪＶ)…記載例あり
B9: 2-2 | C9: 委任状（代理申請用）…記載例あり
B10: 3 | C10: 申請に係る誓約書
B11: 4 | C11: 付表９ 復旧・復興共同企業体入力票…記載例あり
B12: 5 | C12: 競争入札参加資格変更届(変更事由別の添付書類は下表のとおり)…記載例あり
C14: 変更事由 | E14: 添付書類
E15: 県内業者 | F15: 県外業者
C16: ＪＶの名称 | E16: 共同企業体協定書（写）
C17: 代表の変更 | E17: 共同企業体協定書（写）
C18: 出資比率 | E18: 共同企業体協定書第８条に 基づく協定書（写）

Sheet ０ 基礎データ入力シート【最初に記入】
A1: 基礎データ入力シート
B2: 業者番号： | C2: JV | D2: － | L2: =IF(C2="","",TEXT(C2,"00")) -> JV | M2: =IF(E2="","",TEXT(E2,"000000")) | N2: =CONCATENATE(L2,M2) -> JV
A4: 復旧・復興共同企業体の名称：
B6: 【代表構成員】
B7: 許可番号： | D7: ー | L7: =IF(C7="","",TEXT(C7,"00")) | M7: =IF(E7="","",TEXT(E7,"000000")) | N7: =CONCATENATE(L7,M7)
B9: 県内市町村名：
B11: 字等： | N11: =CONCATENATE(C9,C11)
C12: ※ 字から記入してください（以下同様）。
B13: 商号又は名称：
B15: 代表者肩書：
B17: 代表者氏名：
B19: 【構成員１】
B20: 許可番号： | D20: ー | L20: =IF(C20="","",TEXT(C20,"00")) | M20: =IF(E20="","",TEXT(E20,"000000")) | N20: =CONCATENATE(L20,M20)
B22: 県内市町村名：
B24: 字等： | N24: =CONCATENATE(C22,C24)
B26: 商号又は名称：
B28: 代表者肩書：
B30: 代表者氏名：
B32: 【構成員２】
B33: 許可番号： | D33: ー | L33: =IF(C33="","",TEXT(C33,"00")) | M33: =IF(E33="","",TEXT(E33,"000000")) | N33: =CONCATENATE(L33,M33)
B35: 県内市町村名：
B37: 字等： | N37: =CONCATENATE(C35,C37)
B39: 商号又は名称：
B41: 代表者肩書：
B43: 代表者氏名：

Sheet ０ 基礎データ入力シート例
A1: 基礎データ入力シート
B2: 業者番号： | C2: JV | D2: － | E2: ###### | L2: =TEXT(C2,"00") -> JV | M2: =CONCATENATE(L2,E2) -> JV######
B4: 復旧・復興共同企業体の名称： | C4: ○○復旧・復興建設工事共同企業体
B6: 【代表構成員】
B7: 許可番号： | C7: 6 | D7: ー | E7: 0 | L7: =TEXT(C7,"00") -> 06 | M7: =TEXT(E7,"000000") -> 000000 | N7: =CONCATENATE(L7,M7) -> 06000000
B9: 県内市町村名： | C9: 山形市
B11: 字等： | C11: 松波０－０－０
C12: ※ 字から記入してください（以下同様）。
B13: 商号又は名称： | C13: ○○建設株式会社
B15: 代表者肩書： | C15: 代表取締役
B17: 代表者氏名： | C17: ○○ ××
B19: 【構成員１】
B20: 許可番号： | C20: 6 | D20: ー | E20: 111111 | L20: =TEXT(C20,"00") -> 06 | M20: =TEXT(E20,"000000") -> 111111 | N20: =CONCATENATE(L20,M20) -> 06111111
B22: 県内市町村名： | C22: 村山市
B24: 字等： | C24: 楯岡０－０
B26: 商号又は名称： | C26: 株式会社○○
B28: 代表者肩書： | C28: 代表取締役社長
B30: 代表者氏名： | C30: △△ ◇◇
B32: 【構成員２】
B33: 許可番号： | C33: 6 | D33: ー | E33: 222222 | L33: =TEXT(C33,"00") -> 06 | M33: =TEXT(E33,"000000") -> 222222 | N33: =CONCATENATE(L33,M33) -> 06222222
B35: 県内市町村名： | C35: 寒河江市
B37: 字等： | C37: 西根０－０
B39: 商号又は名称： | C39: 有限会社○○
B41: 代表者肩書： | C41: 代表取締役
B43: 代表者氏名： | C43: ●● □□

Sheet リスト
A1: シート２ | B1: シート４ | C1: 出資率計算 | D1: 基礎データ入力シート
A2: 新規 | B2: 0 | C2: =抽出データ!E12+抽出データ!E13+抽出データ!E14+抽出データ!E15+抽出データ!E16 -> #REF! | D2: 山形市
A3: 更新 | D3: 米沢市
D4: 鶴岡市
D5: 酒田市
D6: 新庄市
D7: 寒河江市
D8: 上山市
D9: 村山市
D10: 長井市
D11: 天童市
D12: 東根市
D13: 尾花沢市
D14: 南陽市
D15: 山辺町
... D36: 遊佐町

Sheet 抽出データ
A1: =E4 -> 0 | B1: =E5 -> JV | C1: =E6 | D1: =E7 | E1: =E8 | F1: =E9 -> #REF! | G1: =E10 -> #REF! | H1: =E11 -> 0 | I1: =E12 -> 0 | J1: =E13 -> 0 | K1: =E14 -> 0 | L1: =E15 -> #REF! | M1: =E16 -> #REF!
A4: 基礎データ | B4: 共同企業体名 | E4: ='０ 基礎データ入力シート【最初に記入】'!C4 -> 0
B5: 業者番号 | E5: ='０ 基礎データ入力シート【最初に記入】'!N2 -> JV
B6: 代表構成員許可番号 | E6: ='０ 基礎データ入力シート【最初に記入】'!N7
B7: 構成員１許可番号 | E7: ='０ 基礎データ入力シート【最初に記入】'!N20
B8: 構成員２許可番号 | E8: ='０ 基礎データ入力シート【最初に記入】'!N33
B9: 構成員３許可番号 | E9: ='０ 基礎データ入力シート【最初に記入】'!#REF! -> #REF!
B10: 構成員４許可番号 | E10: ='０ 基礎データ入力シート【最初に記入】'!#REF! -> #REF!
A11: 経常JV 入力票 | B11: 経営形態 | E11: ='4'!E9 -> 0
B12: 代表構成員出資比率 | E12: ='4'!U14 -> 0
B13: 構成員１出資比率 | E13: ='4'!U19 -> 0
B14: 構成員２出資比率 | E14: ='4'!U24 -> 0
B15: 構成員３出資比率 | E15: ='4'!#REF! -> #REF!
B16: 構成員４出資比率 | E16: ='4'!#REF! -> #REF!

Sheet 1
A2: 自己チェックシート兼受理票(復旧・復興ＪＶ)
AB3: 受領印
H5: 業者番号： | I5: =IF('０ 基礎データ入力シート【最初に記入】'!N2="JV","",'０ 基礎データ入力シート【最初に記入】'!N2)
H7: 商号名称： | I7: =IF('０ 基礎データ入力シート【最初に記入】'!C4="","",'０ 基礎データ入力シート【最初に記入】'!C4)
A10: 自分でチェックしましょう。用意できた書類は○、提出しない書類は／(斜線)。
B11: ↓
B12: check | E12: 書類名 | R12: ページ番号 | T12: 注意事項
D13: 必須 | E13: 競争入札参加資格審査申請書 | R13: 2 | T13: 全ての構成会社が単体で参加申請していること。構成会社が復旧・復興ＪＶに四以上参加していないこと。
D14: 必須 | E14: 申請に係る誓約書 | R14: 3
D15: 必須 | E15: 共同企業体協定書（写）
D16: 必須 | E16: 付表９ 復旧・復興共同企業体入力票 | R16: 4
D17: 必須 | E17: 総合評定値通知書（写） | T17: 全ての構成会社分について、審査基準日から１年７か月以内の総合評定値通知書が必要です。
D18: 該当者 | E18: 競争入札参加資格変更届 | R18: 5 | T18: 提出した経審の内容に変更がある場合は、必ず提出してください。
D19: 該当者 | E19: 競争入札参加資格変更届の添付資料 | T19: 提出した経審の内容と現況が異なる場合は、必ず提出してください。
B22: ○
B23: ／

Sheet 2
B2: 受付番号 | H2: 業者番号
H3: =IF('０ 基礎データ入力シート【最初に記入】'!N2="JV","",'０ 基礎データ入力シート【最初に記入】'!N2)
L5: 申請区分
A8: 競争入札参加資格審査申請書(建設工事)
B10: 令和７・８年度において、貴県で行われる下記に係る競争入札に参加する資格
B11: の審査を申請します。
F13: 記
C15: 入札参加資格： | E15: 建設工事(復旧・復興ＪＶ)
B19: 令和 年 月 日
B21: 山形県知事 殿
A23: 復旧・復興共同企業体の名称： | E23: =IF('０ 基礎データ入力シート【最初に記入】'!C4="","",'０ 基礎データ入力シート【最初に記入】'!C4)
D25: 代表構成員： | E25: 所在地 | G25: =IF('０ 基礎データ入力シート【最初に記入】'!N11="","",'０ 基礎データ入力シート【最初に記入】'!N11)
E26: 商号又は名称 | G26: =IF('０ 基礎データ入力シート【最初に記入】'!C13="","",'０ 基礎データ入力シート【最初に記入】'!C13)
E27: 代表者氏名 | G27: =(IF('０ 基礎データ入力シート【最初に記入】'!C15="","",'０ 基礎データ入力シート【最初に記入】'!C15))&" "&(IF('０ 基礎データ入力シート【最初に記入】'!C17="","",'０ 基礎データ入力シート【最初に記入】'!C17))
D29: 構成員１： | E29: 所在地 | G29: =IF('０ 基礎データ入力シート【最初に記入】'!N24="","",'０ 基礎データ入力シート【最初に記入】'!N24)
E30: 商号又は名称 | G30: =IF('０ 基礎データ入力シート【最初に記入】'!C26="","",'０ 基礎データ入力シート【最初に記入】'!C26)
E31: 代表者氏名 | G31: =(IF('０ 基礎データ入力シート【最初に記入】'!C28="","",'０ 基礎データ入力シート【最初に記入】'!C28))&" "&(IF('０ 基礎データ入力シート【最初に記入】'!C30="","",'０ 基礎データ入力シート【最初に記入】'!C30))
D33: 構成員２： | E33: 所在地 | G33: =IF('０ 基礎データ入力シート【最初に記入】'!N37="","",'０ 基礎データ入力シート【最初に記入】'!N37)
E34: 商号又は名称 | G34: =IF('０ 基礎データ入力シート【最初に記入】'!C39="","",'０ 基礎データ入力シート【最初に記入】'!C39)
E35: 代表者氏名 | G35: =(IF('０ 基礎データ入力シート【最初に記入】'!C41="","",'０ 基礎データ入力シート【最初に記入】'!C41))&" "&(IF('０ 基礎データ入力シート【最初に記入】'!C43="","",'０ 基礎データ入力シート【最初に記入】'!C43))

Sheet 2例
B2: 受付番号 | H2: 業者番号
H3: JV######
L5: 申請区分
L6: 更新
A9: 競争入札参加資格審査申請書(建設工事)
B11: 令和７・８年度において、貴県で行われる下記に係る競争入札に参加する資格
B12: の審査を申請します。
F14: 記
C16: 入札参加資格： | E16: 建設工事(復旧・復興ＪＶ)
B20: 令和〇年〇〇月〇〇日
B22: 山形県知事 殿
A24: 復旧・復興共同企業体の名称： | E24: ○○復旧・復興建設工事共同企業体
D26: 代表構成員： | E26: 所在地 | G26: 山形市松波０－０－０
E27: 商号又は名称 | G27: ○○(株)
E28: 代表者氏名 | G28: 代表取締役 ○○ ××
D30: 構成員１： | E30: 所在地 | G30: 村山市楯岡０－０
E31: 商号又は名称 | G31: (株)○○
E32: 代表者氏名 | G32: 代表取締役 △△ □□
D34: 構成員２： | E34: 所在地 | G34: 寒河江市西根０－０
E35: 商号又は名称 | G35: (有）○○
E36: 代表者氏名 | G36: 代表取締役 ●● ◇◇

Sheet 2-2
X2: 業者番号
X3: =IF('０ 基礎データ入力シート【最初に記入】'!N2="JV","",'０ 基礎データ入力シート【最初に記入】'!N2)
B6: 委任状（代理申請用）
B8: 【代理人】
C10: 郵便番号：
C11: 住所：
C12: 行政書士の登録番号：
C13: 氏名：
D17: 私は、上記の者を代理人に定め、令和 | U17: 年 | X17: 月 | AA17: 日 | AB17: から
D18: 令和９年３月３１日まで貴県の競争入札参加資格（建設工事）審査の
D19: 申請について下記の権限を委任します。
P21: 記
I23: １ 申請書類の作成
I24: ２ 申請代理
I25: ３ 記載事項の訂正
E28: 令和 | I28: 年 | L28: 月 | O28: 日
A30: 復旧・復興共同企業体の名称： | L30: =IF('０ 基礎データ入力シート【最初に記入】'!C4="","",'０ 基礎データ入力シート【最初に記入】'!C4)
K32: 代表構成員： | L32: 所在地 | R32: =IF('０ 基礎データ入力シート【最初に記入】'!N11="","",'０ 基礎データ入力シート【最初に記入】'!N11)
L33: 商号又は名称 | R33: =IF('０ 基礎データ入力シート【最初に記入】'!C13="","",'０ 基礎データ入力シート【最初に記入】'!C13)
L34: 代表者氏名 | R34: =(IF('０ 基礎データ入力シート【最初に記入】'!C15="","",'０ 基礎データ入力シート【最初に記入】'!C15))&" "&(IF('０ 基礎データ入力シート【最初に記入】'!C17="","",'０ 基礎データ入力シート【最初に記入】'!C17))
K36: 構成員１： | L36: 所在地 | R36: =IF('０ 基礎データ入力シート【最初に記入】'!N24="","",'０ 基礎データ入力シート【最初に記入】'!N24)
L37: 商号又は名称 | R37: =IF('０ 基礎データ入力シート【最初に記入】'!C26="","",'０ 基礎データ入力シート【最初に記入】'!C26)
L38: 代表者氏名 | R38: =(IF('０ 基礎データ入力シート【最初に記入】'!C28="","",'０ 基礎データ入力シート【最初に記入】'!C28))&" "&(IF('０ 基礎データ入力シート【最初に記入】'!C30="","",'０ 基礎データ入力シート【最初に記入】'!C30))
K40: 構成員２： | L40: 所在地 | R40: =IF('０ 基礎データ入力シート【最初に記入】'!N37="","",'０ 基礎データ入力シート【最初に記入】'!N37)
L41: 商号又は名称 | R41: =IF('０ 基礎データ入力シート【最初に記入】'!C39="","",'０ 基礎データ入力シート【最初に記入】'!C39)
L42: 代表者氏名 | R42: =(IF('０ 基礎データ入力シート【最初に記入】'!C41="","",'０ 基礎データ入力シート【最初に記入】'!C41))&" "&(IF('０ 基礎データ入力シート【最初に記入】'!C43="","",'０ 基礎データ入力シート【最初に記入】'!C43))
C45: 山形県知事 殿

Sheet 2-2例
X2: 業者番号
X3: JV######
B6: 委任状（代理申請用）
B8: 【代理人】
C10: 郵便番号：
C11: 住所：
C12: 行政書士の登録番号：
C13: 氏名：
D17: 私は、上記の者を代理人に定め、令和 | S17: 〇 | U17: 年 | V17: 〇〇 | X17: 月 | Y17: 〇〇 | AA17: 日 | AB17: から
D18: 令和９年３月３１日までに貴県の競争入札参加資格（建設工事）審査の
D19: 申請について下記の権限を委任します。
P21: 記
I23: １ 申請書類の作成
I24: ２ 申請代理
I25: ３ 記載事項の訂正
E28: 令和 | G28: 〇 | I28: 年 | J28: 〇〇 | L28: 月 | M28: 〇〇 | O28: 日
A30: 復旧・復興共同企業体の名称： | L30: ○○復旧・復興建設工事共同企業体
K32: 代表構成員： | L32: 所在地 | R32: ○○市０－０－０
L33: 商号又は名称 | R33: ○○○○株式会社
L34: 代表者氏名 | R34: 代表取締役 ○○ ○○
K36: 構成員１： | L36: 所在地 | R36: ○○市０－０－０
L37: 商号又は名称 | R37: ○○○○株式会社
L38: 代表者氏名 | R38: 代表取締役 ○○ ○○
K40: 構成員２： | L40: 所在地 | R40: ○○市０－０－０
L41: 商号又は名称 | R41: ○○○○株式会社
L42: 代表者氏名 | R42: 代表取締役 ○○ ○○
C45: 山形県知事 殿

Sheet 3
A1: 申請に係る誓約書
B5: この度提出する申請書、添付書類の内容について事実と相違ないこと及び構成員が復旧・復興ＪＶに四以上参加していないことを誓約します。
B11: 令和 | F11: 年 | I11: 月 | L11: 日
A13: 復旧・復興共同企業体の名称： | L13: =IF('０ 基礎データ入力シート【最初に記入】'!C4="","",'０ 基礎データ入力シート【最初に記入】'!C4)
K15: 代表構成員： | L15: 所在地 | R15: =IF('０ 基礎データ入力シート【最初に記入】'!N11="","",'０ 基礎データ入力シート【最初に記入】'!N11)
L16: 商号又は名称 | R16: =IF('０ 基礎データ入力シート【最初に記入】'!C13="","",'０ 基礎データ入力シート【最初に記入】'!C13)
L17: 代表者氏名 | R17: =(IF('０ 基礎データ入力シート【最初に記入】'!C15="","",'０ 基礎データ入力シート【最初に記入】'!C15))&" "&(IF('０ 基礎データ入力シート【最初に記入】'!C17="","",'０ 基礎データ入力シート【最初に記入】'!C17))
K19: 構成員１： | L19: 所在地 | R19: =IF('０ 基礎データ入力シート【最初に記入】'!N24="","",'０ 基礎データ入力シート【最初に記入】'!N24)
L20: 商号又は名称 | R20: =IF('０ 基礎データ入力シート【最初に記入】'!C26="","",'０ 基礎データ入力シート【最初に記入】'!C26)
L21: 代表者氏名 | R21: =(IF('０ 基礎データ入力シート【最初に記入】'!C28="","",'０ 基礎データ入力シート【最初に記入】'!C28))&" "&(IF('０ 基礎データ入力シート【最初に記入】'!C30="","",'０ 基礎データ入力シート【最初に記入】'!C30))
K23: 構成員２： | L23: 所在地 | R23: =IF('０ 基礎データ入力シート【最初に記入】'!N37="","",'０ 基礎データ入力シート【最初に記入】'!N37)
L24: 商号又は名称 | R24: =IF('０ 基礎データ入力シート【最初に記入】'!C39="","",'０ 基礎データ入力シート【最初に記入】'!C39)
L25: 代表者氏名 | R25: =(IF('０ 基礎データ入力シート【最初に記入】'!C41="","",'０ 基礎データ入力シート【最初に記入】'!C41))&" "&(IF('０ 基礎データ入力シート【最初に記入】'!C43="","",'０ 基礎データ入力シート【最初に記入】'!C43))

Sheet 4
A1: 付表９
B2: 復旧・復興共同企業体入力票
B4: 項番 | D4: 項目
B5: 1 | D5: 共同企業体名 | E5: =IF('０ 基礎データ入力シート【最初に記入】'!C4="","",'０ 基礎データ入力シート【最初に記入】'!C4)
B7: 2 | D7: 業者番号 | E7: =IF('０ 基礎データ入力シート【最初に記入】'!N2="JV","",'０ 基礎データ入力シート【最初に記入】'!N2)
B9: 3 | D9: 経営形態 | E9: 0 | G9: 〔０：甲型(共同施工型) １：乙型(分担施工型)
B11: 4 | D11: 代表構成員名称 | E11: =IF('０ 基礎データ入力シート【最初に記入】'!C13="","",'０ 基礎データ入力シート【最初に記入】'!C13)
E13: コード+許可番号
D14: 業者番号 | E14: =IF('０ 基礎データ入力シート【最初に記入】'!N7="00000000","",'０ 基礎データ入力シート【最初に記入】'!N7)
B16: 5 | D16: 構成員１ | E16: =IF('０ 基礎データ入力シート【最初に記入】'!C26="","",'０ 基礎データ入力シート【最初に記入】'!C26)
E18: コード+許可番号
D19: 業者番号 | E19: =IF('０ 基礎データ入力シート【最初に記入】'!N20="00000000","",'０ 基礎データ入力シート【最初に記入】'!N20)
B21: 6 | D21: 構成員２ | E21: =IF('０ 基礎データ入力シート【最初に記入】'!C39="","",'０ 基礎データ入力シート【最初に記入】'!C39)
E23: コード+許可番号
D24: 業者番号 | E24: =IF('０ 基礎データ入力シート【最初に記入】'!N33="00000000","",'０ 基礎データ入力シート【最初に記入】'!N33)
E26: 土 | F26: 建 | G26: 大 | H26: 左 | I26: と | J26: 石 | K26: 屋 | L26: 電 | M26: 管 | N26: タ | O26: 鋼 | P26: 筋 | Q26: 舗 | R26: し
B27: 7 | D27: 入札参加希望業種
E29: 板 | F29: ガ | G29: 塗 | H29: 防 | I29: 内 | J29: 機 | K29: 絶 | L29: 通 | M29: 園 | N29: 井 | O29: 具 | P29: 水 | Q29: 消 | R29: 清 | S29: 解

Sheet 4例
A1: 付表９
B2: 復旧・復興共同企業体入力票
B4: 項番 | D4: 項目
B5: 1 | D5: 共同企業体名 | E5: ○○建設復旧・復興建設工事共同企業体
B7: 2 | D7: 業者番号 | E7: JV######
B9: 3 | D9: 経営形態 | E9: 0 | G9: 〔０：甲型(共同施工型) １：乙型(分担施工型)
B11: 4 | D11: 代表構成員名称 | E11: ○○建設株式会社
E13: コード+許可番号
D14: 業者番号 | E14: 06######
B16: 5 | D16: 構成員１ | E16: 株式会社○○
E18: コード+許可番号
D19: 業者番号 | E19: 06######
B21: 6 | D21: 構成員２ | E21: 有限会社○○
E23: コード+許可番号
D24: 業者番号 | E24: 06######
E26: 土 | F26: 建 | G26: 大 | H26: 左 | I26: と | J26: 石 | K26: 屋 | L26: 電 | M26: 管 | N26: タ | O26: 鋼 | P26: 筋 | Q26: 舗 | R26: し
B27: 7 | D27: 入札参加希望業種 | E27: 1 | I27: 1
E29: 板 | F29: ガ | G29: 塗 | H29: 防 | I29: 内 | J29: 機 | K29: 絶 | L29: 通 | M29: 園 | N29: 井 | O29: 具 | P29: 水 | Q29: 消 | R29: 清 | S29: 解

Sheet 5
W2: 業者番号
W3: =IF('０ 基礎データ入力シート【最初に記入】'!N2="JV","",'０ 基礎データ入力シート【最初に記入】'!N2)
B5: 競争入札参加資格変更届(建設工事)
T7: 提出日：令和 年 月 日
B9: 山形県知事 殿
J11: 住所
J12: 商号又は名称
J13: 代表者氏名
J14: 担当者氏名
J15: 担当者電話番号
B20: １ 変更内容
C22: 変更事項 | I22: 変更前 | R22: 変更後 | AA22: 変更年月日
B47: ２ 添付書類
C51: ※ 国交省様式(Ａ４横)でもかまいません。

Sheet 5例
W2: 業者番号
W3: JV######
B5: 競争入札参加資格変更届(建設工事)
T7: 提出日：令和〇年〇〇月〇〇日
B9: 山形県知事 殿
J11: 住所 | P11: 村山市楯岡０－０
J12: 商号又は名称 | P12: (株)○○
J13: 代表者氏名 | P13: 代表取締役 △△ □□
J14: 担当者氏名 | P14: ×× ○○
J15: 担当者電話番号 | P15: 0237-00-1234
P16: 山形市○○１－１－１
P17: ○○行政書士事務所 △△ ▲▲
P18: 023-630-2402
B20: １ 変更内容
C22: 変更事項 | I22: 変更前 | R22: 変更後 | AA22: 変更年月日
C24: 代表 | I24: ○○建設(株) | R24: ○○建設(株) | AA24: R〇.〇〇.〇
B47: ２ 添付書類
C49: ・共同企業体協定書（写）
C51: ※ 国交省様式(Ａ４横)でもかまいません。
