Workbook

Sheet 総括表
B1: 平成30年度 財政状況資料集
B2: 総括表（市町村）
B3: 都道府県名 | L3: 山形県 | W3: 市町村類型 | AC3: Ⅲ－１ | AM3: 指定団体等の指定状況 | AY3: 区分 | BN3: 平成30年度(千円) | BV3: 平成29年度(千円) | CD3: 区分 | CT3: 平成30年度(千円･％) | DB3: 平成29年度(千円･％)
AY4: 歳入総額 | BN4: 8323715 | BV4: 8800189 | CD4: 実質収支比率 | CT4: 9.5 | DB4: 9
AM5: 財政健全化等 | AU5: × | AY5: 歳出総額 | BN5: 7794940 | BV5: 8299621 | CD5: 経常収支比率 | CT5: 87.9 | DB5: 83.9
B6: 市町村名 | L6: 遊佐町 | W6: 地方交付税種地 | AC6: 2-2 | AM6: 財源超過 | AU6: × | AY6: 歳入歳出差引 | BN6: 528775 | BV6: 500568 | CD6: (※1) | CT6: 91.8 | DB6: 87.8
AM7: 首都 | AU7: × | AY7: 翌年度に繰越すべき財源 | BN7: 67467 | BV7: 65626 | CD7: 標準財政規模 | CT7: 4874382 | DB7: 4827481
AM8: 近畿 | AU8: × | AY8: 実質収支 | BN8: 461308 | BV8: 434942 | CD8: 財政力指数 | CT8: 0.3 | DB8: 0.29
B9: 人口 | L9: 27年国調(人) | R9: 14207 | W9: 産業構造 (※5) | AM9: 中部 | AU9: × | AY9: 単年度収支 | BN9: 26366 | BV9: -12237 | CD9: 公債費負担比率 | CT9: 12.4 | DB9: 15.6
L10: 22年国調(人) | R10: 15480 | AM10: 過疎 | AU10: ○ | AY10: 積立金 | BN10: 218486 | BV10: 1732 | CD10: 健全化判断比率
L11: 増減率 (％) | R11: -8.2 | AM11: 山振 | AU11: × | AY11: 繰上償還金 | BN11: 3900 | BV11: 223590 | CD11: 実質赤字比率 | CT11: - | DB11: -
B12: 住民基本台帳人口 (※7) | L12: 31.01.01(人) | R12: 13921 | W12: 区分 | AC12: 27年国調 | AH12: 22年国調 | AM12: 低開発 | AU12: × | AY12: 積立金取崩し額 | BN12: 0 | BV12: 195320 | CD12: 連結実質赤字比率 | CT12: - | DB12: -
M13: うち日本人(人) | R13: 13857 | W13: 第1次 | AC13: 1154 | AH13: 1333 | AM13: 指数表選定 | AU13: ○ | AY13: 実質単年度収支 | BN13: 248752 | BV13: 17765 | CD13: 実質公債費比率 | CT13: 8.4 | DB13: 7.9
L14: 30.01.01(人) | R14: 14146 | AC14: 16.1 | AH14: 17.4 | CD14: 将来負担比率 | CT14: 49.3 | DB14: 44.8
M15: うち日本人(人) | R15: 14088 | W15: 第2次 | AC15: 1947 | AH15: 2097 | AY15: 基準財政収入額 | BN15: 1372537 | BV15: 1247931 | CD15: 資金不足比率 (※4)
L16: 増減率 (％) | R16: -1.6 | AC16: 27.2 | AH16: 27.3 | AY16: 基準財政需要額 | BN16: 4315301 | BV16: 4296995
M17: うち日本人(％) | R17: -1.6 | W17: 第3次 | AC17: 4058 | AH17: 4241 | AY17: 標準税収入額等 | BN17: 1724204 | BV17: 1560916
B18: 面積 (k㎡) | L18: 208.39 | AC18: 56.7 | AH18: 55.3 | AY18: 経常経費充当一般財源等 | BN18: 4275834 | BV18: 4171501
B19: 人口密度 (人/k㎡) | L19: 68 | AY19: 歳入一般財源等 | BN19: 5965873 | BV19: 6055711
B20: 世帯数 (世帯) | L20: 4509
B21: 職員の状況
B22: 特別職等 | E22: 区分 | L22: 定数 | Q22: 1人あたり平均 給料月額(百円) | W22: 一般職員等(※6) | Z22: 区分 | AH22: 職員数 (人) | AM22: 給料月額 (百円) | AS22: 1人あたり平均 給料月額(百円)
AY23: 地方債現在高 | BN23: 8148842 | BV23: 8136129
E24: 市区町村長 | L24: 1 | Q24: 7130 | Z24: 一般職員 | AH24: 135 | AM24: 415260 | AS24: 3076 | AY24: うち公的資金 | BN24: 5680218 | BV24: 5790564
E25: 副市区町村長 | L25: 1 | Q25: 5560 | Z25: うち消防職員 | AH25: - | AM25: - | AS25: - | AY25: 債務負担行為額（支出予定額） | BN25: 152425 | BV25: 206184
E26: 教育長 | L26: 1 | Q26: 5340 | Z26: うち技能労務職員 | AH26: 16 | AM26: 49776 | AS26: 3111 | AY26: 収益事業収入 | BN26: - | BV26: -
E27: 議会議長 | L27: 1 | Q27: 2930 | Z27: 教育公務員 | AH27: 1 | AM27: * | AS27: * | AY27: 土地開発基金現在高 | BN27: 133000 | BV27: 133000
E28: 議会副議長 | L28: 1 | Q28: 2380 | Z28: 臨時職員 | AH28: - | AM28: - | AS28: - | AY28: 積立金 現在高 | BC28: 財政調整基金 | BN28: 1266551 | BV28: 1048065
E29: 議会議員 | L29: 10 | Q29: 2150 | Z29: 合計 | AH29: 136 | AM29: 419111 | AS29: 3082 | BC29: 減債基金 | BN29: 293750 | BV29: 326620
W30: ラスパイレス指数 | AH30: 96.9 | BC30: その他特定目的基金 | BN30: 1245701 | BV30: 1299571
C32: 一般会計等の一覧 | U32: 事業会計の一覧 | AM32: 公営企業（法適）の一覧 | BE32: 公営企業（法非適）の一覧 | BW32: 関係する一部事務組合等一覧 | CO32: 地方公社・第三セクター等一覧
C33: 項番 | E33: 会計名 | U33: 項番 | W33: 会計名 | AM33: 項番 | AO33: 会計名 | BE33: 項番 | BG33: 会計名 | BW33: 項番 | BY33: 組合等名 | CO33: 項番 | CQ33: 団体名 | DG33: (※3)
C34: =IF(E34="","",1) -> 1 | E34: =IF('各会計、関係団体の財政状況及び健全化判断比率'!B7="","",'各会計、関係団体の財政状況及び健全化判断比率'!B7) -> 一般会計 | U34: =IF(W34="","",MAX(C34:D43)+1) -> 2 | W34: =IF('各会計、関係団体の財政状況及び健全化判断比率'!B28="","",'各会計、関係団体の財政状況及び健全化判断比率'!B28) -> 国民健康保険特別会計 | AM34: =IF(AO34="","",MAX(C34:D43,U34:V43)+1) -> 5 | AO34: =IF('各会計、関係団体の財政状況及び健全化判断比率'!B31="","",'各会計、関係団体の財政状況及び健全化判断比率'!B31) -> 水道事業会計 | BE34: =IF(BG34="","",MAX(C34:D43,U34:V43,AM34:AN43)+1) -> 6 | BG34: =IF('各会計、関係団体の財政状況及び健全化判断比率'!B32="","",'各会計、関係団体の財政状況及び健全化判断比率'!B32) -> 公共下水道事業特別会計 | BW34: =IF(BY34="","",MAX(C34:D43,U34:V43,AM34:AN43,BE34:BF43)+1) -> 8 | BY34: =IF('各会計、関係団体の財政状況及び健全化判断比率'!B68="","",'各会計、関係団体の財政状況及び健全化判断比率'!B68) -> 酒田地区広域行政組合 | CO34: =IF(CQ34="","",MAX(C34:D43,U34:V43,AM34:AN43,BE34:BF43,BW34:BX43)+1) -> 18 | CQ34: =IF('各会計、関係団体の財政状況及び健全化判断比率'!BS7="","",'各会計、関係団体の財政状況及び健全化判断比率'!BS7) -> 遊佐町総合交流促進施設（株） | DG34: =IF('各会計、関係団体の財政状況及び健全化判断比率'!BR7="","",'各会計、関係団体の財政状況及び健全化判断比率'!BR7)
C35: =IF(E35="","",C34+1) | E35: =IF('各会計、関係団体の財政状況及び健全化判断比率'!B8="","",'各会計、関係団体の財政状況及び健全化判断比率'!B8) | U35: =IF(W35="","",U34+1) -> 3 | W35: =IF('各会計、関係団体の財政状況及び健全化判断比率'!B29="","",'各会計、関係団体の財政状況及び健全化判断比率'!B29) -> 介護保険特別会計 | AM35: =IF(AO35="","",AM34+1) | BE35: =IF(BG35="","",BE34+1) -> 7 | BG35: =IF('各会計、関係団体の財政状況及び健全化判断比率'!B33="","",'各会計、関係団体の財政状況及び健全化判断比率'!B33) -> 地域集落排水事業特別会計 | BW35: =IF(BY35="","",BW34+1) -> 9 | BY35: =IF('各会計、関係団体の財政状況及び健全化判断比率'!B69="","",'各会計、関係団体の財政状況及び健全化判断比率'!B69) -> 庄内広域行政組合（普通会計分） | CO35: =IF(CQ35="","",CO34+1) | CQ35: =IF('各会計、関係団体の財政状況及び健全化判断比率'!BS8="","",'各会計、関係団体の財政状況及び健全化判断比率'!BS8) | DG35: =IF('各会計、関係団体の財政状況及び健全化判断比率'!BR8="","",'各会計、関係団体の財政状況及び健全化判断比率'!BR8)
C36: =IF(E36="","",C35+1) | E36: =IF('各会計、関係団体の財政状況及び健全化判断比率'!B9="","",'各会計、関係団体の財政状況及び健全化判断比率'!B9) | U36: =IF(W36="","",U35+1) -> 4 | W36: =IF('各会計、関係団体の財政状況及び健全化判断比率'!B30="","",'各会計、関係団体の財政状況及び健全化判断比率'!B30) -> 後期高齢者医療特別会計 | AM36: =IF(AO36="","",AM35+1) | BE36: =IF(BG36="","",BE35+1) | BW36: =IF(BY36="","",BW35+1) -> 10 | BY36: =IF('各会計、関係団体の財政状況及び健全化判断比率'!B70="","",'各会計、関係団体の財政状況及び健全化判断比率'!B70) -> 庄内広域行政組合（青果市場事業特別会計分） | CO36: =IF(CQ36="","",CO35+1) | CQ36: =IF('各会計、関係団体の財政状況及び健全化判断比率'!BS9="","",'各会計、関係団体の財政状況及び健全化判断比率'!BS9) | DG36: =IF('各会計、関係団体の財政状況及び健全化判断比率'!BR9="","",'各会計、関係団体の財政状況及び健全化判断比率'!BR9)
C37: =IF(E37="","",C36+1) | E37: =IF('各会計、関係団体の財政状況及び健全化判断比率'!B10="","",'各会計、関係団体の財政状況及び健全化判断比率'!B10) | U37: =IF(W37="","",U36+1) | AM37: =IF(AO37="","",AM36+1) | BE37: =IF(BG37="","",BE36+1) | BW37: =IF(BY37="","",BW36+1) -> 11 | BY37: =IF('各会計、関係団体の財政状況及び健全化判断比率'!B71="","",'各会計、関係団体の財政状況及び健全化判断比率'!B71) -> 庄内広域行政組合（庄内食肉流通センター事業特別会計分） | CO37: =IF(CQ37="","",CO36+1) | CQ37: =IF('各会計、関係団体の財政状況及び健全化判断比率'!BS10="","",'各会計、関係団体の財政状況及び健全化判断比率'!BS10) | DG37: =IF('各会計、関係団体の財政状況及び健全化判断比率'!BR10="","",'各会計、関係団体の財政状況及び健全化判断比率'!BR10)
C38: =IF(E38="","",C37+1) | E38: =IF('各会計、関係団体の財政状況及び健全化判断比率'!B11="","",'各会計、関係団体の財政状況及び健全化判断比率'!B11) | U38: =IF(W38="","",U37+1) | AM38: =IF(AO38="","",AM37+1) | BE38: =IF(BG38="","",BE37+1) | BW38: =IF(BY38="","",BW37+1) -> 12 | BY38: =IF('各会計、関係団体の財政状況及び健全化判断比率'!B72="","",'各会計、関係団体の財政状況及び健全化判断比率'!B72) -> 山形県消防補償等組合 | CO38: =IF(CQ38="","",CO37+1) | CQ38: =IF('各会計、関係団体の財政状況及び健全化判断比率'!BS11="","",'各会計、関係団体の財政状況及び健全化判断比率'!BS11) | DG38: =IF('各会計、関係団体の財政状況及び健全化判断比率'!BR11="","",'各会計、関係団体の財政状況及び健全化判断比率'!BR11)
C39: =IF(E39="","",C38+1) | E39: =IF('各会計、関係団体の財政状況及び健全化判断比率'!B12="","",'各会計、関係団体の財政状況及び健全化判断比率'!B12) | U39: =IF(W39="","",U38+1) | AM39: =IF(AO39="","",AM38+1) | BE39: =IF(BG39="","",BE38+1) | BW39: =IF(BY39="","",BW38+1) -> 13 | BY39: =IF('各会計、関係団体の財政状況及び健全化判断比率'!B73="","",'各会計、関係団体の財政状況及び健全化判断比率'!B73) -> 山形県自治会館管理組合 | CO39: =IF(CQ39="","",CO38+1) | CQ39: =IF('各会計、関係団体の財政状況及び健全化判断比率'!BS12="","",'各会計、関係団体の財政状況及び健全化判断比率'!BS12) | DG39: =IF('各会計、関係団体の財政状況及び健全化判断比率'!BR12="","",'各会計、関係団体の財政状況及び健全化判断比率'!BR12)
C40: =IF(E40="","",C39+1) | E40: =IF('各会計、関係団体の財政状況及び健全化判断比率'!B13="","",'各会計、関係団体の財政状況及び健全化判断比率'!B13) | U40: =IF(W40="","",U39+1) | AM40: =IF(AO40="","",AM39+1) | BE40: =IF(BG40="","",BE39+1) | BW40: =IF(BY40="","",BW39+1) -> 14 | BY40: =IF('各会計、関係団体の財政状況及び健全化判断比率'!B74="","",'各会計、関係団体の財政状況及び健全化判断比率'!B74) -> 山形県市町村職員退職手当組合 | CO40: =IF(CQ40="","",CO39+1) | CQ40: =IF('各会計、関係団体の財政状況及び健全化判断比率'!BS13="","",'各会計、関係団体の財政状況及び健全化判断比率'!BS13) | DG40: =IF('各会計、関係団体の財政状況及び健全化判断比率'!BR13="","",'各会計、関係団体の財政状況及び健全化判断比率'!BR13)
C41: =IF(E41="","",C40+1) | E41: =IF('各会計、関係団体の財政状況及び健全化判断比率'!B14="","",'各会計、関係団体の財政状況及び健全化判断比率'!B14) | U41: =IF(W41="","",U40+1) | AM41: =IF(AO41="","",AM40+1) | BE41: =IF(BG41="","",BE40+1) | BW41: =IF(BY41="","",BW40+1) -> 15 | BY41: =IF('各会計、関係団体の財政状況及び健全化判断比率'!B75="","",'各会計、関係団体の財政状況及び健全化判断比率'!B75) -> 山形県市町村交通災害共済組合 | CO41: =IF(CQ41="","",CO40+1) | CQ41: =IF('各会計、関係団体の財政状況及び健全化判断比率'!BS14="","",'各会計、関係団体の財政状況及び健全化判断比率'!BS14) | DG41: =IF('各会計、関係団体の財政状況及び健全化判断比率'!BR14="","",'各会計、関係団体の財政状況及び健全化判断比率'!BR14)
...

Sheet 普通会計の状況
DH1: 平成30年度 | DP1: 山形県遊佐町
B2: (1) 普通会計の状況（市町村）
B3: 歳入の状況（単位 千円・％） | AP3: 地方税の状況（単位 千円・％） | CD3: 歳出の状況（単位 千円・％）
B4: 区分 | R4: 決算額 | Z4: 構成比 | AD4: 経常一般財源等 | AL4: 構成比 | AP4: 区分 | BG4: 収入済額 | BO4: 構成比 | BS4: 超過課税分 | CD4: 目的別歳出の状況（単位 千円・％）
B5: 地方税 | R5: 1332797 | Z5: 16 | AD5: 1332095 | AL5: 28.6 | AP5: 普通税 | BG5: 1318957 | BO5: 99 | BS5: 7580 | CD5: 区分 | CR5: 決算額 (A) | CZ5: 構成比 | DD5: (A)のうち普通建設事業費 | DQ5: (A)のうち充当一般財源等
B6: 地方譲与税 | R6: 81617 | Z6: 1 | AD6: 81617 | AL6: 1.8 | AP6: 法定普通税 | BG6: 1318957 | BO6: 99 | BS6: 7580 | CD6: 議会費 | CR6: 84313 | CZ6: 1.1 | DD6: - | DQ6: 84313
B7: 利子割交付金 | R7: 2185 | Z7: 0 | AD7: 2185 | AL7: 0 | AP7: 市町村民税 | BG7: 527490 | BO7: 39.6 | BS7: 7580 | CD7: 総務費 | CR7: 1363527 | CZ7: 17.5 | DD7: 111202 | DQ7: 991494
B8: 配当割交付金 | R8: 2635 | Z8: 0 | AD8: 2635 | AL8: 0.1 | AP8: 個人均等割 | BG8: 24852 | BO8: 1.9 | BS8: - | CD8: 民生費 | CR8: 1864532 | CZ8: 23.9 | DD8: 15503 | DQ8: 1094141
B9: 株式等譲渡所得割交付金 | R9: 2351 | Z9: 0 | AD9: 2351 | AL9: 0.1 | AP9: 所得割 | BG9: 434416 | BO9: 32.6 | BS9: - | CD9: 衛生費 | CR9: 364041 | CZ9: 4.7 | DD9: 6747 | DQ9: 303188
B10: 分離課税所得割交付金 | R10: - | Z10: - | AD10: - | AL10: - | AP10: 法人均等割 | BG10: 29930 | BO10: 2.2 | BS10: - | CD10: 労働費 | CR10: 12675 | CZ10: 0.2 | DD10: - | DQ10: 175
B11: 道府県民税所得割臨時交付金 | R11: - | Z11: - | AD11: - | AL11: - | AP11: 法人税割 | BG11: 38292 | BO11: 2.9 | BS11: 7580 | CD11: 農林水産業費 | CR11: 742250 | CZ11: 9.5 | DD11: 84224 | DQ11: 331212
B12: 地方消費税交付金 | R12: 245298 | Z12: 2.9 | AD12: 245298 | AL12: 5.3 | AP12: 固定資産税 | BG12: 683836 | BO12: 51.3 | BS12: - | CD12: 商工費 | CR12: 575666 | CZ12: 7.4 | DD12: 111048 | DQ12: 299157
B13: ゴルフ場利用税交付金 | R13: - | Z13: - | AD13: - | AL13: - | AP13: うち純固定資産税 | BG13: 677970 | BO13: 50.9 | BS13: - | CD13: 土木費 | CR13: 933141 | CZ13: 12 | DD13: 332522 | DQ13: 706310
B14: 特別地方消費税交付金 | R14: - | Z14: - | AD14: - | AL14: - | AP14: 軽自動車税 | BG14: 51180 | BO14: 3.8 | BS14: - | CD14: 消防費 | CR14: 359426 | CZ14: 4.6 | DD14: 77733 | DQ14: 285374
B15: 自動車取得税交付金 | R15: 22997 | Z15: 0.3 | AD15: 22997 | AL15: 0.5 | AP15: 市町村たばこ税 | BG15: 56451 | BO15: 4.2 | BS15: - | CD15: 教育費 | CR15: 755641 | CZ15: 9.7 | DD15: 134576 | DQ15: 603693
B16: 軽油引取税交付金 | R16: - | Z16: - | AD16: - | AL16: - | AP16: 鉱産税 | BG16: - | BO16: - | BS16: - | CD16: 災害復旧費 | CR16: - | CZ16: - | DD16: - | DQ16: -
B17: 地方特例交付金 | R17: 3741 | Z17: 0 | AD17: 3741 | AL17: 0.1 | AP17: 特別土地保有税 | BG17: - | BO17: - | BS17: - | CD17: 公債費 | CR17: 739728 | CZ17: 9.5 | DD17: - | DQ17: 738742
B18: 地方交付税 | R18: 3253525 | Z18: 39.1 | AD18: 2942764 | AL18: 63.2 | AP18: 法定外普通税 | BG18: - | BO18: - | BS18: - | CD18: 諸支出金 | CR18: - | CZ18: - | DD18: - | DQ18: -
B19: 普通交付税 | R19: 2942764 | Z19: 35.4 | AD19: 2942764 | AL19: 63.2 | AP19: 目的税 | BG19: 13840 | BO19: 1 | BS19: - | CD19: 前年度繰上充用金 | CR19: - | CZ19: - | DD19: - | DQ19: -
B20: 特別交付税 | R20: 310581 | Z20: 3.7 | AD20: - | AL20: - | AP20: 法定目的税 | BG20: 13840 | BO20: 1 | BS20: - | CD20: 歳出合計 | CR20: 7794940 | CZ20: 100 | DD20: 873555 | DQ20: 5437799
B21: 震災復興特別交付税 | R21: 180 | Z21: 0 | AD21: - | AL21: - | AP21: 入湯税 | BG21: 13138 | BO21: 1 | BS21: -
B22: (一般財源計) | R22: 4947146 | Z22: 59.4 | AD22: 4635683 | AL22: 99.5 | AP22: 事業所税 | BG22: - | BO22: - | BS22: - | CD22: 性質別歳出の状況（単位 千円・％）
B23: 交通安全対策特別交付金 | R23: 1721 | Z23: 0 | AD23: 1721 | AL23: 0 | AP23: 都市計画税 | BG23: 702 | BO23: 0.1 | BS23: - | CD23: 区分 | CR23: 決算額 | CZ23: 構成比 | DD23: 充当一般財源等 | DL23: 経常経費充当一般財源等 | DW23: 経常収支比率
B24: 分担金・負担金 | R24: 1428 | Z24: 0 | AD24: - | AL24: - | AP24: 水利地益税等 | BG24: - | BO24: - | BS24: - | CD24: 義務的経費計 | CR24: 2897214 | CZ24: 37.2 | DD24: 2245665 | DL24: 2149304 | DW24: 44.2
B25: 使用料 | R25: 45338 | Z25: 0.5 | AD25: 2816 | AL25: 0.1 | AP25: 法定外目的税 | BG25: - | BO25: - | BS25: - | CD25: 人件費 | CR25: 1262158 | CZ25: 16.2 | DD25: 1187680 | DL25: 1160649 | DW25: 23.9
B26: 手数料 | R26: 9370 | Z26: 0.1 | AD26: - | AL26: - | AP26: 旧法による税 | BG26: - | BO26: - | BS26: - | CD26: うち職員給 | CR26: 744928 | CZ26: 9.6 | DD26: 675885 | DL26: - | DW26: -
B27: 国庫支出金 | R27: 429784 | Z27: 5.2 | AD27: - | AL27: - | AP27: 合計 | BG27: 1332797 | BO27: 100 | BS27: 7580 | CD27: 扶助費 | CR27: 895328 | CZ27: 11.5 | DD27: 319243 | DL27: 253813 | DW27: 5.2
B28: 国有提供交付金(特別区財調交付金) | R28: - | Z28: - | AD28: - | AL28: - | CD28: 公債費 | CR28: 739728 | CZ28: 9.5 | DD28: 738742 | DL28: 734842 | DW28: 15.1
B29: 都道府県支出金 | R29: 662047 | Z29: 8 | AD29: - | AL29: - | AP29: 区分 | BG29: 平成30年度 | BR29: 平成29年度 | CD29: 内訳 | CF29: 元利償還金 | CR29: 739728 | CZ29: 9.5 | DD29: 738742 | DL29: 734842 | DW29: 15.1
B30: 財産収入 | R30: 16819 | Z30: 0.2 | AD30: 3672 | AL30: 0.1 | AP30: 徴収率 (％) | AT30: 現年 | AX30: 合計 | BG30: 99.2 | BM30: 95.9 | BR30: 99.2 | BX30: 95.6 | CF30: うち元金 | CR30: 685187 | CZ30: 8.8 | DD30: 684201 | DL30: 680301 | DW30: 14
B31: 寄附金 | R31: 243363 | Z31: 2.9 | AD31: - | AL31: - | AU31: ・計 | AX31: 市町村民税 | BG31: 99.5 | BM31: 96.4 | BR31: 99.3 | BX31: 96.3 | CF31: うち利子 | CR31: 54541 | CZ31: 0.7 | DD31: 54541 | DL31: 54541 | DW31: 1.1
B32: 繰入金 | R32: 515548 | Z32: 6.2 | AD32: - | AL32: - | AX32: 純固定資産税 | BG32: 98.9 | BM32: 95 | BR32: 99.1 | BX32: 94.7 | CF32: 一時借入金利子 | CR32: - | CZ32: - | DD32: - | DL32: - | DW32: -
B33: 繰越金 | R33: 500568 | Z33: 6 | AD33: - | AL33: - | CD33: その他の経費 | CR33: 4024171 | CZ33: 51.6 | DD33: 2820109 | DL33: 2126530 | DW33: 43.7
B34: 諸収入 | R34: 252683 | Z34: 3 | AD34: 13088 | AL34: 0.3 | AQ34: 公営事業等への繰出 | BG34: 国民健康保険事業会計の状況 | CD34: 物件費 | CR34: 948947 | CZ34: 12.2 | DD34: 753737 | DL34: 630371 | DW34: 13
B35: 地方債 | R35: 697900 | Z35: 8.4 | AD35: - | AL35: - | AQ35: 合計 | AZ35: 1119170 | BG35: 実質収支 | BV35: 42167 | CD35: 維持補修費 | CR35: 112914 | CZ35: 1.4 | DD35: 104477 | DL35: 100957 | DW35: 2.1
B36: うち減収補塡債(特例分) | R36: - | Z36: - | AD36: - | AL36: - | AQ36: 下水道 | AZ36: 446000 | BG36: 再差引収支 | BV36: 324167 | CD36: 補助費等 | CR36: 1390048 | CZ36: 17.8 | DD36: 740648 | DL36: 447074 | DW36: 9.2
B37: うち臨時財政対策債 | R37: 207000 | Z37: 2.5 | AD37: - | AL37: - | AQ37: 上水道 | AZ37: 23504 | BG37: 加入世帯数(世帯) | BV37: 2035 | CD37: うち一部事務組合負担金 | CR37: 311286 | CZ37: 4 | DD37: 284498 | DL37: 261775 | DW37: 5.4
B38: 歳入合計 | R38: 8323715 | Z38: 100 | AD38: 4656980 | AL38: 100 | AQ38: と畜場 | AZ38: 1861 | BG38: 被保険者数(人) | BV38: 3273 | CD38: 繰出金 | CR38: 1095666 | CZ38: 14.1 | DD38: 965194 | DL38: 947478 | DW38: 19.5
AQ39: 市場 | AZ39: 752 | BG39: 被保険者 1人当り | BM39: 保険税(料)収入額 | BV39: 98 | CD39: 積立金 | CR39: 327391 | CZ39: 4.2 | DD39: 255403 | DL39: - | DW39: -
AQ40: 国民健康保険 | AZ40: 120007 | BM40: 国庫支出金 | BV40: - | CD40: 投資・出資金・貸付金 | CR40: 149205 | CZ40: 1.9 | DD40: 650 | DL40: 650 | DW40: 0
...

Sheet 各会計、関係団体の財政状況及び健全化判断比率
A2: (2)各会計、関係団体の財政状況及び健全化判断比率（市町村） | DJ2: 平成30年度 | DQ2: 山形県遊佐町
A4: 一般会計等の財政状況（単位：百万円） | BQ4: 地方公社・第三セクター等の経営状況及び地方公共団体の財政的支援の状況（単位：百万円）
A5: 会計名 | Q5: 歳入 | V5: 歳出 | AA5: 形式収支 | AF5: 実質収支 | AK5: 他会計等 からの 繰入金 | AP5: 地方債 現在高 | AU5: 備考 | BQ5: 地方公社・第三セクター等名 | CH5: 経常損益 | CM5: 純資産又は 正味財産 | CR5: 当該団体 からの 出資金 | CW5: 当該団体 からの 補助金 | DB5: 当該団体 からの 貸付金 | DG5: 当該団体からの債務保証に係る債務残高 | DL5: 当該団体からの損失補償に係る債務残高 | DQ5: 一般会計等 負担見込額 | DV5: 備考
A7: 1 | B7: 一般会計 | Q7: 8324 | V7: 7795 | AA7: 529 | AF7: 461 | AK7: 516 | AP7: 8149 | BQ7: 1 | BS7: 遊佐町総合交流促進施設（株） | CH7: -9 | CM7: 87 | CR7: 10 | CW7: ‐ | DB7: ‐ | DG7: ‐ | DL7: ‐ | DQ7: ‐
A8: 2 | BQ8: 2
A9: 3 | BQ9: 3
A10: 4 | BQ10: 4
A11: 5 | BQ11: 5
A12: 6 | BQ12: 6
A13: 7 | BQ13: 7
A14: 8 | BQ14: 8
A15: 9 | BQ15: 9
A16: 10 | BQ16: 10
A17: 11 | BQ17: 11
A18: 12 | BQ18: 12
A19: 13 | BQ19: 13
... A21: 15 | BQ21: 15
A22: 16 | AZ22: 実質赤字額 | BQ22: 16
A23: 計 | B23: 一般会計等（純計） | Q23: 8324 | V23: 7795 | AA23: 529 | AF23: 461 | AP23: 8149 | AZ23: - | BQ23: 17
A24: ※一般会計等（純計）は、各会計の相互間の繰入・繰出等の重複を控除したものであり、各会計の合計と一致しない場合がある。 | BQ24: 18
A25: 公営企業会計等の財政状況（単位：百万円） | BQ25: 19
A26: 会計名 | Q26: 総収益 （歳入） | V26: 総費用 （歳出） | AA26: 純損益 （形式収支） | AF26: 資金剰余額 /不足額 （実質収支） | AK26: 他会計等 からの 繰入金 | AP26: 企業債 （地方債） 現在高 | AU26: 左のうち 一般会計等 繰入見込額 | AZ26: 資金不足 比率 | BE26: 備考 | BQ26: 20
BQ27: 21
A28: 1 | B28: 国民健康保険特別会計 | Q28: 1813 | V28: 1771 | AA28: 42 | AF28: 42 | AK28: 120 | AP28: - | AU28: - | AZ28: ‐ | BQ28: 22
A29: 2 | B29: 介護保険特別会計 | Q29: 1948 | V29: 1827 | AA29: 121 | AF29: 121 | AK29: 274 | AP29: - | AU29: - | AZ29: - | BQ29: 23
A30: 3 | B30: 後期高齢者医療特別会計 | Q30: 177 | V30: 174 | AA30: 3 | AF30: 3 | AK30: 72 | AP30: - | AU30: - | AZ30: - | BQ30: 24
A31: 4 | B31: 水道事業会計 | Q31: 400 | V31: 388 | AA31: 12 | AF31: 505 | AK31: 24 | AP31: 1606 | AU31: 140 | AZ31: - | BE31: 法適用企業 | BQ31: 25
A32: 5 | B32: 公共下水道事業特別会計 | Q32: 756 | V32: 750 | AA32: 6 | AF32: 6 | AK32: 378 | AP32: 4628 | AU32: 4012 | AZ32: - | BE32: 法非適用企業 | BQ32: 26
A33: 6 | B33: 地域集落排水事業特別会計 | Q33: 99 | V33: 86 | AA33: 13 | AF33: 13 | AK33: 68 | AP33: 451 | AU33: 451 | AZ33: - | BE33: 法非適用企業 | BQ33: 27
A34: 7 | BQ34: 28
A35: 8 | BQ35: 29
A36: 9 | BQ36: 30
A37: 10 | BQ37: 31
A38: 11 | BQ38: 32
A39: 12 | BQ39: 33
A40: 13 | BQ40: 34
A41: 14 | BQ41: 35
A42: 15 | BQ42: 36
A43: 16 | BQ43: 37
A44: 17 | BQ44: 38
...

Sheet 財政比較分析表

Sheet 経常経費分析表（経常収支比率の分析）

Sheet 経常経費分析表（人件費・公債費・普通建設事業費の分析）
A5: 人件費及び人件費に準ずる費用の分析
AK6: 人件費及び人件費に準ずる費用
AO7: 当該団体決算額 （千円） | AQ7: 人口1人当たり決算額
AP8: 当該団体（円） | AQ8: 類似団体平均（円） | AR8: 対比（％）
AK9: 人件費 | AO9: 1262158 | AP9: 90666 | AQ9: 87631 | AR9: 3.5
AK10: 賃金（物件費） | AO10: 79748 | AP10: 5729 | AQ10: 8917 | AR10: -35.8
AK11: 一部事務組合負担金（補助費等） | AO11: 165198 | AP11: 11867 | AQ11: 14700 | AR11: -19.3
AK12: 公営企業（法適）等に対する繰出し（補助費等） | AO12: - | AP12: - | AQ12: 667 | AR12: -
AK13: 公営企業（法適）等に対する繰出し（投資及び出資金・貸付金） | AO13: - | AP13: - | AQ13: - | AR13: -
AK14: 公営企業（法非適）等に対する繰出し（繰出金） | AO14: 36616 | AP14: 2630 | AQ14: 4134 | AR14: -36.4
AK15: 事業費支弁に係る職員の人件費（投資的経費） | AO15: 8874 | AP15: 637 | AQ15: 2222 | AR15: -71.3
AK16: ▲退職金 | AO16: -115931 | AP16: -8328 | AQ16: -8178 | AR16: 1.8
AK17: 合計 | AO17: 1436663 | AP17: 103201 | AQ17: 110093 | AR17: -6.3
AK19: 参考
AO20: 当該団体 | AP20: 類似団体平均 | AQ20: 対比（差引）
AK21: 人口1,000人当たり職員数（人） | AO21: 9.77 | AP21: 10.38 | AQ21: -0.61
AK22: ラスパイレス指数 | AO22: 96.9 | AP22: 96.6 | AQ22: 0.3
A26: （注）人口については、各調査対象年度の1月1日現在の住民基本台帳に登載されている人口に基づいている。
A28: 公債費及び公債費に準ずる費用の分析
AK29: 公債費及び公債費に準ずる費用（実質公債費比率の構成要素）
AO30: 当該団体決算額 （千円） | AQ30: 人口1人当たり決算額
AP31: 当該団体（円） | AQ31: 類似団体平均（円） | AR31: 対比（％）
AK32: 元利償還金の額 （繰上償還額等を除く） | AO32: 735828 | AP32: 52857 | AQ32: 55141 | AR32: -4.1
AK33: 積立不足額を考慮して算定した額 | AO33: - | AP33: - | AQ33: - | AR33: -
AK34: 満期一括償還地方債の一年当たりの元金償還金に相当するもの （年度割相当額） | AO34: - | AP34: - | AQ34: 3 | AR34: -
AK35: 公営企業に要する経費の財源とする地方債の償還の財源に 充てたと認められる繰入金 | AO35: 458367 | AP35: 32926 | AQ35: 21916 | AR35: 50.2
AK36: 一部事務組合等の起こした地方債に充てたと認められる 補助金又は負担金 | AO36: 2353 | AP36: 169 | AQ36: 3784 | AR36: -95.5
AK37: 公債費に準ずる債務負担行為に係るもの | AO37: - | AP37: - | AQ37: 1115 | AR37: -
AK38: 一時借入金利子 （同一団体における会計間の現金運用に係る利子は除く） | AO38: - | AP38: - | AQ38: 2 | AR38: -
AK39: ▲特定財源の額 | AO39: -1688 | AP39: -121 | AQ39: -1435 | AR39: -91.6
AK40: ▲地方債に係る元利償還金及び準元利償還金に要する経費として 普通交付税の額の算定に用いる基準財政需要額に算入された額 | AO40: -835461 | AP40: -60014 | AQ40: -54229 | AR40: 10.7
AK41: 合計 | AO41: 359399 | AP41: 25817 | AQ41: 26298 | AR41: -1.8
AK42: ※平成31年度中に市町村合併した団体で、合併前の団体ごとの決算に基づく実質公債費比率を算出していない団体については、グラフを表記しない。
A47: （参考） 普通建設事業費の分析
AK48: 普通建設事業費
AM49: 当該団体決算額 （千円） | AN49: 人口１人当たり決算額
AN50: 当該団体(円) | AO50: 増減率(%)(A) | AP50: 類似団体平均(円) | AQ50: 増減率(%)(B) | AR50: (A)-(B)
AK51: H26 | AM51: 1031030 | AN51: 69234 | AO51: -26.6 | AP51: 85205 | AQ51: 14.5 | AR51: -41.1
AL52: うち単独分 | AM52: 520893 | AN52: 34978 | AO52: 10.8 | AP52: 38847 | AQ52: 13.7 | AR52: -2.9
AK53: H27 | AM53: 1341094 | AN53: 91549 | AO53: 32.2 | AP53: 106092 | AQ53: 24.5 | AR53: 7.7
...

Sheet 性質別歳出決算分析表（住民一人当たりのコスト）

Sheet 目的別歳出決算分析表（住民一人当たりのコスト）

Sheet 実質収支比率等に係る経年分析
J45: 標準財政規模比（％）
B46: 区分 | E46: 年度 | F46: H26 | G46: H27 | H46: H28 | I46: H29 | J46: H30
C47: 財政調整基金残高 | F47: 27.65 | G47: 26.8 | H47: 25.6 | I47: 21.71 | J47: 25.98
C48: 実質収支額 | F48: 6.52 | G48: 6.7 | H48: 9.22 | I48: 9.01 | J48: 9.46
C49: 実質単年度収支 | F49: 3.03 | G49: 3.56 | H49: 4.06 | I49: 0.37 | J49: 5.1

Sheet 連結実質赤字比率に係る赤字・黒字の構成分析
J32: 標準財政規模比（％）
B33: 会計 | E33: 年度 | F33: H26 | G33: H27 | H33: H28 | I33: H29 | J33: H30
C34: 水道事業会計 | F34: 8.55 | G34: 8.17 | H34: 8.23 | I34: 10.37 | J34: 10.35
C35: 一般会計 | F35: 6.52 | G35: 6.69 | H35: 9.22 | I35: 9 | J35: 9.46
C36: 介護保険特別会計 | F36: 1.44 | G36: 1.55 | H36: 1.4 | I36: 1.21 | J36: 2.48
C37: 国民健康保険特別会計 | F37: 4.18 | G37: 3.61 | H37: 5.17 | I37: 2.66 | J37: 0.86
C38: 地域集落排水事業特別会計 | F38: 0.05 | G38: 0.08 | H38: 0.11 | I38: 0.22 | J38: 0.26
C39: 公共下水道事業特別会計 | F39: 0.07 | G39: 0.11 | H39: 0.15 | I39: 0.11 | J39: 0.11
C40: 後期高齢者医療特別会計 | F40: 0.05 | G40: 0.08 | H40: 0.07 | I40: 0.1 | J40: 0.06
C42: その他会計（赤字） | F42: - | G42: - | H42: - | I42: - | J42: -
C43: その他会計（黒字） | F43: 0.55 | G43: 0.9 | H43: 1.14 | I43: - | J43: -
B44: ※平成31年度中に市町村合併した団体で、合併前の団体ごとの決算に基づく連結実質赤字比率を算出していない団体については、グラフを表記しない。

Sheet 実質公債費比率（分子）の構造
O43: （百万円）
B44: 分子の構造 | J44: 年度 | K44: H26 | L44: H27 | M44: H28 | N44: H29 | O44: H30
B45: 元利償還金等(A) | E45: 元利償還金 | K45: 730 | L45: 705 | M45: 646 | N45: 722 | O45: 736
E46: 減債基金積立不足算定額※2 | K46: - | L46: - | M46: - | N46: - | O46: -
E47: 満期一括償還地方債に係る年度割相当額 | K47: - | L47: - | M47: - | N47: - | O47: -
E48: 公営企業債の元利償還金に対する繰入金 | K48: 362 | L48: 366 | M48: 438 | N48: 448 | O48: 458
E49: 組合等が起こした地方債の元利償還金に対する負担金等 | K49: 47 | L49: 38 | M49: 21 | N49: 2 | O49: 2
E50: 債務負担行為に基づく支出額 | K50: 17 | L50: 11 | M50: - | N50: - | O50: -
E51: 一時借入金の利子 | K51: - | L51: - | M51: - | N51: - | O51: -
B52: 算入公債費等(B) | E52: 算入公債費等 | K52: 808 | L52: 802 | M52: 789 | N52: 831 | O52: 838
B53: (A)－(B) | E53: 実質公債費比率の分子 | K53: 348 | L53: 318 | M53: 316 | N53: 341 | O53: 358
B54: ※1 平成31年度中に市町村合併した団体で、合併前の団体ごとの決算に基づく実質公債費比率を算出していない団体については、グラフを表記しない。
B55: （参考）
J56: 年度 | K56: H25末 | L56: H26末 | M56: H27末 | N56: H28末 | O56: H29末
B57: ※2 減債基金 積立状況等 | D57: 減債基金残高（注） | K57: - | L57: - | M57: - | N57: - | O57: -
D58: 減債基金積立相当額 | K58: - | L58: - | M58: - | N58: - | O58: -
D59: （注）減債基金残高のうち、実質公債費比率の算定に用いる満期一括償還地方債の償還の財源として積み立てた額に係るもののみを記入。
D60: 減債基金積立金の年度を超えた一般会計又は特別会計への貸付額は控除して記入。

Sheet 将来負担比率（分子）の構造
M39: （百万円）
B40: 分子の構造 | H40: 年度 | I40: H26 | J40: H27 | K40: H28 | L40: H29 | M40: H30
B41: 将来負担額(A) | E41: 一般会計等に係る地方債の現在高 | I41: 7718 | J41: 7859 | K41: 8112 | L41: 8136 | M41: 8149
E42: 債務負担行為に基づく支出予定額 | I42: 11 | J42: - | K42: - | L42: - | M42: -
E43: 公営企業債等繰入見込額 | I43: 4603 | J43: 4477 | K43: 4595 | L43: 4504 | M43: 4603
E44: 組合等負担等見込額 | I44: 73 | J44: 35 | K44: 15 | L44: 14 | M44: 10
E45: 退職手当負担見込額 | I45: 1286 | J45: 1201 | K45: 1199 | L45: 1265 | M45: 1119
E46: 設立法人等の負債額等負担見込額 | I46: - | J46: - | K46: - | L46: - | M46: -
E47: うち、健全化法施行規則附則第三条に係る負担見込額 | I47: - | J47: - | K47: - | L47: - | M47: -
E48: 連結実質赤字額 | I48: - | J48: - | K48: - | L48: - | M48: -
E49: 組合等連結実質赤字額負担見込額 | I49: - | J49: - | K49: - | L49: - | M49: -
B50: 充当可能財源等(B) | E50: 充当可能基金 | I50: 2969 | J50: 3167 | K50: 3040 | L50: 3236 | M50: 3217
E51: 充当可能特定歳入 | I51: 162 | J51: 145 | K51: 132 | L51: 118 | M51: 106
E52: 基準財政需要額算入見込額 | I52: 8536 | J52: 8620 | K52: 8713 | L52: 8770 | M52: 8565
B53: (A)－(B) | E53: 将来負担比率の分子 | I53: 2026 | J53: 1639 | K53: 2037 | L53: 1795 | M53: 1993
B54: ※平成31年度中に市町村合併した団体で、合併前の団体ごとの決算に基づく将来負担比率を算出していない団体については、グラフを表記しない。

Sheet 基金残高に係る経年分析
H53: （百万円）
B54: 区分 | E54: 年度 | F54: H28 | G54: H29 | H54: H30
C55: 財政調整基金 | F55: 1242 | G55: 1048 | H55: 1267
C56: 減債基金 | F56: 326 | G56: 327 | H56: 294
C57: その他特定目的基金 | F57: 1013 | G57: 1300 | H57: 1246
C58: 庁舎等建設基金 | F58: 401 | G58: 601 | H58: 602
C59: 義務教育施設整備基金 | F59: 222 | G59: 222 | H59: 222
C60: 観光施設整備基金 | F60: 163 | G60: 211 | H60: 200
C61: ふるさと基金 | F61: 126 | G61: 126 | H61: 74
C62: 環境保全基金 | F62: 28 | G62: 63 | H62: 69
C63: 基金残高合計 | F63: 2581 | G63: 2674 | H63: 2806

Sheet データシート
D2: 当該団体(円) | F2: 類似団体内平均(円)
A3: H26 | D3: 69234 | F3: 85205
D4: 34978 | F4: 38847
A5: H27 | D5: 91549 | F5: 106092
D6: 40414 | F6: 44299
A7: H28 | D7: 108068 | F7: 78903
D8: 43661 | F8: 49201
A9: H29 | D9: 53494 | F9: 82993
D10: 33219 | F10: 46787
A11: H30 | D11: 62751 | F11: 108252
D12: 49382 | F12: 50321
D13: 77019 | F13: 92289
D14: 40331 | F14: 45891
A17: 実質収支比率等に係る経年分析
B18: =実質収支比率等に係る経年分析!F$46 -> H26 | C18: =実質収支比率等に係る経年分析!G$46 -> H27 | D18: =実質収支比率等に係る経年分析!H$46 -> H28 | E18: =実質収支比率等に係る経年分析!I$46 -> H29 | F18: =実質収支比率等に係る経年分析!J$46 -> H30
A19: 実質収支額 | B19: =ROUND(VALUE(SUBSTITUTE(実質収支比率等に係る経年分析!F$48,"▲","-")),2) -> 6.52 | C19: =ROUND(VALUE(SUBSTITUTE(実質収支比率等に係る経年分析!G$48,"▲","-")),2) -> 6.7 | D19: =ROUND(VALUE(SUBSTITUTE(実質収支比率等に係る経年分析!H$48,"▲","-")),2) -> 9.22 | E19: =ROUND(VALUE(SUBSTITUTE(実質収支比率等に係る経年分析!I$48,"▲","-")),2) -> 9.01 | F19: =ROUND(VALUE(SUBSTITUTE(実質収支比率等に係る経年分析!J$48,"▲","-")),2) -> 9.46
A20: 財政調整基金残高 | B20: =ROUND(VALUE(SUBSTITUTE(実質収支比率等に係る経年分析!F$47,"▲","-")),2) -> 27.65 | C20: =ROUND(VALUE(SUBSTITUTE(実質収支比率等に係る経年分析!G$47,"▲","-")),2) -> 26.8 | D20: =ROUND(VALUE(SUBSTITUTE(実質収支比率等に係る経年分析!H$47,"▲","-")),2) -> 25.6 | E20: =ROUND(VALUE(SUBSTITUTE(実質収支比率等に係る経年分析!I$47,"▲","-")),2) -> 21.71 | F20: =ROUND(VALUE(SUBSTITUTE(実質収支比率等に係る経年分析!J$47,"▲","-")),2) -> 25.98
A21: 実質単年度収支 | B21: =IF(ISNUMBER(VALUE(SUBSTITUTE(実質収支比率等に係る経年分析!F$49,"▲","-"))),ROUND(VALUE(SUBSTITUTE(実質収支比率等に係る経年分析!F$49,"▲","-")),2),NA()) -> 3.03 | C21: =IF(ISNUMBER(VALUE(SUBSTITUTE(実質収支比率等に係る経年分析!G$49,"▲","-"))),ROUND(VALUE(SUBSTITUTE(実質収支比率等に係る経年分析!G$49,"▲","-")),2),NA()) -> 3.56 | D21: =IF(ISNUMBER(VALUE(SUBSTITUTE(実質収支比率等に係る経年分析!H$49,"▲","-"))),ROUND(VALUE(SUBSTITUTE(実質収支比率等に係る経年分析!H$49,"▲","-")),2),NA()) -> 4.06 | E21: =IF(ISNUMBER(VALUE(SUBSTITUTE(実質収支比率等に係る経年分析!I$49,"▲","-"))),ROUND(VALUE(SUBSTITUTE(実質収支比率等に係る経年分析!I$49,"▲","-")),2),NA()) -> 0.37 | F21: =IF(ISNUMBER(VALUE(SUBSTITUTE(実質収支比率等に係る経年分析!J$49,"▲","-"))),ROUND(VALUE(SUBSTITUTE(実質収支比率等に係る経年分析!J$49,"▲","-")),2),NA()) -> 5.1
A24: 連結実質赤字比率に係る赤字・黒字の構成分析
B25: =連結実質赤字比率に係る赤字・黒字の構成分析!F$33 -> H26 | D25: =連結実質赤字比率に係る赤字・黒字の構成分析!G$33 -> H27 | F25: =連結実質赤字比率に係る赤字・黒字の構成分析!H$33 -> H28 | H25: =連結実質赤字比率に係る赤字・黒字の構成分析!I$33 -> H29 | J25: =連結実質赤字比率に係る赤字・黒字の構成分析!J$33 -> H30
B26: 赤字額 | C26: 黒字額 | D26: 赤字額 | E26: 黒字額 | F26: 赤字額 | G26: 黒字額 | H26: 赤字額 | I26: 黒字額 | J26: 赤字額 | K26: 黒字額
A27: =IF(連結実質赤字比率に係る赤字・黒字の構成分析!C$43="",NA(),連結実質赤字比率に係る赤字・黒字の構成分析!C$43) -> その他会計（黒字） | B27: =IF(ROUND(VALUE(SUBSTITUTE(連結実質赤字比率に係る赤字・黒字の構成分析!F$43,"▲", "-")), 2) < 0, ABS(ROUND(VALUE(SUBSTITUTE(連結実質赤字比率に係る赤字・黒字の構成分析!F$43,"▲", "-")), 2)), NA()) -> #N/A | C27: =IF(ROUND(VALUE(SUBSTITUTE(連結実質赤字比率に係る赤字・黒字の構成分析!F$43,"▲", "-")), 2) >= 0, ABS(ROUND(VALUE(SUBSTITUTE(連結実質赤字比率に係る赤字・黒字の構成分析!F$43,"▲", "-")), 2)), NA()) -> 0.55 | D27: =IF(ROUND(VALUE(SUBSTITUTE(連結実質赤字比率に係る赤字・黒字の構成分析!G$43,"▲", "-")), 2) < 0, ABS(ROUND(VALUE(SUBSTITUTE(連結実質赤字比率に係る赤字・黒字の構成分析!G$43,"▲", "-")), 2)), NA()) -> #N/A | E27: =IF(ROUND(VALUE(SUBSTITUTE(連結実質赤字比率に係る赤字・黒字の構成分析!G$43,"▲", "-")), 2) >= 0, ABS(ROUND(VALUE(SUBSTITUTE(連結実質赤字比率に係る赤字・黒字の構成分析!G$43,"▲", "-")), 2)), NA()) -> 0.9 | F27: =IF(ROUND(VALUE(SUBSTITUTE(連結実質赤字比率に係る赤字・黒字の構成分析!H$43,"▲", "-")), 2) < 0, ABS(ROUND(VALUE(SUBSTITUTE(連結実質赤字比率に係る赤字・黒字の構成分析!H$43,"▲", "-")), 2)), NA()) -> #N/A | G27: =IF(ROUND(VALUE(SUBSTITUTE(連結実質赤字比率に係る赤字・黒字の構成分析!H$43,"▲", "-")), 2) >= 0, ABS(ROUND(VALUE(SUBSTITUTE(連結実質赤字比率に係る赤字・黒字の構成分析!H$43,"▲", "-")), 2)), NA()) -> 1.14 | H27: =IF(ROUND(VALUE(SUBSTITUTE(連結実質赤字比率に係る赤字・黒字の構成分析!I$43,"▲", "-")), 2) < 0, ABS(ROUND(VALUE(SUBSTITUTE(連結実質赤字比率に係る赤字・黒字の構成分析!I$43,"▲", "-")), 2)), NA()) -> #VALUE! | I27: =IF(ROUND(VALUE(SUBSTITUTE(連結実質赤字比率に係る赤字・黒字の構成分析!I$43,"▲", "-")), 2) >= 0, ABS(ROUND(VALUE(SUBSTITUTE(連結実質赤字比率に係る赤字・黒字の構成分析!I$43,"▲", "-")), 2)), NA()) -> #VALUE! | J27: =IF(ROUND(VALUE(SUBSTITUTE(連結実質赤字比率に係る赤字・黒字の構成分析!J$43,"▲", "-")), 2) < 0, ABS(ROUND(VALUE(SUBSTITUTE(連結実質赤字比率に係る赤字・黒字の構成分析!J$43,"▲", "-")), 2)), NA()) -> #VALUE! | K27: =IF(ROUND(VALUE(SUBSTITUTE(連結実質赤字比率に係る赤字・黒字の構成分析!J$43,"▲", "-")), 2) >= 0, ABS(ROUND(VALUE(SUBSTITUTE(連結実質赤字比率に係る赤字・黒字の構成分析!J$43,"▲", "-")), 2)), NA()) -> #VALUE!
A28: =IF(連結実質赤字比率に係る赤字・黒字の構成分析!C$42="",NA(),連結実質赤字比率に係る赤字・黒字の構成分析!C$42) -> その他会計（赤字） | B28: =IF(ROUND(VALUE(SUBSTITUTE(連結実質赤字比率に係る赤字・黒字の構成分析!F$42,"▲", "-")), 2) < 0, ABS(ROUND(VALUE(SUBSTITUTE(連結実質赤字比率に係る赤字・黒字の構成分析!F$42,"▲", "-")), 2)), NA()) -> #VALUE! | C28: =IF(ROUND(VALUE(SUBSTITUTE(連結実質赤字比率に係る赤字・黒字の構成分析!F$42,"▲", "-")), 2) >= 0, ABS(ROUND(VALUE(SUBSTITUTE(連結実質赤字比率に係る赤字・黒字の構成分析!F$42,"▲", "-")), 2)), NA()) -> #VALUE! | D28: =IF(ROUND(VALUE(SUBSTITUTE(連結実質赤字比率に係る赤字・黒字の構成分析!G$42,"▲", "-")), 2) < 0, ABS(ROUND(VALUE(SUBSTITUTE(連結実質赤字比率に係る赤字・黒字の構成分析!G$42,"▲", "-")), 2)), NA()) -> #VALUE! | E28: =IF(ROUND(VALUE(SUBSTITUTE(連結実質赤字比率に係る赤字・黒字の構成分析!G$42,"▲", "-")), 2) >= 0, ABS(ROUND(VALUE(SUBSTITUTE(連結実質赤字比率に係る赤字・黒字の構成分析!G$42,"▲", "-")), 2)), NA()) -> #VALUE! | F28: =IF(ROUND(VALUE(SUBSTITUTE(連結実質赤字比率に係る赤字・黒字の構成分析!H$42,"▲", "-")), 2) < 0, ABS(ROUND(VALUE(SUBSTITUTE(連結実質赤字比率に係る赤字・黒字の構成分析!H$42,"▲", "-")), 2)), NA()) -> #VALUE! | G28: =IF(ROUND(VALUE(SUBSTITUTE(連結実質赤字比率に係る赤字・黒字の構成分析!H$42,"▲", "-")), 2) >= 0, ABS(ROUND(VALUE(SUBSTITUTE(連結実質赤字比率に係る赤字・黒字の構成分析!H$42,"▲", "-")), 2)), NA()) -> #VALUE! | H28: =IF(ROUND(VALUE(SUBSTITUTE(連結実質赤字比率に係る赤字・黒字の構成分析!I$42,"▲", "-")), 2) < 0, ABS(ROUND(VALUE(SUBSTITUTE(連結実質赤字比率に係る赤字・黒字の構成分析!I$42,"▲", "-")), 2)), NA()) -> #VALUE! | I28: =IF(ROUND(VALUE(SUBSTITUTE(連結実質赤字比率に係る赤字・黒字の構成分析!I$42,"▲", "-")), 2) >= 0, ABS(ROUND(VALUE(SUBSTITUTE(連結実質赤字比率に係る赤字・黒字の構成分析!I$42,"▲", "-")), 2)), NA()) -> #VALUE! | J28: =IF(ROUND(VALUE(SUBSTITUTE(連結実質赤字比率に係る赤字・黒字の構成分析!J$42,"▲", "-")), 2) < 0, ABS(ROUND(VALUE(SUBSTITUTE(連結実質赤字比率に係る赤字・黒字の構成分析!J$42,"▲", "-")), 2)), NA()) -> #VALUE! | K28: =IF(ROUND(VALUE(SUBSTITUTE(連結実質赤字比率に係る赤字・黒字の構成分析!J$42,"▲", "-")), 2) >= 0, ABS(ROUND(VALUE(SUBSTITUTE(連結実質赤字比率に係る赤字・黒字の構成分析!J$42,"▲", "-")), 2)), NA()) -> #VALUE!
A29: =IF(連結実質赤字比率に係る赤字・黒字の構成分析!C$41="",NA(),連結実質赤字比率に係る赤字・黒字の構成分析!C$41) -> #N/A | B29: =IF(ROUND(VALUE(SUBSTITUTE(連結実質赤字比率に係る赤字・黒字の構成分析!F$41,"▲", "-")), 2) < 0, ABS(ROUND(VALUE(SUBSTITUTE(連結実質赤字比率に係る赤字・黒字の構成分析!F$41,"▲", "-")), 2)), NA()) -> #VALUE! | C29: =IF(ROUND(VALUE(SUBSTITUTE(連結実質赤字比率に係る赤字・黒字の構成分析!F$41,"▲", "-")), 2) >= 0, ABS(ROUND(VALUE(SUBSTITUTE(連結実質赤字比率に係る赤字・黒字の構成分析!F$41,"▲", "-")), 2)), NA()) -> #VALUE! | D29: =IF(ROUND(VALUE(SUBSTITUTE(連結実質赤字比率に係る赤字・黒字の構成分析!G$41,"▲", "-")), 2) < 0, ABS(ROUND(VALUE(SUBSTITUTE(連結実質赤字比率に係る赤字・黒字の構成分析!G$41,"▲", "-")), 2)), NA()) -> #VALUE! | E29: =IF(ROUND(VALUE(SUBSTITUTE(連結実質赤字比率に係る赤字・黒字の構成分析!G$41,"▲", "-")), 2) >= 0, ABS(ROUND(VALUE(SUBSTITUTE(連結実質赤字比率に係る赤字・黒字の構成分析!G$41,"▲", "-")), 2)), NA()) -> #VALUE! | F29: =IF(ROUND(VALUE(SUBSTITUTE(連結実質赤字比率に係る赤字・黒字の構成分析!H$41,"▲", "-")), 2) < 0, ABS(ROUND(VALUE(SUBSTITUTE(連結実質赤字比率に係る赤字・黒字の構成分析!H$41,"▲", "-")), 2)), NA()) -> #VALUE! | G29: =IF(ROUND(VALUE(SUBSTITUTE(連結実質赤字比率に係る赤字・黒字の構成分析!H$41,"▲", "-")), 2) >= 0, ABS(ROUND(VALUE(SUBSTITUTE(連結実質赤字比率に係る赤字・黒字の構成分析!H$41,"▲", "-")), 2)), NA()) -> #VALUE! | H29: =IF(ROUND(VALUE(SUBSTITUTE(連結実質赤字比率に係る赤字・黒字の構成分析!I$41,"▲", "-")), 2) < 0, ABS(ROUND(VALUE(SUBSTITUTE(連結実質赤字比率に係る赤字・黒字の構成分析!I$41,"▲", "-")), 2)), NA()) -> #VALUE! | I29: =IF(ROUND(VALUE(SUBSTITUTE(連結実質赤字比率に係る赤字・黒字の構成分析!I$41,"▲", "-")), 2) >= 0, ABS(ROUND(VALUE(SUBSTITUTE(連結実質赤字比率に係る赤字・黒字の構成分析!I$41,"▲", "-")), 2)), NA()) -> #VALUE! | J29: =IF(ROUND(VALUE(SUBSTITUTE(連結実質赤字比率に係る赤字・黒字の構成分析!J$41,"▲", "-")), 2) < 0, ABS(ROUND(VALUE(SUBSTITUTE(連結実質赤字比率に係る赤字・黒字の構成分析!J$41,"▲", "-")), 2)), NA()) -> #VALUE! | K29: =IF(ROUND(VALUE(SUBSTITUTE(連結実質赤字比率に係る赤字・黒字の構成分析!J$41,"▲", "-")), 2) >= 0, ABS(ROUND(VALUE(SUBSTITUTE(連結実質赤字比率に係る赤字・黒字の構成分析!J$41,"▲", "-")), 2)), NA()) -> #VALUE!
A30: =IF(連結実質赤字比率に係る赤字・黒字の構成分析!C$40="",NA(),連結実質赤字比率に係る赤字・黒字の構成分析!C$40) -> 後期高齢者医療特別会計 | B30: =IF(ROUND(VALUE(SUBSTITUTE(連結実質赤字比率に係る赤字・黒字の構成分析!F$40,"▲", "-")), 2) < 0, ABS(ROUND(VALUE(SUBSTITUTE(連結実質赤字比率に係る赤字・黒字の構成分析!F$40,"▲", "-")), 2)), NA()) -> #N/A | C30: =IF(ROUND(VALUE(SUBSTITUTE(連結実質赤字比率に係る赤字・黒字の構成分析!F$40,"▲", "-")), 2) >= 0, ABS(ROUND(VALUE(SUBSTITUTE(連結実質赤字比率に係る赤字・黒字の構成分析!F$40,"▲", "-")), 2)), NA()) -> 0.05 | D30: =IF(ROUND(VALUE(SUBSTITUTE(連結実質赤字比率に係る赤字・黒字の構成分析!G$40,"▲", "-")), 2) < 0, ABS(ROUND(VALUE(SUBSTITUTE(連結実質赤字比率に係る赤字・黒字の構成分析!G$40,"▲", "-")), 2)), NA()) -> #N/A | E30: =IF(ROUND(VALUE(SUBSTITUTE(連結実質赤字比率に係る赤字・黒字の構成分析!G$40,"▲", "-")), 2) >= 0, ABS(ROUND(VALUE(SUBSTITUTE(連結実質赤字比率に係る赤字・黒字の構成分析!G$40,"▲", "-")), 2)), NA()) -> 0.08 | F30: =IF(ROUND(VALUE(SUBSTITUTE(連結実質赤字比率に係る赤字・黒字の構成分析!H$40,"▲", "-")), 2) < 0, ABS(ROUND(VALUE(SUBSTITUTE(連結実質赤字比率に係る赤字・黒字の構成分析!H$40,"▲", "-")), 2)), NA()) -> #N/A | G30: =IF(ROUND(VALUE(SUBSTITUTE(連結実質赤字比率に係る赤字・黒字の構成分析!H$40,"▲", "-")), 2) >= 0, ABS(ROUND(VALUE(SUBSTITUTE(連結実質赤字比率に係る赤字・黒字の構成分析!H$40,"▲", "-")), 2)), NA()) -> 0.07 | H30: =IF(ROUND(VALUE(SUBSTITUTE(連結実質赤字比率に係る赤字・黒字の構成分析!I$40,"▲", "-")), 2) < 0, ABS(ROUND(VALUE(SUBSTITUTE(連結実質赤字比率に係る赤字・黒字の構成分析!I$40,"▲", "-")), 2)), NA()) -> #N/A | I30: =IF(ROUND(VALUE(SUBSTITUTE(連結実質赤字比率に係る赤字・黒字の構成分析!I$40,"▲", "-")), 2) >= 0, ABS(ROUND(VALUE(SUBSTITUTE(連結実質赤字比率に係る赤字・黒字の構成分析!I$40,"▲", "-")), 2)), NA()) -> 0.1 | J30: =IF(ROUND(VALUE(SUBSTITUTE(連結実質赤字比率に係る赤字・黒字の構成分析!J$40,"▲", "-")), 2) < 0, ABS(ROUND(VALUE(SUBSTITUTE(連結実質赤字比率に係る赤字・黒字の構成分析!J$40,"▲", "-")), 2)), NA()) -> #N/A | K30: =IF(ROUND(VALUE(SUBSTITUTE(連結実質赤字比率に係る赤字・黒字の構成分析!J$40,"▲", "-")), 2) >= 0, ABS(ROUND(VALUE(SUBSTITUTE(連結実質赤字比率に係る赤字・黒字の構成分析!J$40,"▲", "-")), 2)), NA()) -> 0.06
A31: =IF(連結実質赤字比率に係る赤字・黒字の構成分析!C$39="",NA(),連結実質赤字比率に係る赤字・黒字の構成分析!C$39) -> 公共下水道事業特別会計 | B31: =IF(ROUND(VALUE(SUBSTITUTE(連結実質赤字比率に係る赤字・黒字の構成分析!F$39,"▲", "-")), 2) < 0, ABS(ROUND(VALUE(SUBSTITUTE(連結実質赤字比率に係る赤字・黒字の構成分析!F$39,"▲", "-")), 2)), NA()) -> #N/A | C31: =IF(ROUND(VALUE(SUBSTITUTE(連結実質赤字比率に係る赤字・黒字の構成分析!F$39,"▲", "-")), 2) >= 0, ABS(ROUND(VALUE(SUBSTITUTE(連結実質赤字比率に係る赤字・黒字の構成分析!F$39,"▲", "-")), 2)), NA()) -> 0.07 | D31: =IF(ROUND(VALUE(SUBSTITUTE(連結実質赤字比率に係る赤字・黒字の構成分析!G$39,"▲", "-")), 2) < 0, ABS(ROUND(VALUE(SUBSTITUTE(連結実質赤字比率に係る赤字・黒字の構成分析!G$39,"▲", "-")), 2)), NA()) -> #N/A | E31: =IF(ROUND(VALUE(SUBSTITUTE(連結実質赤字比率に係る赤字・黒字の構成分析!G$39,"▲", "-")), 2) >= 0, ABS(ROUND(VALUE(SUBSTITUTE(連結実質赤字比率に係る赤字・黒字の構成分析!G$39,"▲", "-")), 2)), NA()) -> 0.11 | F31: =IF(ROUND(VALUE(SUBSTITUTE(連結実質赤字比率に係る赤字・黒字の構成分析!H$39,"▲", "-")), 2) < 0, ABS(ROUND(VALUE(SUBSTITUTE(連結実質赤字比率に係る赤字・黒字の構成分析!H$39,"▲", "-")), 2)), NA()) -> #N/A | G31: =IF(ROUND(VALUE(SUBSTITUTE(連結実質赤字比率に係る赤字・黒字の構成分析!H$39,"▲", "-")), 2) >= 0, ABS(ROUND(VALUE(SUBSTITUTE(連結実質赤字比率に係る赤字・黒字の構成分析!H$39,"▲", "-")), 2)), NA()) -> 0.15 | H31: =IF(ROUND(VALUE(SUBSTITUTE(連結実質赤字比率に係る赤字・黒字の構成分析!I$39,"▲", "-")), 2) < 0, ABS(ROUND(VALUE(SUBSTITUTE(連結実質赤字比率に係る赤字・黒字の構成分析!I$39,"▲", "-")), 2)), NA()) -> #N/A | I31: =IF(ROUND(VALUE(SUBSTITUTE(連結実質赤字比率に係る赤字・黒字の構成分析!I$39,"▲", "-")), 2) >= 0, ABS(ROUND(VALUE(SUBSTITUTE(連結実質赤字比率に係る赤字・黒字の構成分析!I$39,"▲", "-")), 2)), NA()) -> 0.11 | J31: =IF(ROUND(VALUE(SUBSTITUTE(連結実質赤字比率に係る赤字・黒字の構成分析!J$39,"▲", "-")), 2) < 0, ABS(ROUND(VALUE(SUBSTITUTE(連結実質赤字比率に係る赤字・黒字の構成分析!J$39,"▲", "-")), 2)), NA()) -> #N/A | K31: =IF(ROUND(VALUE(SUBSTITUTE(連結実質赤字比率に係る赤字・黒字の構成分析!J$39,"▲", "-")), 2) >= 0, ABS(ROUND(VALUE(SUBSTITUTE(連結実質赤字比率に係る赤字・黒字の構成分析!J$39,"▲", "-")), 2)), NA()) -> 0.11
A32: =IF(連結実質赤字比率に係る赤字・黒字の構成分析!C$38="",NA(),連結実質赤字比率に係る赤字・黒字の構成分析!C$38) -> 地域集落排水事業特別会計 | B32: =IF(ROUND(VALUE(SUBSTITUTE(連結実質赤字比率に係る赤字・黒字の構成分析!F$38,"▲", "-")), 2) < 0, ABS(ROUND(VALUE(SUBSTITUTE(連結実質赤字比率に係る赤字・黒字の構成分析!F$38,"▲", "-")), 2)), NA()) -> #N/A | C32: =IF(ROUND(VALUE(SUBSTITUTE(連結実質赤字比率に係る赤字・黒字の構成分析!F$38,"▲", "-")), 2) >= 0, ABS(ROUND(VALUE(SUBSTITUTE(連結実質赤字比率に係る赤字・黒字の構成分析!F$38,"▲", "-")), 2)), NA()) -> 0.05 | D32: =IF(ROUND(VALUE(SUBSTITUTE(連結実質赤字比率に係る赤字・黒字の構成分析!G$38,"▲", "-")), 2) < 0, ABS(ROUND(VALUE(SUBSTITUTE(連結実質赤字比率に係る赤字・黒字の構成分析!G$38,"▲", "-")), 2)), NA()) -> #N/A | E32: =IF(ROUND(VALUE(SUBSTITUTE(連結実質赤字比率に係る赤字・黒字の構成分析!G$38,"▲", "-")), 2) >= 0, ABS(ROUND(VALUE(SUBSTITUTE(連結実質赤字比率に係る赤字・黒字の構成分析!G$38,"▲", "-")), 2)), NA()) -> 0.08 | F32: =IF(ROUND(VALUE(SUBSTITUTE(連結実質赤字比率に係る赤字・黒字の構成分析!H$38,"▲", "-")), 2) < 0, ABS(ROUND(VALUE(SUBSTITUTE(連結実質赤字比率に係る赤字・黒字の構成分析!H$38,"▲", "-")), 2)), NA()) -> #N/A | G32: =IF(ROUND(VALUE(SUBSTITUTE(連結実質赤字比率に係る赤字・黒字の構成分析!H$38,"▲", "-")), 2) >= 0, ABS(ROUND(VALUE(SUBSTITUTE(連結実質赤字比率に係る赤字・黒字の構成分析!H$38,"▲", "-")), 2)), NA()) -> 0.11 | H32: =IF(ROUND(VALUE(SUBSTITUTE(連結実質赤字比率に係る赤字・黒字の構成分析!I$38,"▲", "-")), 2) < 0, ABS(ROUND(VALUE(SUBSTITUTE(連結実質赤字比率に係る赤字・黒字の構成分析!I$38,"▲", "-")), 2)), NA()) -> #N/A | I32: =IF(ROUND(VALUE(SUBSTITUTE(連結実質赤字比率に係る赤字・黒字の構成分析!I$38,"▲", "-")), 2) >= 0, ABS(ROUND(VALUE(SUBSTITUTE(連結実質赤字比率に係る赤字・黒字の構成分析!I$38,"▲", "-")), 2)), NA()) -> 0.22 | J32: =IF(ROUND(VALUE(SUBSTITUTE(連結実質赤字比率に係る赤字・黒字の構成分析!J$38,"▲", "-")), 2) < 0, ABS(ROUND(VALUE(SUBSTITUTE(連結実質赤字比率に係る赤字・黒字の構成分析!J$38,"▲", "-")), 2)), NA()) -> #N/A | K32: =IF(ROUND(VALUE(SUBSTITUTE(連結実質赤字比率に係る赤字・黒字の構成分析!J$38,"▲", "-")), 2) >= 0, ABS(ROUND(VALUE(SUBSTITUTE(連結実質赤字比率に係る赤字・黒字の構成分析!J$38,"▲", "-")), 2)), NA()) -> 0.26
A33: =IF(連結実質赤字比率に係る赤字・黒字の構成分析!C$37="",NA(),連結実質赤字比率に係る赤字・黒字の構成分析!C$37) -> 国民健康保険特別会計 | B33: =IF(ROUND(VALUE(SUBSTITUTE(連結実質赤字比率に係る赤字・黒字の構成分析!F$37,"▲", "-")), 2) < 0, ABS(ROUND(VALUE(SUBSTITUTE(連結実質赤字比率に係る赤字・黒字の構成分析!F$37,"▲", "-")), 2)), NA()) -> #N/A | C33: =IF(ROUND(VALUE(SUBSTITUTE(連結実質赤字比率に係る赤字・黒字の構成分析!F$37,"▲", "-")), 2) >= 0, ABS(ROUND(VALUE(SUBSTITUTE(連結実質赤字比率に係る赤字・黒字の構成分析!F$37,"▲", "-")), 2)), NA()) -> 4.18 | D33: =IF(ROUND(VALUE(SUBSTITUTE(連結実質赤字比率に係る赤字・黒字の構成分析!G$37,"▲", "-")), 2) < 0, ABS(ROUND(VALUE(SUBSTITUTE(連結実質赤字比率に係る赤字・黒字の構成分析!G$37,"▲", "-")), 2)), NA()) -> #N/A | E33: =IF(ROUND(VALUE(SUBSTITUTE(連結実質赤字比率に係る赤字・黒字の構成分析!G$37,"▲", "-")), 2) >= 0, ABS(ROUND(VALUE(SUBSTITUTE(連結実質赤字比率に係る赤字・黒字の構成分析!G$37,"▲", "-")), 2)), NA()) -> 3.61 | F33: =IF(ROUND(VALUE(SUBSTITUTE(連結実質赤字比率に係る赤字・黒字の構成分析!H$37,"▲", "-")), 2) < 0, ABS(ROUND(VALUE(SUBSTITUTE(連結実質赤字比率に係る赤字・黒字の構成分析!H$37,"▲", "-")), 2)), NA()) -> #N/A | G33: =IF(ROUND(VALUE(SUBSTITUTE(連結実質赤字比率に係る赤字・黒字の構成分析!H$37,"▲", "-")), 2) >= 0, ABS(ROUND(VALUE(SUBSTITUTE(連結実質赤字比率に係る赤字・黒字の構成分析!H$37,"▲", "-")), 2)), NA()) -> 5.17 | H33: =IF(ROUND(VALUE(SUBSTITUTE(連結実質赤字比率に係る赤字・黒字の構成分析!I$37,"▲", "-")), 2) < 0, ABS(ROUND(VALUE(SUBSTITUTE(連結実質赤字比率に係る赤字・黒字の構成分析!I$37,"▲", "-")), 2)), NA()) -> #N/A | I33: =IF(ROUND(VALUE(SUBSTITUTE(連結実質赤字比率に係る赤字・黒字の構成分析!I$37,"▲", "-")), 2) >= 0, ABS(ROUND(VALUE(SUBSTITUTE(連結実質赤字比率に係る赤字・黒字の構成分析!I$37,"▲", "-")), 2)), NA()) -> 2.66 | J33: =IF(ROUND(VALUE(SUBSTITUTE(連結実質赤字比率に係る赤字・黒字の構成分析!J$37,"▲", "-")), 2) < 0, ABS(ROUND(VALUE(SUBSTITUTE(連結実質赤字比率に係る赤字・黒字の構成分析!J$37,"▲", "-")), 2)), NA()) -> #N/A | K33: =IF(ROUND(VALUE(SUBSTITUTE(連結実質赤字比率に係る赤字・黒字の構成分析!J$37,"▲", "-")), 2) >= 0, ABS(ROUND(VALUE(SUBSTITUTE(連結実質赤字比率に係る赤字・黒字の構成分析!J$37,"▲", "-")), 2)), NA()) -> 0.86
A34: =IF(連結実質赤字比率に係る赤字・黒字の構成分析!C$36="",NA(),連結実質赤字比率に係る赤字・黒字の構成分析!C$36) -> 介護保険特別会計 | B34: =IF(ROUND(VALUE(SUBSTITUTE(連結実質赤字比率に係る赤字・黒字の構成分析!F$36,"▲", "-")), 2) < 0, ABS(ROUND(VALUE(SUBSTITUTE(連結実質赤字比率に係る赤字・黒字の構成分析!F$36,"▲", "-")), 2)), NA()) -> #N/A | C34: =IF(ROUND(VALUE(SUBSTITUTE(連結実質赤字比率に係る赤字・黒字の構成分析!F$36,"▲", "-")), 2) >= 0, ABS(ROUND(VALUE(SUBSTITUTE(連結実質赤字比率に係る赤字・黒字の構成分析!F$36,"▲", "-")), 2)), NA()) -> 1.44 | D34: =IF(ROUND(VALUE(SUBSTITUTE(連結実質赤字比率に係る赤字・黒字の構成分析!G$36,"▲", "-")), 2) < 0, ABS(ROUND(VALUE(SUBSTITUTE(連結実質赤字比率に係る赤字・黒字の構成分析!G$36,"▲", "-")), 2)), NA()) -> #N/A | E34: =IF(ROUND(VALUE(SUBSTITUTE(連結実質赤字比率に係る赤字・黒字の構成分析!G$36,"▲", "-")), 2) >= 0, ABS(ROUND(VALUE(SUBSTITUTE(連結実質赤字比率に係る赤字・黒字の構成分析!G$36,"▲", "-")), 2)), NA()) -> 1.55 | F34: =IF(ROUND(VALUE(SUBSTITUTE(連結実質赤字比率に係る赤字・黒字の構成分析!H$36,"▲", "-")), 2) < 0, ABS(ROUND(VALUE(SUBSTITUTE(連結実質赤字比率に係る赤字・黒字の構成分析!H$36,"▲", "-")), 2)), NA()) -> #N/A | G34: =IF(ROUND(VALUE(SUBSTITUTE(連結実質赤字比率に係る赤字・黒字の構成分析!H$36,"▲", "-")), 2) >= 0, ABS(ROUND(VALUE(SUBSTITUTE(連結実質赤字比率に係る赤字・黒字の構成分析!H$36,"▲", "-")), 2)), NA()) -> 1.4 | H34: =IF(ROUND(VALUE(SUBSTITUTE(連結実質赤字比率に係る赤字・黒字の構成分析!I$36,"▲", "-")), 2) < 0, ABS(ROUND(VALUE(SUBSTITUTE(連結実質赤字比率に係る赤字・黒字の構成分析!I$36,"▲", "-")), 2)), NA()) -> #N/A | I34: =IF(ROUND(VALUE(SUBSTITUTE(連結実質赤字比率に係る赤字・黒字の構成分析!I$36,"▲", "-")), 2) >= 0, ABS(ROUND(VALUE(SUBSTITUTE(連結実質赤字比率に係る赤字・黒字の構成分析!I$36,"▲", "-")), 2)), NA()) -> 1.21 | J34: =IF(ROUND(VALUE(SUBSTITUTE(連結実質赤字比率に係る赤字・黒字の構成分析!J$36,"▲", "-")), 2) < 0, ABS(ROUND(VALUE(SUBSTITUTE(連結実質赤字比率に係る赤字・黒字の構成分析!J$36,"▲", "-")), 2)), NA()) -> #N/A | K34: =IF(ROUND(VALUE(SUBSTITUTE(連結実質赤字比率に係る赤字・黒字の構成分析!J$36,"▲", "-")), 2) >= 0, ABS(ROUND(VALUE(SUBSTITUTE(連結実質赤字比率に係る赤字・黒字の構成分析!J$36,"▲", "-")), 2)), NA()) -> 2.48
A35: =IF(連結実質赤字比率に係る赤字・黒字の構成分析!C$35="",NA(),連結実質赤字比率に係る赤字・黒字の構成分析!C$35) -> 一般会計 | B35: =IF(ROUND(VALUE(SUBSTITUTE(連結実質赤字比率に係る赤字・黒字の構成分析!F$35,"▲", "-")), 2) < 0, ABS(ROUND(VALUE(SUBSTITUTE(連結実質赤字比率に係る赤字・黒字の構成分析!F$35,"▲", "-")), 2)), NA()) -> #N/A | C35: =IF(ROUND(VALUE(SUBSTITUTE(連結実質赤字比率に係る赤字・黒字の構成分析!F$35,"▲", "-")), 2) >= 0, ABS(ROUND(VALUE(SUBSTITUTE(連結実質赤字比率に係る赤字・黒字の構成分析!F$35,"▲", "-")), 2)), NA()) -> 6.52 | D35: =IF(ROUND(VALUE(SUBSTITUTE(連結実質赤字比率に係る赤字・黒字の構成分析!G$35,"▲", "-")), 2) < 0, ABS(ROUND(VALUE(SUBSTITUTE(連結実質赤字比率に係る赤字・黒字の構成分析!G$35,"▲", "-")), 2)), NA()) -> #N/A | E35: =IF(ROUND(VALUE(SUBSTITUTE(連結実質赤字比率に係る赤字・黒字の構成分析!G$35,"▲", "-")), 2) >= 0, ABS(ROUND(VALUE(SUBSTITUTE(連結実質赤字比率に係る赤字・黒字の構成分析!G$35,"▲", "-")), 2)), NA()) -> 6.69 | F35: =IF(ROUND(VALUE(SUBSTITUTE(連結実質赤字比率に係る赤字・黒字の構成分析!H$35,"▲", "-")), 2) < 0, ABS(ROUND(VALUE(SUBSTITUTE(連結実質赤字比率に係る赤字・黒字の構成分析!H$35,"▲", "-")), 2)), NA()) -> #N/A | G35: =IF(ROUND(VALUE(SUBSTITUTE(連結実質赤字比率に係る赤字・黒字の構成分析!H$35,"▲", "-")), 2) >= 0, ABS(ROUND(VALUE(SUBSTITUTE(連結実質赤字比率に係る赤字・黒字の構成分析!H$35,"▲", "-")), 2)), NA()) -> 9.22 | H35: =IF(ROUND(VALUE(SUBSTITUTE(連結実質赤字比率に係る赤字・黒字の構成分析!I$35,"▲", "-")), 2) < 0, ABS(ROUND(VALUE(SUBSTITUTE(連結実質赤字比率に係る赤字・黒字の構成分析!I$35,"▲", "-")), 2)), NA()) -> #N/A | I35: =IF(ROUND(VALUE(SUBSTITUTE(連結実質赤字比率に係る赤字・黒字の構成分析!I$35,"▲", "-")), 2) >= 0, ABS(ROUND(VALUE(SUBSTITUTE(連結実質赤字比率に係る赤字・黒字の構成分析!I$35,"▲", "-")), 2)), NA()) -> 9 | J35: =IF(ROUND(VALUE(SUBSTITUTE(連結実質赤字比率に係る赤字・黒字の構成分析!J$35,"▲", "-")), 2) < 0, ABS(ROUND(VALUE(SUBSTITUTE(連結実質赤字比率に係る赤字・黒字の構成分析!J$35,"▲", "-")), 2)), NA()) -> #N/A | K35: =IF(ROUND(VALUE(SUBSTITUTE(連結実質赤字比率に係る赤字・黒字の構成分析!J$35,"▲", "-")), 2) >= 0, ABS(ROUND(VALUE(SUBSTITUTE(連結実質赤字比率に係る赤字・黒字の構成分析!J$35,"▲", "-")), 2)), NA()) -> 9.46
A36: =IF(連結実質赤字比率に係る赤字・黒字の構成分析!C$34="",NA(),連結実質赤字比率に係る赤字・黒字の構成分析!C$34) -> 水道事業会計 | B36: =IF(ROUND(VALUE(SUBSTITUTE(連結実質赤字比率に係る赤字・黒字の構成分析!F$34,"▲", "-")), 2) < 0, ABS(ROUND(VALUE(SUBSTITUTE(連結実質赤字比率に係る赤字・黒字の構成分析!F$34,"▲", "-")), 2)), NA()) -> #N/A | C36: =IF(ROUND(VALUE(SUBSTITUTE(連結実質赤字比率に係る赤字・黒字の構成分析!F$34,"▲", "-")), 2) >= 0, ABS(ROUND(VALUE(SUBSTITUTE(連結実質赤字比率に係る赤字・黒字の構成分析!F$34,"▲", "-")), 2)), NA()) -> 8.55 | D36: =IF(ROUND(VALUE(SUBSTITUTE(連結実質赤字比率に係る赤字・黒字の構成分析!G$34,"▲", "-")), 2) < 0, ABS(ROUND(VALUE(SUBSTITUTE(連結実質赤字比率に係る赤字・黒字の構成分析!G$34,"▲", "-")), 2)), NA()) -> #N/A | E36: =IF(ROUND(VALUE(SUBSTITUTE(連結実質赤字比率に係る赤字・黒字の構成分析!G$34,"▲", "-")), 2) >= 0, ABS(ROUND(VALUE(SUBSTITUTE(連結実質赤字比率に係る赤字・黒字の構成分析!G$34,"▲", "-")), 2)), NA()) -> 8.17 | F36: =IF(ROUND(VALUE(SUBSTITUTE(連結実質赤字比率に係る赤字・黒字の構成分析!H$34,"▲", "-")), 2) < 0, ABS(ROUND(VALUE(SUBSTITUTE(連結実質赤字比率に係る赤字・黒字の構成分析!H$34,"▲", "-")), 2)), NA()) -> #N/A | G36: =IF(ROUND(VALUE(SUBSTITUTE(連結実質赤字比率に係る赤字・黒字の構成分析!H$34,"▲", "-")), 2) >= 0, ABS(ROUND(VALUE(SUBSTITUTE(連結実質赤字比率に係る赤字・黒字の構成分析!H$34,"▲", "-")), 2)), NA()) -> 8.23 | H36: =IF(ROUND(VALUE(SUBSTITUTE(連結実質赤字比率に係る赤字・黒字の構成分析!I$34,"▲", "-")), 2) < 0, ABS(ROUND(VALUE(SUBSTITUTE(連結実質赤字比率に係る赤字・黒字の構成分析!I$34,"▲", "-")), 2)), NA()) -> #N/A | I36: =IF(ROUND(VALUE(SUBSTITUTE(連結実質赤字比率に係る赤字・黒字の構成分析!I$34,"▲", "-")), 2) >= 0, ABS(ROUND(VALUE(SUBSTITUTE(連結実質赤字比率に係る赤字・黒字の構成分析!I$34,"▲", "-")), 2)), NA()) -> 10.37 | J36: =IF(ROUND(VALUE(SUBSTITUTE(連結実質赤字比率に係る赤字・黒字の構成分析!J$34,"▲", "-")), 2) < 0, ABS(ROUND(VALUE(SUBSTITUTE(連結実質赤字比率に係る赤字・黒字の構成分析!J$34,"▲", "-")), 2)), NA()) -> #N/A | K36: =IF(ROUND(VALUE(SUBSTITUTE(連結実質赤字比率に係る赤字・黒字の構成分析!J$34,"▲", "-")), 2) >= 0, ABS(ROUND(VALUE(SUBSTITUTE(連結実質赤字比率に係る赤字・黒字の構成分析!J$34,"▲", "-")), 2)), NA()) -> 10.35
A39: 実質公債費比率（分子）の構造
B40: ='実質公債費比率（分子）の構造'!K$44 -> H26 | E40: ='実質公債費比率（分子）の構造'!L$44 -> H27 | H40: ='実質公債費比率（分子）の構造'!M$44 -> H28 | K40: ='実質公債費比率（分子）の構造'!N$44 -> H29 | N40: ='実質公債費比率（分子）の構造'!O$44 -> H30
B41: 元利償還金等 | D41: 算入公債費等 | E41: 元利償還金等 | G41: 算入公債費等 | H41: 元利償還金等 | J41: 算入公債費等 | K41: 元利償還金等 | M41: 算入公債費等 | N41: 元利償還金等 | P41: 算入公債費等
A42: 算入公債費等 | D42: ='実質公債費比率（分子）の構造'!K$52 -> 808 | G42: ='実質公債費比率（分子）の構造'!L$52 -> 802 | J42: ='実質公債費比率（分子）の構造'!M$52 -> 789 | M42: ='実質公債費比率（分子）の構造'!N$52 -> 831 | P42: ='実質公債費比率（分子）の構造'!O$52 -> 838
A43: 一時借入金の利子 | B43: ='実質公債費比率（分子）の構造'!K$51 -> - | E43: ='実質公債費比率（分子）の構造'!L$51 -> - | H43: ='実質公債費比率（分子）の構造'!M$51 -> - | K43: ='実質公債費比率（分子）の構造'!N$51 -> - | N43: ='実質公債費比率（分子）の構造'!O$51 -> -
A44: 債務負担行為に基づく支出額 | B44: ='実質公債費比率（分子）の構造'!K$50 -> 17 | E44: ='実質公債費比率（分子）の構造'!L$50 -> 11 | H44: ='実質公債費比率（分子）の構造'!M$50 -> - | K44: ='実質公債費比率（分子）の構造'!N$50 -> - | N44: ='実質公債費比率（分子）の構造'!O$50 -> -
A45: 組合等が起こした地方債の元利償還金に対する負担金等 | B45: ='実質公債費比率（分子）の構造'!K$49 -> 47 | E45: ='実質公債費比率（分子）の構造'!L$49 -> 38 | H45: ='実質公債費比率（分子）の構造'!M$49 -> 21 | K45: ='実質公債費比率（分子）の構造'!N$49 -> 2 | N45: ='実質公債費比率（分子）の構造'!O$49 -> 2
A46: 公営企業債の元利償還金に対する繰入金 | B46: ='実質公債費比率（分子）の構造'!K$48 -> 362 | E46: ='実質公債費比率（分子）の構造'!L$48 -> 366 | H46: ='実質公債費比率（分子）の構造'!M$48 -> 438 | K46: ='実質公債費比率（分子）の構造'!N$48 -> 448 | N46: ='実質公債費比率（分子）の構造'!O$48 -> 458
A47: 満期一括償還地方債に係る年度割相当額 | B47: ='実質公債費比率（分子）の構造'!K$47 -> - | E47: ='実質公債費比率（分子）の構造'!L$47 -> - | H47: ='実質公債費比率（分子）の構造'!M$47 -> - | K47: ='実質公債費比率（分子）の構造'!N$47 -> - | N47: ='実質公債費比率（分子）の構造'!O$47 -> -
...

Sheet 公会計指標分析・財政指標組合せ分析表
EM10: a
EM12: a
B41: 将来負担比率及び有形固定資産減価償却率の組合せによる分析
AN42: 分析欄
AN43: 将来負担比率、有形固定資産減価償却率とも前年度より上昇し、類似団体平均を上回っている。公共施設等総合管理計画に基づき、定期的な点検や診断結果に基づく計画的な保全による長寿命化や、施設保有量の最適化に向けた取り組みを行う。
AN49: ( 参考 ）
BP50: H26 | BX50: H27 | CF50: H28 | CN50: H29 | CV50: H30
AN51: 当該団体値 | BB51: 将来負担比率 | BX51: 39.5 | CF51: 50.1 | CN51: 44.8 | CV51: 49.3
BB53: 有形固定資産減価償却率 | BX53: 55.9 | CF53: 57.2 | CN53: 58.8 | CV53: 60.7
AN55: 類似団体内平均値 | BB55: 将来負担比率 | BX55: 20.2 | CF55: 38.5 | CN55: 32.8 | CV55: 20.9
BB57: 有形固定資産減価償却率 | BX57: 55.8 | CF57: 57.6 | CN57: 58.9 | CV57: 60.2
B63: 将来負担比率及び実質公債費比率の組合せによる分析
AN64: 分析欄
AN65: 実質公債費比率は類似団体と比較して低い水準にあるが、将来負担比率は類似団体と比較すると高い状況にある。平成２２年度から借り入れが始まった過疎債の償還が平成２６年度より始まり、以降の年度においては徐々に実質公債費比率が上昇していくことが考えられるため、これまで以上に公債費の適正化に取り組んでいく必要がある。
AN71: ( 参考 ）
BP72: H26 | BX72: H27 | CF72: H28 | CN72: H29 | CV72: H30
AN73: 当該団体値 | BB73: 将来負担比率 | BP73: 50.8 | BX73: 39.5 | CF73: 50.1 | CN73: 44.8 | CV73: 49.3
BB75: 実質公債費比率 | BP75: 9 | BX75: 8.4 | CF75: 8 | CN75: 7.9 | CV75: 8.4
AN77: 類似団体内平均値 | BB77: 将来負担比率 | BP77: 48.7 | BX77: 20.2 | CF77: 38.5 | CN77: 32.8 | CV77: 20.9
BB79: 実質公債費比率 | BP79: 10.4 | BX79: 9.3 | CF79: 9.2 | CN79: 9.1 | CV79: 9.1

Sheet 施設類型別ストック情報分析表①

Sheet 施設類型別ストック情報分析表②
