Workbook
Name _TK503: #REF!
Name _TK503: #REF!
Name rinku: #REF!
Name rinku: #REF!
Name SAN: #REF!
Name SAN: #REF!
Name YON: #REF!
Name YON: #REF!
Name 医療６０: #REF!
Name 医療６０: #REF!
Name 医療６１: #REF!
Name 医療６１: #REF!
Name 医療６２: #REF!
Name 医療６２: #REF!
Name 教育６０: #REF!
Name 教育６０: #REF!
Name 教育６１: #REF!
Name 教育６１: #REF!
Name 教育６２: #REF!
Name 教育６２: #REF!
Name 石油製品: '[1]第２次産業 '!#REF!
Name 石油製品: '[1]第２次産業 '!#REF!
Name 総括表へ: [2]資本04!#REF!
Name 総括表へ: [2]資本04!#REF!
Name 他サビ６０: #REF!
Name 他サビ６０: #REF!
Name 他サビ６１: #REF!
Name 他サビ６１: #REF!
Name 他サビ６２: #REF!
Name 他サビ６２: #REF!
Name 他構成比: #REF!
Name 他構成比: #REF!
Name 保留１: #REF!
Name 保留１: #REF!
Name 保留13: #REF!
Name 保留13: #REF!
Name 保留２: #REF!
Name 保留２: #REF!
Name 保留３: #REF!
Name 保留３: #REF!
Name 保留４: #REF!
Name 保留４: #REF!
Name 保留５: #REF!
Name 保留５: #REF!
Name 保留６: #REF!
Name 保留６: #REF!
Name 保留９: #REF!
Name 保留９: #REF!

Sheet 留意事項
B2: 利用に当たっての留意事項
B4: 経済波及効果分析は、一定条件のもとで分析が行われるということに留意する必要があります。
B5: このような留意点があることを理解した上でご利用願います。
B7: ① | C7: 産業連関表は原則として５年毎に作成されているため、産業連関表の示す産業構造は、分析対象時点の実
C8: 際の産業構造とは異なります。
B9: ② | C9: 分析結果は、産業連関表作成対象年である令和2年の価格で表示されることとなります。
B10: ③ | C10: 経済波及効果の計算の前提条件として、商品の生産に必要な投入構造は、短期的には変化せず、一定で
C11: あると仮定しています。
B12: ④ | C12: 生産技術や域内自給率などの経済的条件は、生産波及過程において変化しないと仮定しています。
B13: ⑤ | C13: すべての生産は、最終需要を満たすために行われるものと仮定しています。
B14: ⑥ | C14: 生産を行う上での制約条件は存在せず、原材料、生産能力等の限界はないと仮定し ています。
B15: ⑦ | C15: 生産量が２倍になれば投入量（原材料等）も２倍になる（線形的比例関係）と 仮定しています（つまり、「規模
C16: の経済性」はないものとしています）。
B17: ⑧ | C17: 生産波及は途中で中断することなく、最後まで波及するものと仮定しています（在庫取崩し等による波及の中
C18: 断はないものとしています）。
B19: ⑨ | C19: 外部経済、外部不経済は働かないものと仮定しています。
B20: ⑩ | C20: 波及効果の所要時間は明確ではなく、必ずしも１年以内に起こるとは限りません。
B21: ⑪ | C21: 分析事案の最終需要増加額の推計方法や消費転換率等の各種係数の設定条件により、分析結果は異なっ
C22: てきます。
B23: ⑫ | C23: 同じ分析事案でも、使用する部門表により経済波及効果の計算結果は異なります。
B25: その他
B27: ・このツールによる分析結果は一つの計算例であり、様々な仮定・前提条件の上で推計しているため、実際の経済波及
B28: 効果を保証するものではありません。分析する方の責任において利用してください。
B29: ・本ツールを使用した分析結果等を外部に公表する場合は、下記担当までご連絡くださるようお願いします。

Sheet 入力
B2: 利用の手順
B3: ① | C3: 分析タイトル・内容を入力してください。
B4: ② | C4: 需要の増加額及び県内自給率を、産業分類別に入力してください。
C5: ※増加額が生産者価格である場合は「生産者価格」に、購入者価格である場合は「購入者価格」に入力してください。
C6: ※県内自給率が不明の場合は空欄にしてください。その場合、産業連関表の自給率により計算します。
C7: ※分析対象がどの産業分類に該当するかは、別シート「部門分類表」を参照してください。
B8: ③ | C8: 消費転換率を入力してください。
C9: ※初期状態では、山形市の平均消費性向が入力されています。 | G9: →入力後、「計算結果（総括表）」へ
B10: ①
B11: 分析タイトル
B13: 分析内容
B16: ② | J16: ③
E17: 需要の増加 | J17: 消費転換率
B18: 生産者価格／購入者価格 | E18: 生産者価格 | G18: 購入者価格
F19: 左の域内自給率 | H19: 左の域内自給率 | J19: 0.518
B20: 単位 | E20: 万円 | F20: ％ | G20: 万円 | H20: ％
B21: 合計 | E21: =SUM(E22:E129) -> 0 | G21: =SUM(G22:G129) -> 0
B22: 011 | C22: 耕種農業
B23: 012 | C23: 畜産
B24: 013 | C24: 農業サービス
B25: 015 | C25: 林業
B26: 017 | C26: 漁業
B27: 061 | C27: 石炭・原油・天然ガス
B28: 062 | C28: その他の鉱業
B29: 111 | C29: 食料品
B30: 112 | C30: 飲料
B31: 113 | C31: 飼料・有機質肥料（別掲を除く。）
B32: 114 | C32: たばこ
B33: 151 | C33: 繊維工業製品
... B129: 691 | C129: 分類不明

Sheet 部門分類表
A2: 分析対象の部門分類を「統合小分類（188部門）」～「財・サービスの例」から検索し、対応する「統合中分類（108部門）」に数値を計上してください。
A4: 13部門 | B4: 統合大分類（39部門） | C4: 統合中分類（108部門） | D4: 統合小分類（188部門） | E4: 基本分類（391部門） | F4: 財・サービスの例
A5: 農林水産業 | B5: 農業 | C5: 耕種農業 | D5: 穀類 | E5: 米 | F5: 米、稲わら
E6: 麦類 | F6: 小麦、大麦（二条、六条）、裸麦
D7: いも・豆類 | E7: いも類 | F7: かんしょ、ばれいしょ
E8: 豆類 | F8: 大豆、えんどう、そらまめ、いんげん豆、小豆、ささげ、らっかせい、その他の豆類
D9: 野菜 | E9: 野菜 | F9: 果菜類：かぼちゃ、ピーマン、きゅうり、メロン、すいか、なす、トマト、いちご、さやえんどう（未成熟えんどう）、未成熟とうもろこし、えだまめ（未成熟大豆）、さやいんげん（未成熟いんげん） 葉茎菜類：キャベツ、はくさい、その他の漬菜、ほうれんそう、ねぎ、たまねぎ、にら、みつば、しゅんぎく、にんにく、レタス、セルリー、カリフラワー、ブロッコリー、アスパラガス、たけのこ、もやし 根菜類：だいこん、かぶ、にんじん、ごぼう、さといも、やまのいも、れんこん、しょうが
D10: 果実 | E10: 果実 | F10: みかん、夏みかん、ネーブルオレンジ、はっさく、伊予柑、グレープフルーツ（輸入）、りんご、ぶどう、日本なし、西洋なし、もも、すもも、おうとう、うめ、びわ、かき、くり、キウイフルーツ、パインアップル、バナナ（輸入）、果実の植物成長
D11: その他の食用作物 | E11: 砂糖原料作物 | F11: さとうきび、てんさい
E12: 飲料用作物 | F12: コーヒー豆（輸入）、カカオ豆（輸入）、茶（生葉）、ホップ、茶の植物成長
E13: その他の食用耕種作物 | F13: そば、えん麦、とうもろこし、あわ、きび、ひえ、グレーンソルガム（輸入）、なたね、ごま、オリーブ、こんにゃくいも、香辛料作物（輸入）、カッサバ芋（輸入）
D14: 非食用作物 | E14: 飼料作物 | F14: 牧草、青刈とうもろこし、ソルゴー
E15: 種苗 | F15: 農産物（畜産物、蚕を除く）の種子、球根類、苗木類（山行き苗木を除く。）、苗木類の植物成長
E16: 花き・花木類 | F16: 切り花類、鉢物類、花木（成木）、花壇用苗もの類、芝類、地被植物類、花木（成木）の植物成長
E17: その他の非食用耕種作物 | F17: 葉たばこ、生ゴム（輸入）、綿花（輸入）、薬用作物（おたね人参、とうき等）、製紙原料作物（こうぞ、みつまた等）、敷物原料作物（い草等）
C18: 畜産 | D18: 畜産 | E18: 酪農 | F18: 生乳、乳子牛（と畜向け、肉用肥育向け）、乳子牛の成長増加、乳廃牛、きゅう肥
E19: 肉用牛 | F19: と畜向け肉用牛（成牛換算飼養頭数の増減を含む。）、子取り用めす子牛の成長増加、肥育向け子牛、きゅう肥
E20: 豚 | F20: 豚（成豚換算飼養頭数の増減を含む。）、きゅう肥
E21: 鶏卵 | F21: 鶏卵、成鶏（成鶏換算飼養羽数の増減を含む。）、不正常卵、鶏ふん
E22: 肉鶏 | F22: ブロイラー、鶏ふん
E23: その他の畜産 | F23: 羊毛、馬（軽種馬を含む。）、やぎ、めん羊、毛皮用動物（ミンク、うさぎ等の飼育及びその毛、毛皮等）、食用鳥類（鶏を除く。）、その他の食用畜産物（やぎ乳、はちみつ、うずらの卵）、愛がん動物（昆虫類を含む。）、実験用動物（マウス、モルモット）、きゅう肥、養蚕
C24: 農業サービス | D24: 農業サービス | E24: 農業サービス | F24: カントリーエレベーター、ライスセンター、稲作共同育苗事業、土地改良区、青果物共同選果場、航空防除、種付業、ふ卵業
B25: 林業 | C25: 林業 | D25: 育林 | E25: 育林 | F25: 苗木、立木の成長
D26: 素材 | E26: 素材 | F26: 丸太（そま角、大割材等を含む。）
D27: 特用林産物 | E27: 特用林産物（狩猟業を含む。） | F27: きのこ類（まつたけ、しいたけ、えのきたけ等）、種実（くり、くるみ）、ねまがりたけ、生うるし、木ろう、竹材、薪、木炭、狩猟による野生鳥獣及び動物原皮
B28: 漁業 | C28: 漁業 | D28: 海面漁業 | E28: 海面漁業 | F28: 魚類、えび類、かに類、いか類、たこ類、うに類、なまこ類、貝類、海藻類、鯨類
E29: 海面養殖業 | F29: まあじ、ぶり類、たい類、くるまえび、ほや類、ほたてがい、かき類、こんぶ類、わかめ類、のり類、真珠
D30: 内水面漁業 | E30: 内水面漁業・養殖業 | F30: 内水面漁業：さけ・ます類、わかさぎ、あゆ、しらうお、こい、ふな、うなぎ、しじみ、えび類 内水面養殖業：ます類、あゆ、こい、ふな、うなぎ、淡水真珠、鑑賞用魚
A31: 鉱業 | B31: 鉱業 | C31: 石炭・原油・天然ガス | D31: 石炭・原油・天然ガス | E31: 石炭・原油・天然ガス | F31: 石炭：原料炭、一般炭、無煙炭、亜炭、雑炭 原油 天然ガス：天然ガス、液化天然ガス、圧縮ガス
C32: その他の鉱業 | D32: 砂利・砕石 | E32: 砂利・砕石 | F32: 砂利、砂、かんらん岩（精鉱）、砕石、オリビンサンド
D33: その他の鉱物 | E33: その他の鉱物 | F33: 鉄鉱石 非鉄金属鉱物：銅鉱、鉛鉱、亜鉛鉱、金鉱、銀鉱、すず鉱、タングステン鉱、硫化鉄鉱 石灰石 窯業原料鉱物（石灰石を除く。）：けい石、けい砂、ドロマイト、ろう石、粘土、長石、陶石、カオリン 他に分類されない鉱物：重晶石、ベントナイト･けいそう土等の粘土
A34: 製造業（1/2） | B34: 飲食料品 | C34: 食料品 | D34: 畜産食料品 | E34: 食肉 | F34: 牛肉、豚肉、鶏肉、その他の食肉（馬肉、羊肉、山羊肉、鹿肉等）、と畜副産物（原皮、内臓及び肉鶏処理副産物）
E35: 酪農品 | F35: 牛乳、加工乳、乳飲料、粉乳、れん乳、バター、チーズ、アイスクリーム、ミックスパウダー、クリーム、発酵乳、乳酸菌飲料
E36: その他の畜産食料品 | F36: ハム、ベーコン、ソーセージ、ハンバーグ（冷蔵品）、焼豚、食肉びん・かん詰（コンビーフかん詰、うずら卵水煮かん詰等）、その他の畜産食料品（精製はちみつ、乾燥卵等）
D37: 水産食料品 | E37: 冷凍魚介類 | F37: 冷凍魚介類、冷凍魚介調理品（丸又は三枚おろし、刺身等の処理をし、凍結したもの）、冷凍すり身、副産物の「魚のあら」
E38: 塩・干・くん製品 | F38: 煮干し品、素干し品、塩干品、くん製品、副産物の「魚のあら」
E39: 水産びん・かん詰 | F39: かに、さけ、まぐろ・かつお、さば、いわし、その他の水産びん・かん詰、副産物の「魚のあら」
E40: ねり製品 | F40: 焼きちくわ、かまぼこ、魚肉ハム・ソーセージ、副産物の「魚のあら」
E41: その他の水産食料品 | F41: 節類、水産物つくだ煮、寒天、焼・味付けのり、さくら干し、みりん干し
D42: 精穀・製粉 | E42: 精穀 | F42: 精米、くず米、米ぬか、精麦、麦ぬか
...

Sheet 計算結果（総括表）
B1: 総括表
B3: １ 分析タイトル
B4: =IF(入力!D11="","",入力!D11)
B6: ２ 分析内容
B7: =IF(入力!D13="","",入力!D13)
B10: ３ 入力値 | D10: 設定値 | E10: （単位：万円）
B11: 需要増加額 | E11: =IF(入力!E21+入力!G21=0,"－",(入力!E21+入力!G21)) -> －
B12: 消費転換率 | E12: =入力!J19 -> 0.518
B14: ４ 分析結果 | H14: （単位：万円、人）
E16: 総合波及効果 | F16: 直接効果 | G16: 第１次波及効果 | H16: 第２次波及効果
B17: 生産誘発額 | E17: =IF('計算2-2'!IT6=0,"",'計算2-2'!IT6) | F17: =IF('計算2-2'!C6=0,"",'計算2-2'!C6) | G17: =IF('計算2-2'!HW6=0,"",'計算2-2'!HW6) | H17: =IF('計算2-2'!IM6=0,"",'計算2-2'!IM6)
C18: うち粗付加価値誘発額 | E18: =IF('計算2-2'!IU6=0,"",'計算2-2'!IU6) | F18: =IF('計算2-2'!H6=0,"",'計算2-2'!H6) | G18: =IF('計算2-2'!HX6=0,"",'計算2-2'!HX6) | H18: =IF('計算2-2'!IO6=0,"",'計算2-2'!IO6)
D19: うち雇用者所得誘発額 | E19: =IF('計算2-2'!IV6=0,"",'計算2-2'!IV6) | F19: =IF('計算2-2'!I6=0,"",'計算2-2'!I6) | G19: =IF('計算2-2'!HY6=0,"",'計算2-2'!HY6) | H19: =IF('計算2-2'!IQ6=0,"",'計算2-2'!IQ6)
B20: 就業機会誘発 | E20: =IF('計算2-2'!IW6=0,"",'計算2-2'!IW6) | F20: =IF('計算2-2'!K6=0,"",'計算2-2'!K6) | G20: =IF('計算2-2'!IA6=0,"",'計算2-2'!IA6) | H20: =IF('計算2-2'!IS6=0,"",'計算2-2'!IS6)
B21: 直接効果比 | E21: =E17/F17 -> #VALUE! | F21: ※端数処理のため内訳が合計と一致しない場合があります。

Sheet 計算結果（詳細）
B1: 詳細 | I1: 詳細 | P1: 詳細 | W1: 詳細
D2: 生産誘発額 | K2: 粗付加価値誘発額 | R2: 雇用者所得誘発額 | Y2: 就業機会誘発数
D3: 直接効果 | E3: 第１次波及効果 | F3: 第２次波及効果 | G3: 総合波及効果 | K3: 直接効果 | L3: 第１次波及効果 | M3: 第２次波及効果 | N3: 総合波及効果 | R3: 直接効果 | S3: 第１次波及効果 | T3: 第２次波及効果 | U3: 総合波及効果 | Y3: 直接効果 | Z3: 第１次波及効果 | AA3: 第２次波及効果 | AB3: 総合波及効果
B4: 単位 | D4: 万円 | E4: 万円 | F4: 万円 | G4: 万円 | I4: 単位 | K4: 万円 | L4: 万円 | M4: 万円 | N4: 万円 | P4: 単位 | R4: 万円 | S4: 万円 | T4: 万円 | U4: 万円 | W4: 単位 | Y4: 人 | Z4: 人 | AA4: 人 | AB4: 人
B5: 合計 | D5: =SUM(D6:D113) -> 0 | E5: =SUM(E6:E113) -> 0 | F5: =SUM(F6:F113) -> 0 | G5: =SUM(G6:G113) -> 0 | I5: 合計 | K5: =SUM(K6:K113) -> 0 | L5: =SUM(L6:L113) -> 0 | M5: =SUM(M6:M113) -> 0 | N5: =SUM(N6:N113) -> 0 | P5: 合計 | R5: =SUM(R6:R113) -> 0 | S5: =SUM(S6:S113) -> 0 | T5: =SUM(T6:T113) -> 0 | U5: =SUM(U6:U113) -> 0 | W5: 合計 | Y5: =SUM(Y6:Y113) -> 0 | Z5: =SUM(Z6:Z113) -> 0 | AA5: =SUM(AA6:AA113) -> 0 | AB5: =SUM(AB6:AB113) -> 0
B6: 011 | C6: 耕種農業 | D6: ='計算2-2'!C7 -> 0 | E6: ='計算2-2'!HW7 -> 0 | F6: ='計算2-2'!IM7 -> 0 | G6: ='計算2-2'!IT7 -> 0 | I6: 011 | J6: 耕種農業 | K6: ='計算2-2'!H7 -> 0 | L6: ='計算2-2'!HX7 -> 0 | M6: ='計算2-2'!IO7 -> 0 | N6: ='計算2-2'!IU7 -> 0 | P6: 011 | Q6: 耕種農業 | R6: ='計算2-2'!I7 -> 0 | S6: ='計算2-2'!HY7 -> 0 | T6: ='計算2-2'!IQ7 -> 0 | U6: ='計算2-2'!IV7 -> 0 | W6: 011 | X6: 耕種農業 | Y6: ='計算2-2'!K7 -> 0 | Z6: ='計算2-2'!IA7 -> 0 | AA6: ='計算2-2'!IS7 -> 0 | AB6: ='計算2-2'!IW7 -> 0
B7: 012 | C7: 畜産 | D7: ='計算2-2'!C8 -> 0 | E7: ='計算2-2'!HW8 -> 0 | F7: ='計算2-2'!IM8 -> 0 | G7: ='計算2-2'!IT8 -> 0 | I7: 012 | J7: 畜産 | K7: ='計算2-2'!H8 -> 0 | L7: ='計算2-2'!HX8 -> 0 | M7: ='計算2-2'!IO8 -> 0 | N7: ='計算2-2'!IU8 -> 0 | P7: 012 | Q7: 畜産 | R7: ='計算2-2'!I8 -> 0 | S7: ='計算2-2'!HY8 -> 0 | T7: ='計算2-2'!IQ8 -> 0 | U7: ='計算2-2'!IV8 -> 0 | W7: 012 | X7: 畜産 | Y7: ='計算2-2'!K8 -> 0 | Z7: ='計算2-2'!IA8 -> 0 | AA7: ='計算2-2'!IS8 -> 0 | AB7: ='計算2-2'!IW8 -> 0
B8: 013 | C8: 農業サービス | D8: ='計算2-2'!C9 -> 0 | E8: ='計算2-2'!HW9 -> 0 | F8: ='計算2-2'!IM9 -> 0 | G8: ='計算2-2'!IT9 -> 0 | I8: 013 | J8: 農業サービス | K8: ='計算2-2'!H9 -> 0 | L8: ='計算2-2'!HX9 -> 0 | M8: ='計算2-2'!IO9 -> 0 | N8: ='計算2-2'!IU9 -> 0 | P8: 013 | Q8: 農業サービス | R8: ='計算2-2'!I9 -> 0 | S8: ='計算2-2'!HY9 -> 0 | T8: ='計算2-2'!IQ9 -> 0 | U8: ='計算2-2'!IV9 -> 0 | W8: 013 | X8: 農業サービス | Y8: ='計算2-2'!K9 -> 0 | Z8: ='計算2-2'!IA9 -> 0 | AA8: ='計算2-2'!IS9 -> 0 | AB8: ='計算2-2'!IW9 -> 0
B9: 015 | C9: 林業 | D9: ='計算2-2'!C10 -> 0 | E9: ='計算2-2'!HW10 -> 0 | F9: ='計算2-2'!IM10 -> 0 | G9: ='計算2-2'!IT10 -> 0 | I9: 015 | J9: 林業 | K9: ='計算2-2'!H10 -> 0 | L9: ='計算2-2'!HX10 -> 0 | M9: ='計算2-2'!IO10 -> 0 | N9: ='計算2-2'!IU10 -> 0 | P9: 015 | Q9: 林業 | R9: ='計算2-2'!I10 -> 0 | S9: ='計算2-2'!HY10 -> 0 | T9: ='計算2-2'!IQ10 -> 0 | U9: ='計算2-2'!IV10 -> 0 | W9: 015 | X9: 林業 | Y9: ='計算2-2'!K10 -> 0 | Z9: ='計算2-2'!IA10 -> 0 | AA9: ='計算2-2'!IS10 -> 0 | AB9: ='計算2-2'!IW10 -> 0
B10: 017 | C10: 漁業 | D10: ='計算2-2'!C11 -> 0 | E10: ='計算2-2'!HW11 -> 0 | F10: ='計算2-2'!IM11 -> 0 | G10: ='計算2-2'!IT11 -> 0 | I10: 017 | J10: 漁業 | K10: ='計算2-2'!H11 -> 0 | L10: ='計算2-2'!HX11 -> 0 | M10: ='計算2-2'!IO11 -> 0 | N10: ='計算2-2'!IU11 -> 0 | P10: 017 | Q10: 漁業 | R10: ='計算2-2'!I11 -> 0 | S10: ='計算2-2'!HY11 -> 0 | T10: ='計算2-2'!IQ11 -> 0 | U10: ='計算2-2'!IV11 -> 0 | W10: 017 | X10: 漁業 | Y10: ='計算2-2'!K11 -> 0 | Z10: ='計算2-2'!IA11 -> 0 | AA10: ='計算2-2'!IS11 -> 0 | AB10: ='計算2-2'!IW11 -> 0
B11: 061 | C11: 石炭・原油・天然ガス | D11: ='計算2-2'!C12 -> 0 | E11: ='計算2-2'!HW12 -> 0 | F11: ='計算2-2'!IM12 -> 0 | G11: ='計算2-2'!IT12 -> 0 | I11: 061 | J11: 石炭・原油・天然ガス | K11: ='計算2-2'!H12 -> 0 | L11: ='計算2-2'!HX12 -> 0 | M11: ='計算2-2'!IO12 -> 0 | N11: ='計算2-2'!IU12 -> 0 | P11: 061 | Q11: 石炭・原油・天然ガス | R11: ='計算2-2'!I12 -> 0 | S11: ='計算2-2'!HY12 -> 0 | T11: ='計算2-2'!IQ12 -> 0 | U11: ='計算2-2'!IV12 -> 0 | W11: 061 | X11: 石炭・原油・天然ガス | Y11: ='計算2-2'!K12 -> 0 | Z11: ='計算2-2'!IA12 -> 0 | AA11: ='計算2-2'!IS12 -> 0 | AB11: ='計算2-2'!IW12 -> 0
B12: 062 | C12: その他の鉱業 | D12: ='計算2-2'!C13 -> 0 | E12: ='計算2-2'!HW13 -> 0 | F12: ='計算2-2'!IM13 -> 0 | G12: ='計算2-2'!IT13 -> 0 | I12: 062 | J12: その他の鉱業 | K12: ='計算2-2'!H13 -> 0 | L12: ='計算2-2'!HX13 -> 0 | M12: ='計算2-2'!IO13 -> 0 | N12: ='計算2-2'!IU13 -> 0 | P12: 062 | Q12: その他の鉱業 | R12: ='計算2-2'!I13 -> 0 | S12: ='計算2-2'!HY13 -> 0 | T12: ='計算2-2'!IQ13 -> 0 | U12: ='計算2-2'!IV13 -> 0 | W12: 062 | X12: その他の鉱業 | Y12: ='計算2-2'!K13 -> 0 | Z12: ='計算2-2'!IA13 -> 0 | AA12: ='計算2-2'!IS13 -> 0 | AB12: ='計算2-2'!IW13 -> 0
B13: 111 | C13: 食料品 | D13: ='計算2-2'!C14 -> 0 | E13: ='計算2-2'!HW14 -> 0 | F13: ='計算2-2'!IM14 -> 0 | G13: ='計算2-2'!IT14 -> 0 | I13: 111 | J13: 食料品 | K13: ='計算2-2'!H14 -> 0 | L13: ='計算2-2'!HX14 -> 0 | M13: ='計算2-2'!IO14 -> 0 | N13: ='計算2-2'!IU14 -> 0 | P13: 111 | Q13: 食料品 | R13: ='計算2-2'!I14 -> 0 | S13: ='計算2-2'!HY14 -> 0 | T13: ='計算2-2'!IQ14 -> 0 | U13: ='計算2-2'!IV14 -> 0 | W13: 111 | X13: 食料品 | Y13: ='計算2-2'!K14 -> 0 | Z13: ='計算2-2'!IA14 -> 0 | AA13: ='計算2-2'!IS14 -> 0 | AB13: ='計算2-2'!IW14 -> 0
B14: 112 | C14: 飲料 | D14: ='計算2-2'!C15 -> 0 | E14: ='計算2-2'!HW15 -> 0 | F14: ='計算2-2'!IM15 -> 0 | G14: ='計算2-2'!IT15 -> 0 | I14: 112 | J14: 飲料 | K14: ='計算2-2'!H15 -> 0 | L14: ='計算2-2'!HX15 -> 0 | M14: ='計算2-2'!IO15 -> 0 | N14: ='計算2-2'!IU15 -> 0 | P14: 112 | Q14: 飲料 | R14: ='計算2-2'!I15 -> 0 | S14: ='計算2-2'!HY15 -> 0 | T14: ='計算2-2'!IQ15 -> 0 | U14: ='計算2-2'!IV15 -> 0 | W14: 112 | X14: 飲料 | Y14: ='計算2-2'!K15 -> 0 | Z14: ='計算2-2'!IA15 -> 0 | AA14: ='計算2-2'!IS15 -> 0 | AB14: ='計算2-2'!IW15 -> 0
B15: 113 | C15: 飼料・有機質肥料（別掲を除く。） | D15: ='計算2-2'!C16 -> 0 | E15: ='計算2-2'!HW16 -> 0 | F15: ='計算2-2'!IM16 -> 0 | G15: ='計算2-2'!IT16 -> 0 | I15: 113 | J15: 飼料・有機質肥料（別掲を除く。） | K15: ='計算2-2'!H16 -> 0 | L15: ='計算2-2'!HX16 -> 0 | M15: ='計算2-2'!IO16 -> 0 | N15: ='計算2-2'!IU16 -> 0 | P15: 113 | Q15: 飼料・有機質肥料（別掲を除く。） | R15: ='計算2-2'!I16 -> 0 | S15: ='計算2-2'!HY16 -> 0 | T15: ='計算2-2'!IQ16 -> 0 | U15: ='計算2-2'!IV16 -> 0 | W15: 113 | X15: 飼料・有機質肥料（別掲を除く。） | Y15: ='計算2-2'!K16 -> 0 | Z15: ='計算2-2'!IA16 -> 0 | AA15: ='計算2-2'!IS16 -> 0 | AB15: ='計算2-2'!IW16 -> 0
B16: 114 | C16: たばこ | D16: ='計算2-2'!C17 -> 0 | E16: ='計算2-2'!HW17 -> 0 | F16: ='計算2-2'!IM17 -> 0 | G16: ='計算2-2'!IT17 -> 0 | I16: 114 | J16: たばこ | K16: ='計算2-2'!H17 -> 0 | L16: ='計算2-2'!HX17 -> 0 | M16: ='計算2-2'!IO17 -> 0 | N16: ='計算2-2'!IU17 -> 0 | P16: 114 | Q16: たばこ | R16: ='計算2-2'!I17 -> 0 | S16: ='計算2-2'!HY17 -> 0 | T16: ='計算2-2'!IQ17 -> 0 | U16: ='計算2-2'!IV17 -> 0 | W16: 114 | X16: たばこ | Y16: ='計算2-2'!K17 -> 0 | Z16: ='計算2-2'!IA17 -> 0 | AA16: ='計算2-2'!IS17 -> 0 | AB16: ='計算2-2'!IW17 -> 0
B17: 151 | C17: 繊維工業製品 | D17: ='計算2-2'!C18 -> 0 | E17: ='計算2-2'!HW18 -> 0 | F17: ='計算2-2'!IM18 -> 0 | G17: ='計算2-2'!IT18 -> 0 | I17: 151 | J17: 繊維工業製品 | K17: ='計算2-2'!H18 -> 0 | L17: ='計算2-2'!HX18 -> 0 | M17: ='計算2-2'!IO18 -> 0 | N17: ='計算2-2'!IU18 -> 0 | P17: 151 | Q17: 繊維工業製品 | R17: ='計算2-2'!I18 -> 0 | S17: ='計算2-2'!HY18 -> 0 | T17: ='計算2-2'!IQ18 -> 0 | U17: ='計算2-2'!IV18 -> 0 | W17: 151 | X17: 繊維工業製品 | Y17: ='計算2-2'!K18 -> 0 | Z17: ='計算2-2'!IA18 -> 0 | AA17: ='計算2-2'!IS18 -> 0 | AB17: ='計算2-2'!IW18 -> 0
... B113: 691 | C113: 分類不明 | D113: ='計算2-2'!C114 -> 0 | E113: ='計算2-2'!HW114 -> 0 | F113: ='計算2-2'!IM114 -> 0 | G113: ='計算2-2'!IT114 -> 0 | I113: 691 | J113: 分類不明 | K113: ='計算2-2'!H114 -> 0 | L113: ='計算2-2'!HX114 -> 0 | M113: ='計算2-2'!IO114 -> 0 | N113: ='計算2-2'!IU114 -> 0 | P113: 691 | Q113: 分類不明 | R113: ='計算2-2'!I114 -> 0 | S113: ='計算2-2'!HY114 -> 0 | T113: ='計算2-2'!IQ114 -> 0 | U113: ='計算2-2'!IV114 -> 0 | W113: 691 | X113: 分類不明 | Y113: ='計算2-2'!K114 -> 0 | Z113: ='計算2-2'!IA114 -> 0 | AA113: ='計算2-2'!IS114 -> 0 | AB113: ='計算2-2'!IW114 -> 0

Sheet 計算のフローチャート
A1: 経済波及効果分析のフローチャート
D3: =SUM(入力!E21+入力!G21) -> 0
G4: ※商業マージンは商業部門へ、運賃は運輸部門へ
E5: 自給率
B6: 直 接 効 果
D7: ='計算2-2'!C6 -> 0
E11: 投入係数 | K11: 粗付加価値率
K12: 雇用者所得率
D13: 原材料等投入額 | H13: ='計算2-2'!H6 -> 0
D14: =D7-H13 -> 0 | I14: ='計算2-2'!I6 -> 0
D17: 自給率
D18: 逆行列係数
B19: 第一次波及効果
D20: ='計算2-2'!HW6 -> 0
D23: 投入係数 | K23: 粗付加価値率
K24: 雇用者所得率
D25: 原材料等投入額 | G25: ='計算2-2'!HX6 -> 0
D26: =D20-G25 -> 0 | H26: ='計算2-2'!HY6 -> 0
D30: ='計算2-2'!ID6 -> 0
M32: 消費転換率
M33: ='計算2-2'!IG6 -> 0.518
D35: ='計算2-2'!IH6 -> 0
H37: 民間消費支出パターン
H38: 自給率
H39: 逆行列係数
B40: 第二次波及効果
D41: ='計算2-2'!IM6 -> 0
D44: 投入係数 | K44: 粗付加価値率
K45: 雇用者所得率
D46: 原材料等投入額 | G46: ='計算2-2'!IO6 -> 0
D47: =D41-G46 -> 0 | H47: ='計算2-2'!IQ6 -> 0

Sheet 計算2-1
C2: 【生産増加用】
C4: 直接県内生産 | D4: 最終需要発生 | F4: うち | G4: 最終需要発生 | H4: マージン率 | I4: 貨物運賃率（需要合計） | Q4: マージン | R4: 貨物運賃 | Z4: 皮ハギ後 | AB4: うち | AC4: 県内生産の | AE4: うち | AH4: 万円あたり | AI4: 就業機会
C5: が増加する | D5: 生産者価格 | E5: （県内自給率） | F5: 県内自給分 | G5: 購入者価格 | H5: （需要合計） | I5: 合計 | J5: 鉄道 | K5: 道路 | L5: 沿海内水面 | M5: 港湾運送 | N5: 航空 | O5: 利用運送 | P5: 倉庫 | Q5: （需要合計） | R5: （需要合計） | S5: 鉄道 | T5: 道路 | U5: 沿海内水面 | V5: 港湾運送 | W5: 航空 | X5: 利用運送 | Y5: 倉庫 | Z5: 最終需要 | AA5: （県内自給率） | AB5: 県内自給分 | AC5: 増加計 | AD5: （粗付加価値率） | AE5: 粗付加価値 | AF5: （雇用者所得率） | AG5: うち雇用者所得 | AH5: の就業者数 | AI5: 誘発数
B6: 合計 | C6: 0 | D6: =SUM(D7:D114) -> 0 | F6: =SUM(F7:F114) -> 0 | G6: =SUM(G7:G114) -> 0 | Q6: =SUM(Q7:Q114)-Q76 -> 0 | R6: =SUM(R7:R114)-SUM(R81:R82,R84:R87) -> 0 | S6: =SUM(S7:S114)-S81 -> 0 | T6: =SUM(T7:T114)-T82 -> 0 | U6: =SUM(U7:U114)-U84 -> 0 | V6: =SUM(V7:V114)-V84 -> 0 | W6: =SUM(W7:W114)-W85 -> 0 | X6: =SUM(X7:X114)-X86 -> 0 | Y6: =SUM(Y7:Y114)-Y87 -> 0 | Z6: =SUM(Z7:Z114) -> 0 | AB6: =SUM(AB7:AB114) -> 0 | AC6: =SUM(AC7:AC114) -> 0 | AE6: =SUM(AE7:AE114) -> 0 | AG6: =SUM(AG7:AG114) -> 0 | AI6: =SUM(AI7:AI114) -> 0
A7: 011 | B7: 耕種農業 | C7: 0 | D7: =入力!E22 -> 0 | E7: =IF(入力!F22="",各種係数!C5,入力!F22/100) -> 0.69663046 | F7: =D7*E7 -> 0 | G7: =入力!G22 -> 0 | H7: =IF(各種係数!HV5<0,0,各種係数!HV5) -> 0.29370043 | I7: =IF(各種係数!HX5<0,0,各種係数!HX5) -> 0.06497181 | J7: =IF(各種係数!HY5<0,0,各種係数!HY5) -> 0.00089375475 | K7: =IF(各種係数!HZ5<0,0,各種係数!HZ5) -> 0.03555998 | L7: =IF(各種係数!IA5<0,0,各種係数!IA5) -> 0.0015003222 | M7: =IF(各種係数!IB5<0,0,各種係数!IB5) -> 0.002026965 | N7: =IF(各種係数!IC5<0,0,各種係数!IC5) -> 0.0001292502 | O7: =IF(各種係数!ID5<0,0,各種係数!ID5) -> 0.003082402 | P7: =IF(各種係数!IE5<0,0,各種係数!IE5) -> 0.021779136 | Q7: =$G7*H7 -> 0 | R7: =$G7*I7 -> 0 | S7: =$G7*J7 -> 0 | T7: =$G7*K7 -> 0 | U7: =$G7*L7 -> 0 | V7: =$G7*M7 -> 0 | W7: =$G7*N7 -> 0 | X7: =$G7*O7 -> 0 | Y7: =$G7*P7 -> 0 | Z7: =G7-Q7-R7 -> 0 | AA7: =IF(入力!H22="",各種係数!C5,入力!H22/100) -> 0.69663046 | AB7: =Z7*AA7 -> 0 | AC7: =C7+F7+AB7 -> 0 | AD7: =各種係数!E5 -> 0.56189099 | AE7: =AC7*AD7 -> 0 | AF7: =各種係数!F5 -> 0.13685646 | AG7: =AC7*AF7 -> 0 | AH7: =各種係数!HT5 -> 0.0021996944 | AI7: =AC7*AH7 -> 0
A8: 012 | B8: 畜産 | C8: 0 | D8: =入力!E23 -> 0 | E8: =IF(入力!F23="",各種係数!C6,入力!F23/100) -> 0.3180563 | F8: =D8*E8 -> 0 | G8: =入力!G23 -> 0 | H8: =IF(各種係数!HV6<0,0,各種係数!HV6) -> 0.06120923 | I8: =IF(各種係数!HX6<0,0,各種係数!HX6) -> 0.022064325 | J8: =IF(各種係数!HY6<0,0,各種係数!HY6) -> 8.2009167e-06 | K8: =IF(各種係数!HZ6<0,0,各種係数!HZ6) -> 0.019643366 | L8: =IF(各種係数!IA6<0,0,各種係数!IA6) -> 0 | M8: =IF(各種係数!IB6<0,0,各種係数!IB6) -> 0.00024506269 | N8: =IF(各種係数!IC6<0,0,各種係数!IC6) -> 0 | O8: =IF(各種係数!ID6<0,0,各種係数!ID6) -> 0.0010919279 | P8: =IF(各種係数!IE6<0,0,各種係数!IE6) -> 0.0010757673 | Q8: =$G8*H8 -> 0 | R8: =$G8*I8 -> 0 | S8: =$G8*J8 -> 0 | T8: =$G8*K8 -> 0 | U8: =$G8*L8 -> 0 | V8: =$G8*M8 -> 0 | W8: =$G8*N8 -> 0 | X8: =$G8*O8 -> 0 | Y8: =$G8*P8 -> 0 | Z8: =G8-Q8-R8 -> 0 | AA8: =IF(入力!H23="",各種係数!C6,入力!H23/100) -> 0.3180563 | AB8: =Z8*AA8 -> 0 | AC8: =C8+F8+AB8 -> 0 | AD8: =各種係数!E6 -> 0.2727167 | AE8: =AC8*AD8 -> 0 | AF8: =各種係数!F6 -> 0.096448589 | AG8: =AC8*AF8 -> 0 | AH8: =各種係数!HT6 -> 0.00045049655 | AI8: =AC8*AH8 -> 0
A9: 013 | B9: 農業サービス | C9: 0 | D9: =入力!E24 -> 0 | E9: =IF(入力!F24="",各種係数!C7,入力!F24/100) -> 1 | F9: =D9*E9 -> 0 | G9: =入力!G24 -> 0 | H9: =IF(各種係数!HV7<0,0,各種係数!HV7) -> 0 | I9: =IF(各種係数!HX7<0,0,各種係数!HX7) -> 0 | J9: =IF(各種係数!HY7<0,0,各種係数!HY7) -> 0 | K9: =IF(各種係数!HZ7<0,0,各種係数!HZ7) -> 0 | L9: =IF(各種係数!IA7<0,0,各種係数!IA7) -> 0 | M9: =IF(各種係数!IB7<0,0,各種係数!IB7) -> 0 | N9: =IF(各種係数!IC7<0,0,各種係数!IC7) -> 0 | O9: =IF(各種係数!ID7<0,0,各種係数!ID7) -> 0 | P9: =IF(各種係数!IE7<0,0,各種係数!IE7) -> 0 | Q9: =$G9*H9 -> 0 | R9: =$G9*I9 -> 0 | S9: =$G9*J9 -> 0 | T9: =$G9*K9 -> 0 | U9: =$G9*L9 -> 0 | V9: =$G9*M9 -> 0 | W9: =$G9*N9 -> 0 | X9: =$G9*O9 -> 0 | Y9: =$G9*P9 -> 0 | Z9: =G9-Q9-R9 -> 0 | AA9: =IF(入力!H24="",各種係数!C7,入力!H24/100) -> 1 | AB9: =Z9*AA9 -> 0 | AC9: =C9+F9+AB9 -> 0 | AD9: =各種係数!E7 -> 0.62862658 | AE9: =AC9*AD9 -> 0 | AF9: =各種係数!F7 -> 0.18191688 | AG9: =AC9*AF9 -> 0 | AH9: =各種係数!HT7 -> 0.00074190241 | AI9: =AC9*AH9 -> 0
A10: 015 | B10: 林業 | C10: 0 | D10: =入力!E25 -> 0 | E10: =IF(入力!F25="",各種係数!C8,入力!F25/100) -> 0.86501193 | F10: =D10*E10 -> 0 | G10: =入力!G25 -> 0 | H10: =IF(各種係数!HV8<0,0,各種係数!HV8) -> 0.24143175 | I10: =IF(各種係数!HX8<0,0,各種係数!HX8) -> 0.039969837 | J10: =IF(各種係数!HY8<0,0,各種係数!HY8) -> 2.7834736e-05 | K10: =IF(各種係数!HZ8<0,0,各種係数!HZ8) -> 0.024053429 | L10: =IF(各種係数!IA8<0,0,各種係数!IA8) -> 0.0017898579 | M10: =IF(各種係数!IB8<0,0,各種係数!IB8) -> 0.0060899028 | N10: =IF(各種係数!IC8<0,0,各種係数!IC8) -> 3.3739074e-05 | O10: =IF(各種係数!ID8<0,0,各種係数!ID8) -> 0.0011901458 | P10: =IF(各種係数!IE8<0,0,各種係数!IE8) -> 0.0067849277 | Q10: =$G10*H10 -> 0 | R10: =$G10*I10 -> 0 | S10: =$G10*J10 -> 0 | T10: =$G10*K10 -> 0 | U10: =$G10*L10 -> 0 | V10: =$G10*M10 -> 0 | W10: =$G10*N10 -> 0 | X10: =$G10*O10 -> 0 | Y10: =$G10*P10 -> 0 | Z10: =G10-Q10-R10 -> 0 | AA10: =IF(入力!H25="",各種係数!C8,入力!H25/100) -> 0.86501193 | AB10: =Z10*AA10 -> 0 | AC10: =C10+F10+AB10 -> 0 | AD10: =各種係数!E8 -> 0.58557783 | AE10: =AC10*AD10 -> 0 | AF10: =各種係数!F8 -> 0.41554083 | AG10: =AC10*AF10 -> 0 | AH10: =各種係数!HT8 -> 0.0019060322 | AI10: =AC10*AH10 -> 0
A11: 017 | B11: 漁業 | C11: 0 | D11: =入力!E26 -> 0 | E11: =IF(入力!F26="",各種係数!C9,入力!F26/100) -> 0.46249767 | F11: =D11*E11 -> 0 | G11: =入力!G26 -> 0 | H11: =IF(各種係数!HV9<0,0,各種係数!HV9) -> 0.29613491 | I11: =IF(各種係数!HX9<0,0,各種係数!HX9) -> 0.042867469 | J11: =IF(各種係数!HY9<0,0,各種係数!HY9) -> 8.9923668e-06 | K11: =IF(各種係数!HZ9<0,0,各種係数!HZ9) -> 0.02690302 | L11: =IF(各種係数!IA9<0,0,各種係数!IA9) -> 0 | M11: =IF(各種係数!IB9<0,0,各種係数!IB9) -> 0.00057508327 | N11: =IF(各種係数!IC9<0,0,各種係数!IC9) -> 0.00034856126 | O11: =IF(各種係数!ID9<0,0,各種係数!ID9) -> 0.0033044807 | P11: =IF(各種係数!IE9<0,0,各種係数!IE9) -> 0.011727331 | Q11: =$G11*H11 -> 0 | R11: =$G11*I11 -> 0 | S11: =$G11*J11 -> 0 | T11: =$G11*K11 -> 0 | U11: =$G11*L11 -> 0 | V11: =$G11*M11 -> 0 | W11: =$G11*N11 -> 0 | X11: =$G11*O11 -> 0 | Y11: =$G11*P11 -> 0 | Z11: =G11-Q11-R11 -> 0 | AA11: =IF(入力!H26="",各種係数!C9,入力!H26/100) -> 0.46249767 | AB11: =Z11*AA11 -> 0 | AC11: =C11+F11+AB11 -> 0 | AD11: =各種係数!E9 -> 0.62632777 | AE11: =AC11*AD11 -> 0 | AF11: =各種係数!F9 -> 0.17792109 | AG11: =AC11*AF11 -> 0 | AH11: =各種係数!HT9 -> 0.0015402124 | AI11: =AC11*AH11 -> 0
A12: 061 | B12: 石炭・原油・天然ガス | C12: 0 | D12: =入力!E27 -> 0 | E12: =IF(入力!F27="",各種係数!C10,入力!F27/100) -> 0.0082353378 | F12: =D12*E12 -> 0 | G12: =入力!G27 -> 0 | H12: =IF(各種係数!HV10<0,0,各種係数!HV10) -> 0.010606318 | I12: =IF(各種係数!HX10<0,0,各種係数!HX10) -> 0.061420755 | J12: =IF(各種係数!HY10<0,0,各種係数!HY10) -> 1.3156973e-05 | K12: =IF(各種係数!HZ10<0,0,各種係数!HZ10) -> 0.016114677 | L12: =IF(各種係数!IA10<0,0,各種係数!IA10) -> 0.0054889912 | M12: =IF(各種係数!IB10<0,0,各種係数!IB10) -> 0.0097359968 | N12: =IF(各種係数!IC10<0,0,各種係数!IC10) -> 0 | O12: =IF(各種係数!ID10<0,0,各種係数!ID10) -> 0.0015014476 | P12: =IF(各種係数!IE10<0,0,各種係数!IE10) -> 0.028566486 | Q12: =$G12*H12 -> 0 | R12: =$G12*I12 -> 0 | S12: =$G12*J12 -> 0 | T12: =$G12*K12 -> 0 | U12: =$G12*L12 -> 0 | V12: =$G12*M12 -> 0 | W12: =$G12*N12 -> 0 | X12: =$G12*O12 -> 0 | Y12: =$G12*P12 -> 0 | Z12: =G12-Q12-R12 -> 0 | AA12: =IF(入力!H27="",各種係数!C10,入力!H27/100) -> 0.0082353378 | AB12: =Z12*AA12 -> 0 | AC12: =C12+F12+AB12 -> 0 | AD12: =各種係数!E10 -> 0.58783784 | AE12: =AC12*AD12 -> 0 | AF12: =各種係数!F10 -> 0.1036036 | AG12: =AC12*AF12 -> 0 | AH12: =各種係数!HT10 -> 0.00013513514 | AI12: =AC12*AH12 -> 0
A13: 062 | B13: その他の鉱業 | C13: 0 | D13: =入力!E28 -> 0 | E13: =IF(入力!F28="",各種係数!C11,入力!F28/100) -> 0.16315745 | F13: =D13*E13 -> 0 | G13: =入力!G28 -> 0 | H13: =IF(各種係数!HV11<0,0,各種係数!HV11) -> 0.020165343 | I13: =IF(各種係数!HX11<0,0,各種係数!HX11) -> 0.12254657 | J13: =IF(各種係数!HY11<0,0,各種係数!HY11) -> 0.000523942 | K13: =IF(各種係数!HZ11<0,0,各種係数!HZ11) -> 0.05989696 | L13: =IF(各種係数!IA11<0,0,各種係数!IA11) -> 0.0071955446 | M13: =IF(各種係数!IB11<0,0,各種係数!IB11) -> 0.02516737 | N13: =IF(各種係数!IC11<0,0,各種係数!IC11) -> 0 | O13: =IF(各種係数!ID11<0,0,各種係数!ID11) -> 0.0043982082 | P13: =IF(各種係数!IE11<0,0,各種係数!IE11) -> 0.025364546 | Q13: =$G13*H13 -> 0 | R13: =$G13*I13 -> 0 | S13: =$G13*J13 -> 0 | T13: =$G13*K13 -> 0 | U13: =$G13*L13 -> 0 | V13: =$G13*M13 -> 0 | W13: =$G13*N13 -> 0 | X13: =$G13*O13 -> 0 | Y13: =$G13*P13 -> 0 | Z13: =G13-Q13-R13 -> 0 | AA13: =IF(入力!H28="",各種係数!C11,入力!H28/100) -> 0.16315745 | AB13: =Z13*AA13 -> 0 | AC13: =C13+F13+AB13 -> 0 | AD13: =各種係数!E11 -> 0.52042254 | AE13: =AC13*AD13 -> 0 | AF13: =各種係数!F11 -> 0.3 | AG13: =AC13*AF13 -> 0 | AH13: =各種係数!HT11 -> 0.00075 | AI13: =AC13*AH13 -> 0
A14: 111 | B14: 食料品 | C14: 0 | D14: =入力!E29 -> 0 | E14: =IF(入力!F29="",各種係数!C12,入力!F29/100) -> 0.25667884 | F14: =D14*E14 -> 0 | G14: =入力!G29 -> 0 | H14: =IF(各種係数!HV12<0,0,各種係数!HV12) -> 0.33024554 | I14: =IF(各種係数!HX12<0,0,各種係数!HX12) -> 0.031955547 | J14: =IF(各種係数!HY12<0,0,各種係数!HY12) -> 0.00025414926 | K14: =IF(各種係数!HZ12<0,0,各種係数!HZ12) -> 0.02368773 | L14: =IF(各種係数!IA12<0,0,各種係数!IA12) -> 0.00019194581 | M14: =IF(各種係数!IB12<0,0,各種係数!IB12) -> 0.00026675355 | N14: =IF(各種係数!IC12<0,0,各種係数!IC12) -> 3.3964648e-05 | O14: =IF(各種係数!ID12<0,0,各種係数!ID12) -> 0.0015457354 | P14: =IF(各種係数!IE12<0,0,各種係数!IE12) -> 0.0059752683 | Q14: =$G14*H14 -> 0 | R14: =$G14*I14 -> 0 | S14: =$G14*J14 -> 0 | T14: =$G14*K14 -> 0 | U14: =$G14*L14 -> 0 | V14: =$G14*M14 -> 0 | W14: =$G14*N14 -> 0 | X14: =$G14*O14 -> 0 | Y14: =$G14*P14 -> 0 | Z14: =G14-Q14-R14 -> 0 | AA14: =IF(入力!H29="",各種係数!C12,入力!H29/100) -> 0.25667884 | AB14: =Z14*AA14 -> 0 | AC14: =C14+F14+AB14 -> 0 | AD14: =各種係数!E12 -> 0.3176902 | AE14: =AC14*AD14 -> 0 | AF14: =各種係数!F12 -> 0.146543 | AG14: =AC14*AF14 -> 0 | AH14: =各種係数!HT12 -> 0.00051099205 | AI14: =AC14*AH14 -> 0
A15: 112 | B15: 飲料 | C15: 0 | D15: =入力!E30 -> 0 | E15: =IF(入力!F30="",各種係数!C13,入力!F30/100) -> 0.075791099 | F15: =D15*E15 -> 0 | G15: =入力!G30 -> 0 | H15: =IF(各種係数!HV13<0,0,各種係数!HV13) -> 0.32523801 | I15: =IF(各種係数!HX13<0,0,各種係数!HX13) -> 0.044324817 | J15: =IF(各種係数!HY13<0,0,各種係数!HY13) -> 0.00046190082 | K15: =IF(各種係数!HZ13<0,0,各種係数!HZ13) -> 0.036531443 | L15: =IF(各種係数!IA13<0,0,各種係数!IA13) -> 0.00013534538 | M15: =IF(各種係数!IB13<0,0,各種係数!IB13) -> 0.00023556446 | N15: =IF(各種係数!IC13<0,0,各種係数!IC13) -> 1.6471651e-05 | O15: =IF(各種係数!ID13<0,0,各種係数!ID13) -> 0.0023887863 | P15: =IF(各種係数!IE13<0,0,各種係数!IE13) -> 0.0045553046 | Q15: =$G15*H15 -> 0 | R15: =$G15*I15 -> 0 | S15: =$G15*J15 -> 0 | T15: =$G15*K15 -> 0 | U15: =$G15*L15 -> 0 | V15: =$G15*M15 -> 0 | W15: =$G15*N15 -> 0 | X15: =$G15*O15 -> 0 | Y15: =$G15*P15 -> 0 | Z15: =G15-Q15-R15 -> 0 | AA15: =IF(入力!H30="",各種係数!C13,入力!H30/100) -> 0.075791099 | AB15: =Z15*AA15 -> 0 | AC15: =C15+F15+AB15 -> 0 | AD15: =各種係数!E13 -> 0.26264296 | AE15: =AC15*AD15 -> 0 | AF15: =各種係数!F13 -> 0.17965743 | AG15: =AC15*AF15 -> 0 | AH15: =各種係数!HT13 -> 0.00047915876 | AI15: =AC15*AH15 -> 0
A16: 113 | B16: 飼料・有機質肥料（別掲を除く。） | C16: 0 | D16: =入力!E31 -> 0 | E16: =IF(入力!F31="",各種係数!C14,入力!F31/100) -> 0.018157245 | F16: =D16*E16 -> 0 | G16: =入力!G31 -> 0 | H16: =IF(各種係数!HV14<0,0,各種係数!HV14) -> 0.28295379 | I16: =IF(各種係数!HX14<0,0,各種係数!HX14) -> 0.092788724 | J16: =IF(各種係数!HY14<0,0,各種係数!HY14) -> 0.00019034387 | K16: =IF(各種係数!HZ14<0,0,各種係数!HZ14) -> 0.068519322 | L16: =IF(各種係数!IA14<0,0,各種係数!IA14) -> 0.0044322929 | M16: =IF(各種係数!IB14<0,0,各種係数!IB14) -> 0.0034470492 | N16: =IF(各種係数!IC14<0,0,各種係数!IC14) -> 0 | O16: =IF(各種係数!ID14<0,0,各種係数!ID14) -> 0.0040679949 | P16: =IF(各種係数!IE14<0,0,各種係数!IE14) -> 0.012131721 | Q16: =$G16*H16 -> 0 | R16: =$G16*I16 -> 0 | S16: =$G16*J16 -> 0 | T16: =$G16*K16 -> 0 | U16: =$G16*L16 -> 0 | V16: =$G16*M16 -> 0 | W16: =$G16*N16 -> 0 | X16: =$G16*O16 -> 0 | Y16: =$G16*P16 -> 0 | Z16: =G16-Q16-R16 -> 0 | AA16: =IF(入力!H31="",各種係数!C14,入力!H31/100) -> 0.018157245 | AB16: =Z16*AA16 -> 0 | AC16: =C16+F16+AB16 -> 0 | AD16: =各種係数!E14 -> 0.67744419 | AE16: =AC16*AD16 -> 0 | AF16: =各種係数!F14 -> 0.086220169 | AG16: =AC16*AF16 -> 0 | AH16: =各種係数!HT14 -> 0.0001308699 | AI16: =AC16*AH16 -> 0
A17: 114 | B17: たばこ | C17: 0 | D17: =入力!E32 -> 0 | E17: =IF(入力!F32="",各種係数!C15,入力!F32/100) -> 0 | F17: =D17*E17 -> 0 | G17: =入力!G32 -> 0 | H17: =IF(各種係数!HV15<0,0,各種係数!HV15) -> 0.18205095 | I17: =IF(各種係数!HX15<0,0,各種係数!HX15) -> 0.014156966 | J17: =IF(各種係数!HY15<0,0,各種係数!HY15) -> 0.00028685892 | K17: =IF(各種係数!HZ15<0,0,各種係数!HZ15) -> 0.0096384597 | L17: =IF(各種係数!IA15<0,0,各種係数!IA15) -> 0.00012669602 | M17: =IF(各種係数!IB15<0,0,各種係数!IB15) -> 0.00014151707 | N17: =IF(各種係数!IC15<0,0,各種係数!IC15) -> 1.5538192e-05 | O17: =IF(各種係数!ID15<0,0,各種係数!ID15) -> 0.00080583452 | P17: =IF(各種係数!IE15<0,0,各種係数!IE15) -> 0.0031420614 | Q17: =$G17*H17 -> 0 | R17: =$G17*I17 -> 0 | S17: =$G17*J17 -> 0 | T17: =$G17*K17 -> 0 | U17: =$G17*L17 -> 0 | V17: =$G17*M17 -> 0 | W17: =$G17*N17 -> 0 | X17: =$G17*O17 -> 0 | Y17: =$G17*P17 -> 0 | Z17: =G17-Q17-R17 -> 0 | AA17: =IF(入力!H32="",各種係数!C15,入力!H32/100) -> 0 | AB17: =Z17*AA17 -> 0 | AC17: =C17+F17+AB17 -> 0 | AD17: =各種係数!E15 -> 0 | AE17: =AC17*AD17 -> 0 | AF17: =各種係数!F15 -> 0 | AG17: =AC17*AF17 -> 0 | AH17: =各種係数!HT15 -> 0 | AI17: =AC17*AH17 -> 0
A18: 151 | B18: 繊維工業製品 | C18: 0 | D18: =入力!E33 -> 0 | E18: =IF(入力!F33="",各種係数!C16,入力!F33/100) -> 0.12746912 | F18: =D18*E18 -> 0 | G18: =入力!G33 -> 0 | H18: =IF(各種係数!HV16<0,0,各種係数!HV16) -> 0.19104747 | I18: =IF(各種係数!HX16<0,0,各種係数!HX16) -> 0.021675912 | J18: =IF(各種係数!HY16<0,0,各種係数!HY16) -> 0.00017282036 | K18: =IF(各種係数!HZ16<0,0,各種係数!HZ16) -> 0.012029493 | L18: =IF(各種係数!IA16<0,0,各種係数!IA16) -> 2.7173012e-06 | M18: =IF(各種係数!IB16<0,0,各種係数!IB16) -> 0.00020488451 | N18: =IF(各種係数!IC16<0,0,各種係数!IC16) -> 8.1519037e-06 | O18: =IF(各種係数!ID16<0,0,各種係数!ID16) -> 0.00075269244 | P18: =IF(各種係数!IE16<0,0,各種係数!IE16) -> 0.0085051528 | Q18: =$G18*H18 -> 0 | R18: =$G18*I18 -> 0 | S18: =$G18*J18 -> 0 | T18: =$G18*K18 -> 0 | U18: =$G18*L18 -> 0 | V18: =$G18*M18 -> 0 | W18: =$G18*N18 -> 0 | X18: =$G18*O18 -> 0 | Y18: =$G18*P18 -> 0 | Z18: =G18-Q18-R18 -> 0 | AA18: =IF(入力!H33="",各種係数!C16,入力!H33/100) -> 0.12746912 | AB18: =Z18*AA18 -> 0 | AC18: =C18+F18+AB18 -> 0 | AD18: =各種係数!E16 -> 0.37202483 | AE18: =AC18*AD18 -> 0 | AF18: =各種係数!F16 -> 0.16929769 | AG18: =AC18*AF18 -> 0 | AH18: =各種係数!HT16 -> 0.0007076878 | AI18: =AC18*AH18 -> 0
... A75: 481 | B75: 廃棄物処理 | C75: 0 | D75: =入力!E90 -> 0 | E75: =IF(入力!F90="",各種係数!C73,入力!F90/100) -> 0.88986426 | F75: =D75*E75 -> 0 | G75: =入力!G90 -> 0 | H75: =IF(各種係数!HV73<0,0,各種係数!HV73) -> 0 | I75: =IF(各種係数!HX73<0,0,各種係数!HX73) -> 0 | J75: =IF(各種係数!HY73<0,0,各種係数!HY73) -> 0 | K75: =IF(各種係数!HZ73<0,0,各種係数!HZ73) -> 0 | L75: =IF(各種係数!IA73<0,0,各種係数!IA73) -> 0 | M75: =IF(各種係数!IB73<0,0,各種係数!IB73) -> 0 | N75: =IF(各種係数!IC73<0,0,各種係数!IC73) -> 0 | O75: =IF(各種係数!ID73<0,0,各種係数!ID73) -> 0 | P75: =IF(各種係数!IE73<0,0,各種係数!IE73) -> 0 | Q75: =$G75*H75 -> 0 | R75: =$G75*I75 -> 0 | S75: =$G75*J75 -> 0 | T75: =$G75*K75 -> 0 | U75: =$G75*L75 -> 0 | V75: =$G75*M75 -> 0 | W75: =$G75*N75 -> 0 | X75: =$G75*O75 -> 0 | Y75: =$G75*P75 -> 0 | Z75: =G75-Q75-R75 -> 0 | AA75: =IF(入力!H90="",各種係数!C73,入力!H90/100) -> 0.88986426 | AB75: =Z75*AA75 -> 0 | AC75: =C75+F75+AB75 -> 0 | AD75: =各種係数!E73 -> 0.67891634 | AE75: =AC75*AD75 -> 0 | AF75: =各種係数!F73 -> 0.51704612 | AG75: =AC75*AF75 -> 0 | AH75: =各種係数!HT73 -> 0.0010506923 | AI75: =AC75*AH75 -> 0
A76: 511 | B76: 商業 | C76: 0 | D76: =入力!E91 -> 0 | E76: =IF(入力!F91="",各種係数!C74,入力!F91/100) -> 0.64710973 | F76: =D76*E76 -> 0 | G76: =入力!G91 -> 0 | H76: =IF(各種係数!HV74<0,0,各種係数!HV74) -> 0 | I76: =IF(各種係数!HX74<0,0,各種係数!HX74) -> 0 | J76: =IF(各種係数!HY74<0,0,各種係数!HY74) -> 0 | K76: =IF(各種係数!HZ74<0,0,各種係数!HZ74) -> 0 | L76: =IF(各種係数!IA74<0,0,各種係数!IA74) -> 0 | M76: =IF(各種係数!IB74<0,0,各種係数!IB74) -> 0 | N76: =IF(各種係数!IC74<0,0,各種係数!IC74) -> 0 | O76: =IF(各種係数!ID74<0,0,各種係数!ID74) -> 0 | P76: =IF(各種係数!IE74<0,0,各種係数!IE74) -> 0 | Q76: =$G76*H76 -> 0 | R76: =$G76*I76 -> 0 | S76: =$G76*J76 -> 0 | T76: =$G76*K76 -> 0 | U76: =$G76*L76 -> 0 | V76: =$G76*M76 -> 0 | W76: =$G76*N76 -> 0 | X76: =$G76*O76 -> 0 | Y76: =$G76*P76 -> 0 | Z76: =G76+$Q$6-R76 -> 0 | AA76: =IF(入力!H91="",各種係数!C74,入力!H91/100) -> 0.64710973 | AB76: =Z76*AA76 -> 0 | AC76: =C76+F76+AB76 -> 0 | AD76: =各種係数!E74 -> 0.72188596 | AE76: =AC76*AD76 -> 0 | AF76: =各種係数!F74 -> 0.43644774 | AG76: =AC76*AF76 -> 0 | AH76: =各種係数!HT74 -> 0.0015061027 | AI76: =AC76*AH76 -> 0
A77: 531 | B77: 金融・保険 | C77: 0 | D77: =入力!E92 -> 0 | E77: =IF(入力!F92="",各種係数!C75,入力!F92/100) -> 0.6209899 | F77: =D77*E77 -> 0 | G77: =入力!G92 -> 0 | H77: =IF(各種係数!HV75<0,0,各種係数!HV75) -> 0 | I77: =IF(各種係数!HX75<0,0,各種係数!HX75) -> 0 | J77: =IF(各種係数!HY75<0,0,各種係数!HY75) -> 0 | K77: =IF(各種係数!HZ75<0,0,各種係数!HZ75) -> 0 | L77: =IF(各種係数!IA75<0,0,各種係数!IA75) -> 0 | M77: =IF(各種係数!IB75<0,0,各種係数!IB75) -> 0 | N77: =IF(各種係数!IC75<0,0,各種係数!IC75) -> 0 | O77: =IF(各種係数!ID75<0,0,各種係数!ID75) -> 0 | P77: =IF(各種係数!IE75<0,0,各種係数!IE75) -> 0 | Q77: =$G77*H77 -> 0 | R77: =$G77*I77 -> 0 | S77: =$G77*J77 -> 0 | T77: =$G77*K77 -> 0 | U77: =$G77*L77 -> 0 | V77: =$G77*M77 -> 0 | W77: =$G77*N77 -> 0 | X77: =$G77*O77 -> 0 | Y77: =$G77*P77 -> 0 | Z77: =G77-Q77-R77 -> 0 | AA77: =IF(入力!H92="",各種係数!C75,入力!H92/100) -> 0.6209899 | AB77: =Z77*AA77 -> 0 | AC77: =C77+F77+AB77 -> 0 | AD77: =各種係数!E75 -> 0.63254057 | AE77: =AC77*AD77 -> 0 | AF77: =各種係数!F75 -> 0.30811597 | AG77: =AC77*AF77 -> 0 | AH77: =各種係数!HT75 -> 0.00053104528 | AI77: =AC77*AH77 -> 0
A78: 551 | B78: 不動産仲介及び賃貸 | C78: 0 | D78: =入力!E93 -> 0 | E78: =IF(入力!F93="",各種係数!C76,入力!F93/100) -> 1 | F78: =D78*E78 -> 0 | G78: =入力!G93 -> 0 | H78: =IF(各種係数!HV76<0,0,各種係数!HV76) -> 0 | I78: =IF(各種係数!HX76<0,0,各種係数!HX76) -> 0 | J78: =IF(各種係数!HY76<0,0,各種係数!HY76) -> 0 | K78: =IF(各種係数!HZ76<0,0,各種係数!HZ76) -> 0 | L78: =IF(各種係数!IA76<0,0,各種係数!IA76) -> 0 | M78: =IF(各種係数!IB76<0,0,各種係数!IB76) -> 0 | N78: =IF(各種係数!IC76<0,0,各種係数!IC76) -> 0 | O78: =IF(各種係数!ID76<0,0,各種係数!ID76) -> 0 | P78: =IF(各種係数!IE76<0,0,各種係数!IE76) -> 0 | Q78: =$G78*H78 -> 0 | R78: =$G78*I78 -> 0 | S78: =$G78*J78 -> 0 | T78: =$G78*K78 -> 0 | U78: =$G78*L78 -> 0 | V78: =$G78*M78 -> 0 | W78: =$G78*N78 -> 0 | X78: =$G78*O78 -> 0 | Y78: =$G78*P78 -> 0 | Z78: =G78-Q78-R78 -> 0 | AA78: =IF(入力!H93="",各種係数!C76,入力!H93/100) -> 1 | AB78: =Z78*AA78 -> 0 | AC78: =C78+F78+AB78 -> 0 | AD78: =各種係数!E76 -> 0.76950859 | AE78: =AC78*AD78 -> 0 | AF78: =各種係数!F76 -> 0.21414031 | AG78: =AC78*AF78 -> 0 | AH78: =各種係数!HT76 -> 0.00052664989 | AI78: =AC78*AH78 -> 0
A79: 552 | B79: 住宅賃貸料 | C79: 0 | D79: =入力!E94 -> 0 | E79: =IF(入力!F94="",各種係数!C77,入力!F94/100) -> 1 | F79: =D79*E79 -> 0 | G79: =入力!G94 -> 0 | H79: =IF(各種係数!HV77<0,0,各種係数!HV77) -> 0 | I79: =IF(各種係数!HX77<0,0,各種係数!HX77) -> 0 | J79: =IF(各種係数!HY77<0,0,各種係数!HY77) -> 0 | K79: =IF(各種係数!HZ77<0,0,各種係数!HZ77) -> 0 | L79: =IF(各種係数!IA77<0,0,各種係数!IA77) -> 0 | M79: =IF(各種係数!IB77<0,0,各種係数!IB77) -> 0 | N79: =IF(各種係数!IC77<0,0,各種係数!IC77) -> 0 | O79: =IF(各種係数!ID77<0,0,各種係数!ID77) -> 0 | P79: =IF(各種係数!IE77<0,0,各種係数!IE77) -> 0 | Q79: =$G79*H79 -> 0 | R79: =$G79*I79 -> 0 | S79: =$G79*J79 -> 0 | T79: =$G79*K79 -> 0 | U79: =$G79*L79 -> 0 | V79: =$G79*M79 -> 0 | W79: =$G79*N79 -> 0 | X79: =$G79*O79 -> 0 | Y79: =$G79*P79 -> 0 | Z79: =G79-Q79-R79 -> 0 | AA79: =IF(入力!H94="",各種係数!C77,入力!H94/100) -> 1 | AB79: =Z79*AA79 -> 0 | AC79: =C79+F79+AB79 -> 0 | AD79: =各種係数!E77 -> 0.72533269 | AE79: =AC79*AD79 -> 0 | AF79: =各種係数!F77 -> 0.15717374 | AG79: =AC79*AF79 -> 0 | AH79: =各種係数!HT77 -> 0.00050080143 | AI79: =AC79*AH79 -> 0
A80: 553 | B80: 住宅賃貸料（帰属家賃） | C80: 0 | D80: =入力!E95 -> 0 | E80: =IF(入力!F95="",各種係数!C78,入力!F95/100) -> 1 | F80: =D80*E80 -> 0 | G80: =入力!G95 -> 0 | H80: =IF(各種係数!HV78<0,0,各種係数!HV78) -> 0 | I80: =IF(各種係数!HX78<0,0,各種係数!HX78) -> 0 | J80: =IF(各種係数!HY78<0,0,各種係数!HY78) -> 0 | K80: =IF(各種係数!HZ78<0,0,各種係数!HZ78) -> 0 | L80: =IF(各種係数!IA78<0,0,各種係数!IA78) -> 0 | M80: =IF(各種係数!IB78<0,0,各種係数!IB78) -> 0 | N80: =IF(各種係数!IC78<0,0,各種係数!IC78) -> 0 | O80: =IF(各種係数!ID78<0,0,各種係数!ID78) -> 0 | P80: =IF(各種係数!IE78<0,0,各種係数!IE78) -> 0 | Q80: =$G80*H80 -> 0 | R80: =$G80*I80 -> 0 | S80: =$G80*J80 -> 0 | T80: =$G80*K80 -> 0 | U80: =$G80*L80 -> 0 | V80: =$G80*M80 -> 0 | W80: =$G80*N80 -> 0 | X80: =$G80*O80 -> 0 | Y80: =$G80*P80 -> 0 | Z80: =G80-Q80-R80 -> 0 | AA80: =IF(入力!H95="",各種係数!C78,入力!H95/100) -> 1 | AB80: =Z80*AA80 -> 0 | AC80: =C80+F80+AB80 -> 0 | AD80: =各種係数!E78 -> 0.8984283 | AE80: =AC80*AD80 -> 0 | AF80: =各種係数!F78 -> 0 | AG80: =AC80*AF80 -> 0 | AH80: =各種係数!HT78 -> 0 | AI80: =AC80*AH80 -> 0
A81: 571 | B81: 鉄道輸送 | C81: 0 | D81: =入力!E96 -> 0 | E81: =IF(入力!F96="",各種係数!C79,入力!F96/100) -> 0.1424334 | F81: =D81*E81 -> 0 | G81: =入力!G96 -> 0 | H81: =IF(各種係数!HV79<0,0,各種係数!HV79) -> 0 | I81: =IF(各種係数!HX79<0,0,各種係数!HX79) -> 0 | J81: =IF(各種係数!HY79<0,0,各種係数!HY79) -> 0 | K81: =IF(各種係数!HZ79<0,0,各種係数!HZ79) -> 0 | L81: =IF(各種係数!IA79<0,0,各種係数!IA79) -> 0 | M81: =IF(各種係数!IB79<0,0,各種係数!IB79) -> 0 | N81: =IF(各種係数!IC79<0,0,各種係数!IC79) -> 0 | O81: =IF(各種係数!ID79<0,0,各種係数!ID79) -> 0 | P81: =IF(各種係数!IE79<0,0,各種係数!IE79) -> 0 | Q81: =$G81*H81 -> 0 | R81: =$G81*I81 -> 0 | S81: =$G81*J81 -> 0 | T81: =$G81*K81 -> 0 | U81: =$G81*L81 -> 0 | V81: =$G81*M81 -> 0 | W81: =$G81*N81 -> 0 | X81: =$G81*O81 -> 0 | Y81: =$G81*P81 -> 0 | Z81: =G81-Q81+$S$6 -> 0 | AA81: =IF(入力!H96="",各種係数!C79,入力!H96/100) -> 0.1424334 | AB81: =Z81*AA81 -> 0 | AC81: =C81+F81+AB81 -> 0 | AD81: =各種係数!E79 -> 0.63334943 | AE81: =AC81*AD81 -> 0 | AF81: =各種係数!F79 -> 0.65234186 | AG81: =AC81*AF81 -> 0 | AH81: =各種係数!HT79 -> 0.0010832126 | AI81: =AC81*AH81 -> 0
A82: 572 | B82: 道路輸送（自家輸送を除く。） | C82: 0 | D82: =入力!E97 -> 0 | E82: =IF(入力!F97="",各種係数!C80,入力!F97/100) -> 0.67145356 | F82: =D82*E82 -> 0 | G82: =入力!G97 -> 0 | H82: =IF(各種係数!HV80<0,0,各種係数!HV80) -> 0 | I82: =IF(各種係数!HX80<0,0,各種係数!HX80) -> 0 | J82: =IF(各種係数!HY80<0,0,各種係数!HY80) -> 0 | K82: =IF(各種係数!HZ80<0,0,各種係数!HZ80) -> 0 | L82: =IF(各種係数!IA80<0,0,各種係数!IA80) -> 0 | M82: =IF(各種係数!IB80<0,0,各種係数!IB80) -> 0 | N82: =IF(各種係数!IC80<0,0,各種係数!IC80) -> 0 | O82: =IF(各種係数!ID80<0,0,各種係数!ID80) -> 0 | P82: =IF(各種係数!IE80<0,0,各種係数!IE80) -> 0 | Q82: =$G82*H82 -> 0 | R82: =$G82*I82 -> 0 | S82: =$G82*J82 -> 0 | T82: =$G82*K82 -> 0 | U82: =$G82*L82 -> 0 | V82: =$G82*M82 -> 0 | W82: =$G82*N82 -> 0 | X82: =$G82*O82 -> 0 | Y82: =$G82*P82 -> 0 | Z82: =G82-Q82+$T$6 -> 0 | AA82: =IF(入力!H97="",各種係数!C80,入力!H97/100) -> 0.67145356 | AB82: =Z82*AA82 -> 0 | AC82: =C82+F82+AB82 -> 0 | AD82: =各種係数!E80 -> 0.82730043 | AE82: =AC82*AD82 -> 0 | AF82: =各種係数!F80 -> 0.42446713 | AG82: =AC82*AF82 -> 0 | AH82: =各種係数!HT80 -> 0.0012424968 | AI82: =AC82*AH82 -> 0
A83: 573 | B83: 自家輸送 | C83: 0 | D83: =入力!E98 -> 0 | E83: =IF(入力!F98="",各種係数!C81,入力!F98/100) -> 1 | F83: =D83*E83 -> 0 | G83: =入力!G98 -> 0 | H83: =IF(各種係数!HV81<0,0,各種係数!HV81) -> 0 | I83: =IF(各種係数!HX81<0,0,各種係数!HX81) -> 0 | J83: =IF(各種係数!HY81<0,0,各種係数!HY81) -> 0 | K83: =IF(各種係数!HZ81<0,0,各種係数!HZ81) -> 0 | L83: =IF(各種係数!IA81<0,0,各種係数!IA81) -> 0 | M83: =IF(各種係数!IB81<0,0,各種係数!IB81) -> 0 | N83: =IF(各種係数!IC81<0,0,各種係数!IC81) -> 0 | O83: =IF(各種係数!ID81<0,0,各種係数!ID81) -> 0 | P83: =IF(各種係数!IE81<0,0,各種係数!IE81) -> 0 | Q83: =$G83*H83 -> 0 | R83: =$G83*I83 -> 0 | S83: =$G83*J83 -> 0 | T83: =$G83*K83 -> 0 | U83: =$G83*L83 -> 0 | V83: =$G83*M83 -> 0 | W83: =$G83*N83 -> 0 | X83: =$G83*O83 -> 0 | Y83: =$G83*P83 -> 0 | Z83: =G83-Q83-R83 -> 0 | AA83: =IF(入力!H98="",各種係数!C81,入力!H98/100) -> 1 | AB83: =Z83*AA83 -> 0 | AC83: =C83+F83+AB83 -> 0 | AD83: =各種係数!E81 -> 0 | AE83: =AC83*AD83 -> 0 | AF83: =各種係数!F81 -> 0 | AG83: =AC83*AF83 -> 0 | AH83: =各種係数!HT81 -> 0 | AI83: =AC83*AH83 -> 0
A84: 574 | B84: 水運 | C84: 0 | D84: =入力!E99 -> 0 | E84: =IF(入力!F99="",各種係数!C82,入力!F99/100) -> 0.021705275 | F84: =D84*E84 -> 0 | G84: =入力!G99 -> 0 | H84: =IF(各種係数!HV82<0,0,各種係数!HV82) -> 0 | I84: =IF(各種係数!HX82<0,0,各種係数!HX82) -> 0 | J84: =IF(各種係数!HY82<0,0,各種係数!HY82) -> 0 | K84: =IF(各種係数!HZ82<0,0,各種係数!HZ82) -> 0 | L84: =IF(各種係数!IA82<0,0,各種係数!IA82) -> 0 | M84: =IF(各種係数!IB82<0,0,各種係数!IB82) -> 0 | N84: =IF(各種係数!IC82<0,0,各種係数!IC82) -> 0 | O84: =IF(各種係数!ID82<0,0,各種係数!ID82) -> 0 | P84: =IF(各種係数!IE82<0,0,各種係数!IE82) -> 0 | Q84: =$G84*H84 -> 0 | R84: =$G84*I84 -> 0 | S84: =$G84*J84 -> 0 | T84: =$G84*K84 -> 0 | U84: =$G84*L84 -> 0 | V84: =$G84*M84 -> 0 | W84: =$G84*N84 -> 0 | X84: =$G84*O84 -> 0 | Y84: =$G84*P84 -> 0 | Z84: =G84-Q84+$U$6+$V$6 -> 0 | AA84: =IF(入力!H99="",各種係数!C82,入力!H99/100) -> 0.021705275 | AB84: =Z84*AA84 -> 0 | AC84: =C84+F84+AB84 -> 0 | AD84: =各種係数!E82 -> 0.41041987 | AE84: =AC84*AD84 -> 0 | AF84: =各種係数!F82 -> 0.31347549 | AG84: =AC84*AF84 -> 0 | AH84: =各種係数!HT82 -> 0.00056056276 | AI84: =AC84*AH84 -> 0
A85: 575 | B85: 航空輸送 | C85: 0 | D85: =入力!E100 -> 0 | E85: =IF(入力!F100="",各種係数!C83,入力!F100/100) -> 0 | F85: =D85*E85 -> 0 | G85: =入力!G100 -> 0 | H85: =IF(各種係数!HV83<0,0,各種係数!HV83) -> 0 | I85: =IF(各種係数!HX83<0,0,各種係数!HX83) -> 0 | J85: =IF(各種係数!HY83<0,0,各種係数!HY83) -> 0 | K85: =IF(各種係数!HZ83<0,0,各種係数!HZ83) -> 0 | L85: =IF(各種係数!IA83<0,0,各種係数!IA83) -> 0 | M85: =IF(各種係数!IB83<0,0,各種係数!IB83) -> 0 | N85: =IF(各種係数!IC83<0,0,各種係数!IC83) -> 0 | O85: =IF(各種係数!ID83<0,0,各種係数!ID83) -> 0 | P85: =IF(各種係数!IE83<0,0,各種係数!IE83) -> 0 | Q85: =$G85*H85 -> 0 | R85: =$G85*I85 -> 0 | S85: =$G85*J85 -> 0 | T85: =$G85*K85 -> 0 | U85: =$G85*L85 -> 0 | V85: =$G85*M85 -> 0 | W85: =$G85*N85 -> 0 | X85: =$G85*O85 -> 0 | Y85: =$G85*P85 -> 0 | Z85: =G85-Q85+$W$6 -> 0 | AA85: =IF(入力!H100="",各種係数!C83,入力!H100/100) -> 0 | AB85: =Z85*AA85 -> 0 | AC85: =C85+F85+AB85 -> 0 | AD85: =各種係数!E83 -> 0.24376731 | AE85: =AC85*AD85 -> 0 | AF85: =各種係数!F83 -> 0.15166205 | AG85: =AC85*AF85 -> 0 | AH85: =各種係数!HT83 -> 0.00021468144 | AI85: =AC85*AH85 -> 0
A86: 576 | B86: 貨物利用運送 | C86: 0 | D86: =入力!E101 -> 0 | E86: =IF(入力!F101="",各種係数!C84,入力!F101/100) -> 0.11466811 | F86: =D86*E86 -> 0 | G86: =入力!G101 -> 0 | H86: =IF(各種係数!HV84<0,0,各種係数!HV84) -> 0 | I86: =IF(各種係数!HX84<0,0,各種係数!HX84) -> 0 | J86: =IF(各種係数!HY84<0,0,各種係数!HY84) -> 0 | K86: =IF(各種係数!HZ84<0,0,各種係数!HZ84) -> 0 | L86: =IF(各種係数!IA84<0,0,各種係数!IA84) -> 0 | M86: =IF(各種係数!IB84<0,0,各種係数!IB84) -> 0 | N86: =IF(各種係数!IC84<0,0,各種係数!IC84) -> 0 | O86: =IF(各種係数!ID84<0,0,各種係数!ID84) -> 0 | P86: =IF(各種係数!IE84<0,0,各種係数!IE84) -> 0 | Q86: =$G86*H86 -> 0 | R86: =$G86*I86 -> 0 | S86: =$G86*J86 -> 0 | T86: =$G86*K86 -> 0 | U86: =$G86*L86 -> 0 | V86: =$G86*M86 -> 0 | W86: =$G86*N86 -> 0 | X86: =$G86*O86 -> 0 | Y86: =$G86*P86 -> 0 | Z86: =G86-Q86+$X$6 -> 0 | AA86: =IF(入力!H101="",各種係数!C84,入力!H101/100) -> 0.11466811 | AB86: =Z86*AA86 -> 0 | AC86: =C86+F86+AB86 -> 0 | AD86: =各種係数!E84 -> 0.76493506 | AE86: =AC86*AD86 -> 0 | AF86: =各種係数!F84 -> 0.28441558 | AG86: =AC86*AF86 -> 0 | AH86: =各種係数!HT84 -> 0.00068831169 | AI86: =AC86*AH86 -> 0
A87: 577 | B87: 倉庫 | C87: 0 | D87: =入力!E102 -> 0 | E87: =IF(入力!F102="",各種係数!C85,入力!F102/100) -> 0.44247253 | F87: =D87*E87 -> 0 | G87: =入力!G102 -> 0 | H87: =IF(各種係数!HV85<0,0,各種係数!HV85) -> 0 | I87: =IF(各種係数!HX85<0,0,各種係数!HX85) -> 0 | J87: =IF(各種係数!HY85<0,0,各種係数!HY85) -> 0 | K87: =IF(各種係数!HZ85<0,0,各種係数!HZ85) -> 0 | L87: =IF(各種係数!IA85<0,0,各種係数!IA85) -> 0 | M87: =IF(各種係数!IB85<0,0,各種係数!IB85) -> 0 | N87: =IF(各種係数!IC85<0,0,各種係数!IC85) -> 0 | O87: =IF(各種係数!ID85<0,0,各種係数!ID85) -> 0 | P87: =IF(各種係数!IE85<0,0,各種係数!IE85) -> 0 | Q87: =$G87*H87 -> 0 | R87: =$G87*I87 -> 0 | S87: =$G87*J87 -> 0 | T87: =$G87*K87 -> 0 | U87: =$G87*L87 -> 0 | V87: =$G87*M87 -> 0 | W87: =$G87*N87 -> 0 | X87: =$G87*O87 -> 0 | Y87: =$G87*P87 -> 0 | Z87: =G87-Q87+$Y$6 -> 0 | AA87: =IF(入力!H102="",各種係数!C85,入力!H102/100) -> 0.44247253 | AB87: =Z87*AA87 -> 0 | AC87: =C87+F87+AB87 -> 0 | AD87: =各種係数!E85 -> 0.67201882 | AE87: =AC87*AD87 -> 0 | AF87: =各種係数!F85 -> 0.21272244 | AG87: =AC87*AF87 -> 0 | AH87: =各種係数!HT85 -> 0.00052464717 | AI87: =AC87*AH87 -> 0
A88: 578 | B88: 運輸附帯サービス | C88: 0 | D88: =入力!E103 -> 0 | E88: =IF(入力!F103="",各種係数!C86,入力!F103/100) -> 0.37368589 | F88: =D88*E88 -> 0 | G88: =入力!G103 -> 0 | H88: =IF(各種係数!HV86<0,0,各種係数!HV86) -> 0 | I88: =IF(各種係数!HX86<0,0,各種係数!HX86) -> 0 | J88: =IF(各種係数!HY86<0,0,各種係数!HY86) -> 0 | K88: =IF(各種係数!HZ86<0,0,各種係数!HZ86) -> 0 | L88: =IF(各種係数!IA86<0,0,各種係数!IA86) -> 0 | M88: =IF(各種係数!IB86<0,0,各種係数!IB86) -> 0 | N88: =IF(各種係数!IC86<0,0,各種係数!IC86) -> 0 | O88: =IF(各種係数!ID86<0,0,各種係数!ID86) -> 0 | P88: =IF(各種係数!IE86<0,0,各種係数!IE86) -> 0 | Q88: =$G88*H88 -> 0 | R88: =$G88*I88 -> 0 | S88: =$G88*J88 -> 0 | T88: =$G88*K88 -> 0 | U88: =$G88*L88 -> 0 | V88: =$G88*M88 -> 0 | W88: =$G88*N88 -> 0 | X88: =$G88*O88 -> 0 | Y88: =$G88*P88 -> 0 | Z88: =G88-Q88-R88 -> 0 | AA88: =IF(入力!H103="",各種係数!C86,入力!H103/100) -> 0.37368589 | AB88: =Z88*AA88 -> 0 | AC88: =C88+F88+AB88 -> 0 | AD88: =各種係数!E86 -> 0.58273503 | AE88: =AC88*AD88 -> 0 | AF88: =各種係数!F86 -> 0.29747301 | AG88: =AC88*AF88 -> 0 | AH88: =各種係数!HT86 -> 0.00059641585 | AI88: =AC88*AH88 -> 0
A89: 579 | B89: 郵便・信書便 | C89: 0 | D89: =入力!E104 -> 0 | E89: =IF(入力!F104="",各種係数!C87,入力!F104/100) -> 0.82752902 | F89: =D89*E89 -> 0 | G89: =入力!G104 -> 0 | H89: =IF(各種係数!HV87<0,0,各種係数!HV87) -> 0 | I89: =IF(各種係数!HX87<0,0,各種係数!HX87) -> 0 | J89: =IF(各種係数!HY87<0,0,各種係数!HY87) -> 0 | K89: =IF(各種係数!HZ87<0,0,各種係数!HZ87) -> 0 | L89: =IF(各種係数!IA87<0,0,各種係数!IA87) -> 0 | M89: =IF(各種係数!IB87<0,0,各種係数!IB87) -> 0 | N89: =IF(各種係数!IC87<0,0,各種係数!IC87) -> 0 | O89: =IF(各種係数!ID87<0,0,各種係数!ID87) -> 0 | P89: =IF(各種係数!IE87<0,0,各種係数!IE87) -> 0 | Q89: =$G89*H89 -> 0 | R89: =$G89*I89 -> 0 | S89: =$G89*J89 -> 0 | T89: =$G89*K89 -> 0 | U89: =$G89*L89 -> 0 | V89: =$G89*M89 -> 0 | W89: =$G89*N89 -> 0 | X89: =$G89*O89 -> 0 | Y89: =$G89*P89 -> 0 | Z89: =G89-Q89-R89 -> 0 | AA89: =IF(入力!H104="",各種係数!C87,入力!H104/100) -> 0.82752902 | AB89: =Z89*AA89 -> 0 | AC89: =C89+F89+AB89 -> 0 | AD89: =各種係数!E87 -> 0.7954149 | AE89: =AC89*AD89 -> 0 | AF89: =各種係数!F87 -> 0.52442063 | AG89: =AC89*AF89 -> 0 | AH89: =各種係数!HT87 -> 0.0012758535 | AI89: =AC89*AH89 -> 0
A90: 591 | B90: 通信 | C90: 0 | D90: =入力!E105 -> 0 | E90: =IF(入力!F105="",各種係数!C88,入力!F105/100) -> 0.62165808 | F90: =D90*E90 -> 0 | G90: =入力!G105 -> 0 | H90: =IF(各種係数!HV88<0,0,各種係数!HV88) -> 0 | I90: =IF(各種係数!HX88<0,0,各種係数!HX88) -> 0 | J90: =IF(各種係数!HY88<0,0,各種係数!HY88) -> 0 | K90: =IF(各種係数!HZ88<0,0,各種係数!HZ88) -> 0 | L90: =IF(各種係数!IA88<0,0,各種係数!IA88) -> 0 | M90: =IF(各種係数!IB88<0,0,各種係数!IB88) -> 0 | N90: =IF(各種係数!IC88<0,0,各種係数!IC88) -> 0 | O90: =IF(各種係数!ID88<0,0,各種係数!ID88) -> 0 | P90: =IF(各種係数!IE88<0,0,各種係数!IE88) -> 0 | Q90: =$G90*H90 -> 0 | R90: =$G90*I90 -> 0 | S90: =$G90*J90 -> 0 | T90: =$G90*K90 -> 0 | U90: =$G90*L90 -> 0 | V90: =$G90*M90 -> 0 | W90: =$G90*N90 -> 0 | X90: =$G90*O90 -> 0 | Y90: =$G90*P90 -> 0 | Z90: =G90-Q90-R90 -> 0 | AA90: =IF(入力!H105="",各種係数!C88,入力!H105/100) -> 0.62165808 | AB90: =Z90*AA90 -> 0 | AC90: =C90+F90+AB90 -> 0 | AD90: =各種係数!E88 -> 0.46301471 | AE90: =AC90*AD90 -> 0 | AF90: =各種係数!F88 -> 0.067544278 | AG90: =AC90*AF90 -> 0 | AH90: =各種係数!HT88 -> 8.8215534e-05 | AI90: =AC90*AH90 -> 0
A91: 592 | B91: 放送 | C91: 0 | D91: =入力!E106 -> 0 | E91: =IF(入力!F106="",各種係数!C89,入力!F106/100) -> 1 | F91: =D91*E91 -> 0 | G91: =入力!G106 -> 0 | H91: =IF(各種係数!HV89<0,0,各種係数!HV89) -> 0 | I91: =IF(各種係数!HX89<0,0,各種係数!HX89) -> 0 | J91: =IF(各種係数!HY89<0,0,各種係数!HY89) -> 0 | K91: =IF(各種係数!HZ89<0,0,各種係数!HZ89) -> 0 | L91: =IF(各種係数!IA89<0,0,各種係数!IA89) -> 0 | M91: =IF(各種係数!IB89<0,0,各種係数!IB89) -> 0 | N91: =IF(各種係数!IC89<0,0,各種係数!IC89) -> 0 | O91: =IF(各種係数!ID89<0,0,各種係数!ID89) -> 0 | P91: =IF(各種係数!IE89<0,0,各種係数!IE89) -> 0 | Q91: =$G91*H91 -> 0 | R91: =$G91*I91 -> 0 | S91: =$G91*J91 -> 0 | T91: =$G91*K91 -> 0 | U91: =$G91*L91 -> 0 | V91: =$G91*M91 -> 0 | W91: =$G91*N91 -> 0 | X91: =$G91*O91 -> 0 | Y91: =$G91*P91 -> 0 | Z91: =G91-Q91-R91 -> 0 | AA91: =IF(入力!H106="",各種係数!C89,入力!H106/100) -> 1 | AB91: =Z91*AA91 -> 0 | AC91: =C91+F91+AB91 -> 0 | AD91: =各種係数!E89 -> 0.46398344 | AE91: =AC91*AD91 -> 0 | AF91: =各種係数!F89 -> 0.19379025 | AG91: =AC91*AF91 -> 0 | AH91: =各種係数!HT89 -> 0.00027230911 | AI91: =AC91*AH91 -> 0
A92: 593 | B92: 情報サービス | C92: 0 | D92: =入力!E107 -> 0 | E92: =IF(入力!F107="",各種係数!C90,入力!F107/100) -> 0.3060154 | F92: =D92*E92 -> 0 | G92: =入力!G107 -> 0 | H92: =IF(各種係数!HV90<0,0,各種係数!HV90) -> 0.032816121 | I92: =IF(各種係数!HX90<0,0,各種係数!HX90) -> 0.004251559 | J92: =IF(各種係数!HY90<0,0,各種係数!HY90) -> 1.0968755e-05 | K92: =IF(各種係数!HZ90<0,0,各種係数!HZ90) -> 0.0030193075 | L92: =IF(各種係数!IA90<0,0,各種係数!IA90) -> 0 | M92: =IF(各種係数!IB90<0,0,各種係数!IB90) -> 0 | N92: =IF(各種係数!IC90<0,0,各種係数!IC90) -> 7.9428919e-06 | O92: =IF(各種係数!ID90<0,0,各種係数!ID90) -> 0.00017307309 | P92: =IF(各種係数!IE90<0,0,各種係数!IE90) -> 0.0010402667 | Q92: =$G92*H92 -> 0 | R92: =$G92*I92 -> 0 | S92: =$G92*J92 -> 0 | T92: =$G92*K92 -> 0 | U92: =$G92*L92 -> 0 | V92: =$G92*M92 -> 0 | W92: =$G92*N92 -> 0 | X92: =$G92*O92 -> 0 | Y92: =$G92*P92 -> 0 | Z92: =G92-Q92-R92 -> 0 | AA92: =IF(入力!H107="",各種係数!C90,入力!H107/100) -> 0.3060154 | AB92: =Z92*AA92 -> 0 | AC92: =C92+F92+AB92 -> 0 | AD92: =各種係数!E90 -> 0.65831231 | AE92: =AC92*AD92 -> 0 | AF92: =各種係数!F90 -> 0.45911689 | AG92: =AC92*AF92 -> 0 | AH92: =各種係数!HT90 -> 0.00085852942 | AI92: =AC92*AH92 -> 0
A93: 594 | B93: インターネット附随サービス | C93: 0 | D93: =入力!E108 -> 0 | E93: =IF(入力!F108="",各種係数!C91,入力!F108/100) -> 0.094663296 | F93: =D93*E93 -> 0 | G93: =入力!G108 -> 0 | H93: =IF(各種係数!HV91<0,0,各種係数!HV91) -> 0 | I93: =IF(各種係数!HX91<0,0,各種係数!HX91) -> 0 | J93: =IF(各種係数!HY91<0,0,各種係数!HY91) -> 0 | K93: =IF(各種係数!HZ91<0,0,各種係数!HZ91) -> 0 | L93: =IF(各種係数!IA91<0,0,各種係数!IA91) -> 0 | M93: =IF(各種係数!IB91<0,0,各種係数!IB91) -> 0 | N93: =IF(各種係数!IC91<0,0,各種係数!IC91) -> 0 | O93: =IF(各種係数!ID91<0,0,各種係数!ID91) -> 0 | P93: =IF(各種係数!IE91<0,0,各種係数!IE91) -> 0 | Q93: =$G93*H93 -> 0 | R93: =$G93*I93 -> 0 | S93: =$G93*J93 -> 0 | T93: =$G93*K93 -> 0 | U93: =$G93*L93 -> 0 | V93: =$G93*M93 -> 0 | W93: =$G93*N93 -> 0 | X93: =$G93*O93 -> 0 | Y93: =$G93*P93 -> 0 | Z93: =G93-Q93-R93 -> 0 | AA93: =IF(入力!H108="",各種係数!C91,入力!H108/100) -> 0.094663296 | AB93: =Z93*AA93 -> 0 | AC93: =C93+F93+AB93 -> 0 | AD93: =各種係数!E91 -> 0.45505481 | AE93: =AC93*AD93 -> 0 | AF93: =各種係数!F91 -> 0.44141291 | AG93: =AC93*AF93 -> 0 | AH93: =各種係数!HT91 -> 0.00086479903 | AI93: =AC93*AH93 -> 0
A94: 595 | B94: 映像・音声・文字情報制作 | C94: 0 | D94: =入力!E109 -> 0 | E94: =IF(入力!F109="",各種係数!C92,入力!F109/100) -> 0.31384943 | F94: =D94*E94 -> 0 | G94: =入力!G109 -> 0 | H94: =IF(各種係数!HV92<0,0,各種係数!HV92) -> 0.16411688 | I94: =IF(各種係数!HX92<0,0,各種係数!HX92) -> 0.0236801 | J94: =IF(各種係数!HY92<0,0,各種係数!HY92) -> 0.00013975326 | K94: =IF(各種係数!HZ92<0,0,各種係数!HZ92) -> 0.018269943 | L94: =IF(各種係数!IA92<0,0,各種係数!IA92) -> 4.1801703e-06 | M94: =IF(各種係数!IB92<0,0,各種係数!IB92) -> 4.5529963e-05 | N94: =IF(各種係数!IC92<0,0,各種係数!IC92) -> 2.4516134e-05 | O94: =IF(各種係数!ID92<0,0,各種係数!ID92) -> 0.0011702217 | P94: =IF(各種係数!IE92<0,0,各種係数!IE92) -> 0.0040259559 | Q94: =$G94*H94 -> 0 | R94: =$G94*I94 -> 0 | S94: =$G94*J94 -> 0 | T94: =$G94*K94 -> 0 | U94: =$G94*L94 -> 0 | V94: =$G94*M94 -> 0 | W94: =$G94*N94 -> 0 | X94: =$G94*O94 -> 0 | Y94: =$G94*P94 -> 0 | Z94: =G94-Q94-R94 -> 0 | AA94: =IF(入力!H109="",各種係数!C92,入力!H109/100) -> 0.31384943 | AB94: =Z94*AA94 -> 0 | AC94: =C94+F94+AB94 -> 0 | AD94: =各種係数!E92 -> 0.453125 | AE94: =AC94*AD94 -> 0 | AF94: =各種係数!F92 -> 0.34496438 | AG94: =AC94*AF94 -> 0 | AH94: =各種係数!HT92 -> 0.00070676813 | AI94: =AC94*AH94 -> 0
A95: 611 | B95: 公務 | C95: 0 | D95: =入力!E110 -> 0 | E95: =IF(入力!F110="",各種係数!C93,入力!F110/100) -> 1 | F95: =D95*E95 -> 0 | G95: =入力!G110 -> 0 | H95: =IF(各種係数!HV93<0,0,各種係数!HV93) -> 0 | I95: =IF(各種係数!HX93<0,0,各種係数!HX93) -> 0 | J95: =IF(各種係数!HY93<0,0,各種係数!HY93) -> 0 | K95: =IF(各種係数!HZ93<0,0,各種係数!HZ93) -> 0 | L95: =IF(各種係数!IA93<0,0,各種係数!IA93) -> 0 | M95: =IF(各種係数!IB93<0,0,各種係数!IB93) -> 0 | N95: =IF(各種係数!IC93<0,0,各種係数!IC93) -> 0 | O95: =IF(各種係数!ID93<0,0,各種係数!ID93) -> 0 | P95: =IF(各種係数!IE93<0,0,各種係数!IE93) -> 0 | Q95: =$G95*H95 -> 0 | R95: =$G95*I95 -> 0 | S95: =$G95*J95 -> 0 | T95: =$G95*K95 -> 0 | U95: =$G95*L95 -> 0 | V95: =$G95*M95 -> 0 | W95: =$G95*N95 -> 0 | X95: =$G95*O95 -> 0 | Y95: =$G95*P95 -> 0 | Z95: =G95-Q95-R95 -> 0 | AA95: =IF(入力!H110="",各種係数!C93,入力!H110/100) -> 1 | AB95: =Z95*AA95 -> 0 | AC95: =C95+F95+AB95 -> 0 | AD95: =各種係数!E93 -> 0.72347392 | AE95: =AC95*AD95 -> 0 | AF95: =各種係数!F93 -> 0.34296156 | AG95: =AC95*AF95 -> 0 | AH95: =各種係数!HT93 -> 0.00051057536 | AI95: =AC95*AH95 -> 0
A96: 631 | B96: 教育 | C96: 0 | D96: =入力!E111 -> 0 | E96: =IF(入力!F111="",各種係数!C94,入力!F111/100) -> 0.96324846 | F96: =D96*E96 -> 0 | G96: =入力!G111 -> 0 | H96: =IF(各種係数!HV94<0,0,各種係数!HV94) -> 0 | I96: =IF(各種係数!HX94<0,0,各種係数!HX94) -> 2.6817031e-05 | J96: =IF(各種係数!HY94<0,0,各種係数!HY94) -> 0 | K96: =IF(各種係数!HZ94<0,0,各種係数!HZ94) -> 2.6817031e-05 | L96: =IF(各種係数!IA94<0,0,各種係数!IA94) -> 0 | M96: =IF(各種係数!IB94<0,0,各種係数!IB94) -> 0 | N96: =IF(各種係数!IC94<0,0,各種係数!IC94) -> 0 | O96: =IF(各種係数!ID94<0,0,各種係数!ID94) -> 0 | P96: =IF(各種係数!IE94<0,0,各種係数!IE94) -> 0 | Q96: =$G96*H96 -> 0 | R96: =$G96*I96 -> 0 | S96: =$G96*J96 -> 0 | T96: =$G96*K96 -> 0 | U96: =$G96*L96 -> 0 | V96: =$G96*M96 -> 0 | W96: =$G96*N96 -> 0 | X96: =$G96*O96 -> 0 | Y96: =$G96*P96 -> 0 | Z96: =G96-Q96-R96 -> 0 | AA96: =IF(入力!H111="",各種係数!C94,入力!H111/100) -> 0.96324846 | AB96: =Z96*AA96 -> 0 | AC96: =C96+F96+AB96 -> 0 | AD96: =各種係数!E94 -> 0.79720491 | AE96: =AC96*AD96 -> 0 | AF96: =各種係数!F94 -> 0.6292377 | AG96: =AC96*AF96 -> 0 | AH96: =各種係数!HT94 -> 0.0011055635 | AI96: =AC96*AH96 -> 0
A97: 632 | B97: 研究 | C97: 0 | D97: =入力!E112 -> 0 | E97: =IF(入力!F112="",各種係数!C95,入力!F112/100) -> 0.96648274 | F97: =D97*E97 -> 0 | G97: =入力!G112 -> 0 | H97: =IF(各種係数!HV95<0,0,各種係数!HV95) -> 0 | I97: =IF(各種係数!HX95<0,0,各種係数!HX95) -> 0 | J97: =IF(各種係数!HY95<0,0,各種係数!HY95) -> 0 | K97: =IF(各種係数!HZ95<0,0,各種係数!HZ95) -> 0 | L97: =IF(各種係数!IA95<0,0,各種係数!IA95) -> 0 | M97: =IF(各種係数!IB95<0,0,各種係数!IB95) -> 0 | N97: =IF(各種係数!IC95<0,0,各種係数!IC95) -> 0 | O97: =IF(各種係数!ID95<0,0,各種係数!ID95) -> 0 | P97: =IF(各種係数!IE95<0,0,各種係数!IE95) -> 0 | Q97: =$G97*H97 -> 0 | R97: =$G97*I97 -> 0 | S97: =$G97*J97 -> 0 | T97: =$G97*K97 -> 0 | U97: =$G97*L97 -> 0 | V97: =$G97*M97 -> 0 | W97: =$G97*N97 -> 0 | X97: =$G97*O97 -> 0 | Y97: =$G97*P97 -> 0 | Z97: =G97-Q97-R97 -> 0 | AA97: =IF(入力!H112="",各種係数!C95,入力!H112/100) -> 0.96648274 | AB97: =Z97*AA97 -> 0 | AC97: =C97+F97+AB97 -> 0 | AD97: =各種係数!E95 -> 0.62537274 | AE97: =AC97*AD97 -> 0 | AF97: =各種係数!F95 -> 0.14834299 | AG97: =AC97*AF97 -> 0 | AH97: =各種係数!HT95 -> 0.00021685374 | AI97: =AC97*AH97 -> 0
A98: 641 | B98: 医療 | C98: 0 | D98: =入力!E113 -> 0 | E98: =IF(入力!F113="",各種係数!C96,入力!F113/100) -> 0.96403179 | F98: =D98*E98 -> 0 | G98: =入力!G113 -> 0 | H98: =IF(各種係数!HV96<0,0,各種係数!HV96) -> 0 | I98: =IF(各種係数!HX96<0,0,各種係数!HX96) -> 0 | J98: =IF(各種係数!HY96<0,0,各種係数!HY96) -> 0 | K98: =IF(各種係数!HZ96<0,0,各種係数!HZ96) -> 0 | L98: =IF(各種係数!IA96<0,0,各種係数!IA96) -> 0 | M98: =IF(各種係数!IB96<0,0,各種係数!IB96) -> 0 | N98: =IF(各種係数!IC96<0,0,各種係数!IC96) -> 0 | O98: =IF(各種係数!ID96<0,0,各種係数!ID96) -> 0 | P98: =IF(各種係数!IE96<0,0,各種係数!IE96) -> 0 | Q98: =$G98*H98 -> 0 | R98: =$G98*I98 -> 0 | S98: =$G98*J98 -> 0 | T98: =$G98*K98 -> 0 | U98: =$G98*L98 -> 0 | V98: =$G98*M98 -> 0 | W98: =$G98*N98 -> 0 | X98: =$G98*O98 -> 0 | Y98: =$G98*P98 -> 0 | Z98: =G98-Q98-R98 -> 0 | AA98: =IF(入力!H113="",各種係数!C96,入力!H113/100) -> 0.96403179 | AB98: =Z98*AA98 -> 0 | AC98: =C98+F98+AB98 -> 0 | AD98: =各種係数!E96 -> 0.55585668 | AE98: =AC98*AD98 -> 0 | AF98: =各種係数!F96 -> 0.42677327 | AG98: =AC98*AF98 -> 0 | AH98: =各種係数!HT96 -> 0.00084456289 | AI98: =AC98*AH98 -> 0
...

Sheet 計算2-2
HW1: =HW2+HW6 -> 0 | HX1: =HX2+HX6 -> 0 | HY1: =HY2+HY6 -> 0
C2: 直接効果 | G2: 直接効果 | HW2: =C6 -> 0 | HX2: =H6 -> 0 | HY2: =I6 -> 0
C4: 域内生産の | D4: 中間投入率 | E4: 粗付加価値率 | F4: 雇用者所得率 | G4: 中間投入額 | H4: 粗付加価値額 | I4: 雇用者所得額 | J4: 万円あたり | K4: 就業機会 | L4: 生産増× | M4: 自給率 | N4: うち | O4: 投入係数 | DS4: 開放経済型逆行列係数 | HW4: １次 | HX4: うち | HY4: うち | HZ4: 万円あたり | IA4: 就業機会 | IB4: 直接＋１次 | IC4: うち | IE4: 万円あたり | IF4: 就業機会 | IH4: 消費誘発 | IJ4: 消費誘発 | IL4: うち | IM4: ２次 | IO4: うち | IR4: 万円あたり | IS4: 就業機会 | IT4: 総合 | IU4: 粗付加価値 | IW4: 就業機会
C5: 増加計 | J5: の就業者数 | K5: 誘発数 | L5: 投入係数 | N5: 県内自給分 | O5: 011 | P5: 012 | Q5: 013 | R5: 015 | S5: 017 | T5: 061 | U5: 062 | V5: 111 | W5: 112 | X5: 113 | Y5: 114 | Z5: 151 | AA5: 152 | AB5: 161 | AC5: 162 | AD5: 163 | AE5: 164 | AF5: 191 | AG5: 201 | AH5: 202 | AI5: 203 | AJ5: 204 | AK5: 205 | AL5: 206 | AM5: 207 | AN5: 208 | AO5: 211 | AP5: 212 | AQ5: 221 | AR5: 222 | AS5: 231 | AT5: 251 | AU5: 252 | AV5: 253 | AW5: 259 | AX5: 261 | AY5: 262 | AZ5: 263 | BA5: 269 | BB5: 271 | BC5: 272 | BD5: 281 | BE5: 289 | BF5: 291 | BG5: 301 | BH5: 311 | BI5: 321 | BJ5: 329 | BK5: 331 | BL5: 332 | BM5: 333 | BN5: 339 | BO5: 341 | BP5: 342 | BQ5: 351 | BR5: 352 | BS5: 353 | BT5: 354 | BU5: 359 | BV5: 391 | BW5: 392 | BX5: 411 | BY5: 412 | BZ5: 413 | CA5: 419 | CB5: 461 | CC5: 462 | CD5: 471 | CE5: 481 | CF5: 511 | CG5: 531 | CH5: 551 | CI5: 552 | CJ5: 553 | CK5: 571 | CL5: 572 | CM5: 573 | CN5: 574 | CO5: 575 | CP5: 576 | CQ5: 577 | CR5: 578 | CS5: 579 | CT5: 591 | CU5: 592 | CV5: 593 | CW5: 594 | CX5: 595 | CY5: 611 | CZ5: 631 | DA5: 632 | DB5: 641 | DC5: 642 | DD5: 643 | DE5: 644 | DF5: 659 | DG5: 661 | DH5: 662 | DI5: 663 | DJ5: 669 | DK5: 671 | DL5: 672 | DM5: 673 | DN5: 674 | DO5: 675 | DP5: 679 | DQ5: 681 | DR5: 691 | DS5: 011 | DT5: 012 | DU5: 013 | DV5: 015 | DW5: 017 | DX5: 061 | DY5: 062 | DZ5: 111 | EA5: 112 | EB5: 113 | EC5: 114 | ED5: 151 | EE5: 152 | EF5: 161 | EG5: 162 | EH5: 163 | EI5: 164 | EJ5: 191 | EK5: 201 | EL5: 202 | EM5: 203 | EN5: 204 | EO5: 205 | EP5: 206 | EQ5: 207 | ER5: 208 | ES5: 211 | ET5: 212 | EU5: 221 | EV5: 222 | EW5: 231 | EX5: 251 | EY5: 252 | EZ5: 253 | FA5: 259 | FB5: 261 | FC5: 262 | FD5: 263 | FE5: 269 | FF5: 271 | FG5: 272 | FH5: 281 | FI5: 289 | FJ5: 291 | FK5: 301 | FL5: 311 | FM5: 321 | FN5: 329 | FO5: 331 | FP5: 332 | FQ5: 333 | FR5: 339 | FS5: 341 | FT5: 342 | FU5: 351 | FV5: 352 | FW5: 353 | FX5: 354 | FY5: 359 | FZ5: 391 | GA5: 392 | GB5: 411 | GC5: 412 | GD5: 413 | GE5: 419 | GF5: 461 | GG5: 462 | GH5: 471 | GI5: 481 | GJ5: 511 | GK5: 531 | GL5: 551 | GM5: 552 | GN5: 553 | GO5: 571 | GP5: 572 | GQ5: 573 | GR5: 574 | GS5: 575 | GT5: 576 | GU5: 577 | GV5: 578 | GW5: 579 | GX5: 591 | GY5: 592 | GZ5: 593 | HA5: 594 | HB5: 595 | HC5: 611 | HD5: 631 | HE5: 632 | HF5: 641 | HG5: 642 | HH5: 643 | HI5: 644 | HJ5: 659 | HK5: 661 | HL5: 662 | HM5: 663 | HN5: 669 | HO5: 671 | HP5: 672 | HQ5: 673 | HR5: 674 | HS5: 675 | HT5: 679 | HU5: 681 | HV5: 691 | HW5: 生産誘発 | HX5: 粗付加価値 | HY5: 雇用者所得 | HZ5: の就業者数 | IA5: 誘発数 | IB5: 生産誘発 | IC5: 粗付加価値 | ID5: うち雇用者所得 | IE5: の就業者数 | IF5: 誘発数 | IG5: 消費転換率 | IH5: （総額） | II5: （消費パターン） | IJ5: （内訳） | IK5: （域内自給率） | IL5: 県内で生産 | IM5: 生産誘発 | IN5: （粗付加価値率） | IO5: 粗付加価値 | IP5: （雇用者所得率） | IQ5: うち雇用者所得 | IR5: の就業者数 | IS5: 誘発数 | IT5: 生産誘発 | IU5: 誘発額 | IV5: 雇用者所得誘発額 | IW5: 誘発数
