Workbook

Sheet データシート
D2: 当該団体(円) | F2: 類似団体内平均(円)
A3: H25 | D3: 133251 | F3: 81990
D4: 25193 | F4: 34482
A5: H26 | D5: 70728 | F5: 87551
D6: 40165 | F6: 43994
A7: H27 | D7: 127600 | F7: 77577
D8: 60473 | F8: 40870
A9: H28 | D9: 82935 | F9: 115123
D10: 41305 | F10: 46026
A11: H29 | D11: 72647 | F11: 98899
D12: 54967 | F12: 43734
D13: 97432 | F13: 92228
D14: 44421 | F14: 41821
A17: 実質収支比率等に係る経年分析
B18: =#REF! -> #REF! | C18: =#REF! -> #REF! | D18: =#REF! -> #REF! | E18: =#REF! -> #REF! | F18: =#REF! -> #REF!
A19: 実質収支額 | B19: =ROUND(VALUE(SUBSTITUTE(#REF!,"▲","-")),2) -> #REF! | C19: =ROUND(VALUE(SUBSTITUTE(#REF!,"▲","-")),2) -> #REF! | D19: =ROUND(VALUE(SUBSTITUTE(#REF!,"▲","-")),2) -> #REF! | E19: =ROUND(VALUE(SUBSTITUTE(#REF!,"▲","-")),2) -> #REF! | F19: =ROUND(VALUE(SUBSTITUTE(#REF!,"▲","-")),2) -> #REF!
A20: 財政調整基金残高 | B20: =ROUND(VALUE(SUBSTITUTE(#REF!,"▲","-")),2) -> #REF! | C20: =ROUND(VALUE(SUBSTITUTE(#REF!,"▲","-")),2) -> #REF! | D20: =ROUND(VALUE(SUBSTITUTE(#REF!,"▲","-")),2) -> #REF! | E20: =ROUND(VALUE(SUBSTITUTE(#REF!,"▲","-")),2) -> #REF! | F20: =ROUND(VALUE(SUBSTITUTE(#REF!,"▲","-")),2) -> #REF!
A21: 実質単年度収支 | B21: =IF(ISNUMBER(VALUE(SUBSTITUTE(#REF!,"▲","-"))),ROUND(VALUE(SUBSTITUTE(#REF!,"▲","-")),2),NA()) -> #N/A | C21: =IF(ISNUMBER(VALUE(SUBSTITUTE(#REF!,"▲","-"))),ROUND(VALUE(SUBSTITUTE(#REF!,"▲","-")),2),NA()) -> #N/A | D21: =IF(ISNUMBER(VALUE(SUBSTITUTE(#REF!,"▲","-"))),ROUND(VALUE(SUBSTITUTE(#REF!,"▲","-")),2),NA()) -> #N/A | E21: =IF(ISNUMBER(VALUE(SUBSTITUTE(#REF!,"▲","-"))),ROUND(VALUE(SUBSTITUTE(#REF!,"▲","-")),2),NA()) -> #N/A | F21: =IF(ISNUMBER(VALUE(SUBSTITUTE(#REF!,"▲","-"))),ROUND(VALUE(SUBSTITUTE(#REF!,"▲","-")),2),NA()) -> #N/A
A24: 連結実質赤字比率に係る赤字・黒字の構成分析
B25: =#REF! -> #REF! | D25: =#REF! -> #REF! | F25: =#REF! -> #REF! | H25: =#REF! -> #REF! | J25: =#REF! -> #REF!
B26: 赤字額 | C26: 黒字額 | D26: 赤字額 | E26: 黒字額 | F26: 赤字額 | G26: 黒字額 | H26: 赤字額 | I26: 黒字額 | J26: 赤字額 | K26: 黒字額
A27: =IF(#REF!="",NA(),#REF!) -> #REF! | B27: =IF(ROUND(VALUE(SUBSTITUTE(#REF!,"▲", "-")), 2) < 0, ABS(ROUND(VALUE(SUBSTITUTE(#REF!,"▲", "-")), 2)), NA()) -> #REF! | C27: =IF(ROUND(VALUE(SUBSTITUTE(#REF!,"▲", "-")), 2) >= 0, ABS(ROUND(VALUE(SUBSTITUTE(#REF!,"▲", "-")), 2)), NA()) -> #REF! | D27: =IF(ROUND(VALUE(SUBSTITUTE(#REF!,"▲", "-")), 2) < 0, ABS(ROUND(VALUE(SUBSTITUTE(#REF!,"▲", "-")), 2)), NA()) -> #REF! | E27: =IF(ROUND(VALUE(SUBSTITUTE(#REF!,"▲", "-")), 2) >= 0, ABS(ROUND(VALUE(SUBSTITUTE(#REF!,"▲", "-")), 2)), NA()) -> #REF! | F27: =IF(ROUND(VALUE(SUBSTITUTE(#REF!,"▲", "-")), 2) < 0, ABS(ROUND(VALUE(SUBSTITUTE(#REF!,"▲", "-")), 2)), NA()) -> #REF! | G27: =IF(ROUND(VALUE(SUBSTITUTE(#REF!,"▲", "-")), 2) >= 0, ABS(ROUND(VALUE(SUBSTITUTE(#REF!,"▲", "-")), 2)), NA()) -> #REF! | H27: =IF(ROUND(VALUE(SUBSTITUTE(#REF!,"▲", "-")), 2) < 0, ABS(ROUND(VALUE(SUBSTITUTE(#REF!,"▲", "-")), 2)), NA()) -> #REF! | I27: =IF(ROUND(VALUE(SUBSTITUTE(#REF!,"▲", "-")), 2) >= 0, ABS(ROUND(VALUE(SUBSTITUTE(#REF!,"▲", "-")), 2)), NA()) -> #REF! | J27: =IF(ROUND(VALUE(SUBSTITUTE(#REF!,"▲", "-")), 2) < 0, ABS(ROUND(VALUE(SUBSTITUTE(#REF!,"▲", "-")), 2)), NA()) -> #REF! | K27: =IF(ROUND(VALUE(SUBSTITUTE(#REF!,"▲", "-")), 2) >= 0, ABS(ROUND(VALUE(SUBSTITUTE(#REF!,"▲", "-")), 2)), NA()) -> #REF!
A28: =IF(#REF!="",NA(),#REF!) -> #REF! | B28: =IF(ROUND(VALUE(SUBSTITUTE(#REF!,"▲", "-")), 2) < 0, ABS(ROUND(VALUE(SUBSTITUTE(#REF!,"▲", "-")), 2)), NA()) -> #REF! | C28: =IF(ROUND(VALUE(SUBSTITUTE(#REF!,"▲", "-")), 2) >= 0, ABS(ROUND(VALUE(SUBSTITUTE(#REF!,"▲", "-")), 2)), NA()) -> #REF! | D28: =IF(ROUND(VALUE(SUBSTITUTE(#REF!,"▲", "-")), 2) < 0, ABS(ROUND(VALUE(SUBSTITUTE(#REF!,"▲", "-")), 2)), NA()) -> #REF! | E28: =IF(ROUND(VALUE(SUBSTITUTE(#REF!,"▲", "-")), 2) >= 0, ABS(ROUND(VALUE(SUBSTITUTE(#REF!,"▲", "-")), 2)), NA()) -> #REF! | F28: =IF(ROUND(VALUE(SUBSTITUTE(#REF!,"▲", "-")), 2) < 0, ABS(ROUND(VALUE(SUBSTITUTE(#REF!,"▲", "-")), 2)), NA()) -> #REF! | G28: =IF(ROUND(VALUE(SUBSTITUTE(#REF!,"▲", "-")), 2) >= 0, ABS(ROUND(VALUE(SUBSTITUTE(#REF!,"▲", "-")), 2)), NA()) -> #REF! | H28: =IF(ROUND(VALUE(SUBSTITUTE(#REF!,"▲", "-")), 2) < 0, ABS(ROUND(VALUE(SUBSTITUTE(#REF!,"▲", "-")), 2)), NA()) -> #REF! | I28: =IF(ROUND(VALUE(SUBSTITUTE(#REF!,"▲", "-")), 2) >= 0, ABS(ROUND(VALUE(SUBSTITUTE(#REF!,"▲", "-")), 2)), NA()) -> #REF! | J28: =IF(ROUND(VALUE(SUBSTITUTE(#REF!,"▲", "-")), 2) < 0, ABS(ROUND(VALUE(SUBSTITUTE(#REF!,"▲", "-")), 2)), NA()) -> #REF! | K28: =IF(ROUND(VALUE(SUBSTITUTE(#REF!,"▲", "-")), 2) >= 0, ABS(ROUND(VALUE(SUBSTITUTE(#REF!,"▲", "-")), 2)), NA()) -> #REF!
A29: =IF(#REF!="",NA(),#REF!) -> #REF! | B29: =IF(ROUND(VALUE(SUBSTITUTE(#REF!,"▲", "-")), 2) < 0, ABS(ROUND(VALUE(SUBSTITUTE(#REF!,"▲", "-")), 2)), NA()) -> #REF! | C29: =IF(ROUND(VALUE(SUBSTITUTE(#REF!,"▲", "-")), 2) >= 0, ABS(ROUND(VALUE(SUBSTITUTE(#REF!,"▲", "-")), 2)), NA()) -> #REF! | D29: =IF(ROUND(VALUE(SUBSTITUTE(#REF!,"▲", "-")), 2) < 0, ABS(ROUND(VALUE(SUBSTITUTE(#REF!,"▲", "-")), 2)), NA()) -> #REF! | E29: =IF(ROUND(VALUE(SUBSTITUTE(#REF!,"▲", "-")), 2) >= 0, ABS(ROUND(VALUE(SUBSTITUTE(#REF!,"▲", "-")), 2)), NA()) -> #REF! | F29: =IF(ROUND(VALUE(SUBSTITUTE(#REF!,"▲", "-")), 2) < 0, ABS(ROUND(VALUE(SUBSTITUTE(#REF!,"▲", "-")), 2)), NA()) -> #REF! | G29: =IF(ROUND(VALUE(SUBSTITUTE(#REF!,"▲", "-")), 2) >= 0, ABS(ROUND(VALUE(SUBSTITUTE(#REF!,"▲", "-")), 2)), NA()) -> #REF! | H29: =IF(ROUND(VALUE(SUBSTITUTE(#REF!,"▲", "-")), 2) < 0, ABS(ROUND(VALUE(SUBSTITUTE(#REF!,"▲", "-")), 2)), NA()) -> #REF! | I29: =IF(ROUND(VALUE(SUBSTITUTE(#REF!,"▲", "-")), 2) >= 0, ABS(ROUND(VALUE(SUBSTITUTE(#REF!,"▲", "-")), 2)), NA()) -> #REF! | J29: =IF(ROUND(VALUE(SUBSTITUTE(#REF!,"▲", "-")), 2) < 0, ABS(ROUND(VALUE(SUBSTITUTE(#REF!,"▲", "-")), 2)), NA()) -> #REF! | K29: =IF(ROUND(VALUE(SUBSTITUTE(#REF!,"▲", "-")), 2) >= 0, ABS(ROUND(VALUE(SUBSTITUTE(#REF!,"▲", "-")), 2)), NA()) -> #REF!
A30: =IF(#REF!="",NA(),#REF!) -> #REF! | B30: =IF(ROUND(VALUE(SUBSTITUTE(#REF!,"▲", "-")), 2) < 0, ABS(ROUND(VALUE(SUBSTITUTE(#REF!,"▲", "-")), 2)), NA()) -> #REF! | C30: =IF(ROUND(VALUE(SUBSTITUTE(#REF!,"▲", "-")), 2) >= 0, ABS(ROUND(VALUE(SUBSTITUTE(#REF!,"▲", "-")), 2)), NA()) -> #REF! | D30: =IF(ROUND(VALUE(SUBSTITUTE(#REF!,"▲", "-")), 2) < 0, ABS(ROUND(VALUE(SUBSTITUTE(#REF!,"▲", "-")), 2)), NA()) -> #REF! | E30: =IF(ROUND(VALUE(SUBSTITUTE(#REF!,"▲", "-")), 2) >= 0, ABS(ROUND(VALUE(SUBSTITUTE(#REF!,"▲", "-")), 2)), NA()) -> #REF! | F30: =IF(ROUND(VALUE(SUBSTITUTE(#REF!,"▲", "-")), 2) < 0, ABS(ROUND(VALUE(SUBSTITUTE(#REF!,"▲", "-")), 2)), NA()) -> #REF! | G30: =IF(ROUND(VALUE(SUBSTITUTE(#REF!,"▲", "-")), 2) >= 0, ABS(ROUND(VALUE(SUBSTITUTE(#REF!,"▲", "-")), 2)), NA()) -> #REF! | H30: =IF(ROUND(VALUE(SUBSTITUTE(#REF!,"▲", "-")), 2) < 0, ABS(ROUND(VALUE(SUBSTITUTE(#REF!,"▲", "-")), 2)), NA()) -> #REF! | I30: =IF(ROUND(VALUE(SUBSTITUTE(#REF!,"▲", "-")), 2) >= 0, ABS(ROUND(VALUE(SUBSTITUTE(#REF!,"▲", "-")), 2)), NA()) -> #REF! | J30: =IF(ROUND(VALUE(SUBSTITUTE(#REF!,"▲", "-")), 2) < 0, ABS(ROUND(VALUE(SUBSTITUTE(#REF!,"▲", "-")), 2)), NA()) -> #REF! | K30: =IF(ROUND(VALUE(SUBSTITUTE(#REF!,"▲", "-")), 2) >= 0, ABS(ROUND(VALUE(SUBSTITUTE(#REF!,"▲", "-")), 2)), NA()) -> #REF!
A31: =IF(#REF!="",NA(),#REF!) -> #REF! | B31: =IF(ROUND(VALUE(SUBSTITUTE(#REF!,"▲", "-")), 2) < 0, ABS(ROUND(VALUE(SUBSTITUTE(#REF!,"▲", "-")), 2)), NA()) -> #REF! | C31: =IF(ROUND(VALUE(SUBSTITUTE(#REF!,"▲", "-")), 2) >= 0, ABS(ROUND(VALUE(SUBSTITUTE(#REF!,"▲", "-")), 2)), NA()) -> #REF! | D31: =IF(ROUND(VALUE(SUBSTITUTE(#REF!,"▲", "-")), 2) < 0, ABS(ROUND(VALUE(SUBSTITUTE(#REF!,"▲", "-")), 2)), NA()) -> #REF! | E31: =IF(ROUND(VALUE(SUBSTITUTE(#REF!,"▲", "-")), 2) >= 0, ABS(ROUND(VALUE(SUBSTITUTE(#REF!,"▲", "-")), 2)), NA()) -> #REF! | F31: =IF(ROUND(VALUE(SUBSTITUTE(#REF!,"▲", "-")), 2) < 0, ABS(ROUND(VALUE(SUBSTITUTE(#REF!,"▲", "-")), 2)), NA()) -> #REF! | G31: =IF(ROUND(VALUE(SUBSTITUTE(#REF!,"▲", "-")), 2) >= 0, ABS(ROUND(VALUE(SUBSTITUTE(#REF!,"▲", "-")), 2)), NA()) -> #REF! | H31: =IF(ROUND(VALUE(SUBSTITUTE(#REF!,"▲", "-")), 2) < 0, ABS(ROUND(VALUE(SUBSTITUTE(#REF!,"▲", "-")), 2)), NA()) -> #REF! | I31: =IF(ROUND(VALUE(SUBSTITUTE(#REF!,"▲", "-")), 2) >= 0, ABS(ROUND(VALUE(SUBSTITUTE(#REF!,"▲", "-")), 2)), NA()) -> #REF! | J31: =IF(ROUND(VALUE(SUBSTITUTE(#REF!,"▲", "-")), 2) < 0, ABS(ROUND(VALUE(SUBSTITUTE(#REF!,"▲", "-")), 2)), NA()) -> #REF! | K31: =IF(ROUND(VALUE(SUBSTITUTE(#REF!,"▲", "-")), 2) >= 0, ABS(ROUND(VALUE(SUBSTITUTE(#REF!,"▲", "-")), 2)), NA()) -> #REF!
A32: =IF(#REF!="",NA(),#REF!) -> #REF! | B32: =IF(ROUND(VALUE(SUBSTITUTE(#REF!,"▲", "-")), 2) < 0, ABS(ROUND(VALUE(SUBSTITUTE(#REF!,"▲", "-")), 2)), NA()) -> #REF! | C32: =IF(ROUND(VALUE(SUBSTITUTE(#REF!,"▲", "-")), 2) >= 0, ABS(ROUND(VALUE(SUBSTITUTE(#REF!,"▲", "-")), 2)), NA()) -> #REF! | D32: =IF(ROUND(VALUE(SUBSTITUTE(#REF!,"▲", "-")), 2) < 0, ABS(ROUND(VALUE(SUBSTITUTE(#REF!,"▲", "-")), 2)), NA()) -> #REF! | E32: =IF(ROUND(VALUE(SUBSTITUTE(#REF!,"▲", "-")), 2) >= 0, ABS(ROUND(VALUE(SUBSTITUTE(#REF!,"▲", "-")), 2)), NA()) -> #REF! | F32: =IF(ROUND(VALUE(SUBSTITUTE(#REF!,"▲", "-")), 2) < 0, ABS(ROUND(VALUE(SUBSTITUTE(#REF!,"▲", "-")), 2)), NA()) -> #REF! | G32: =IF(ROUND(VALUE(SUBSTITUTE(#REF!,"▲", "-")), 2) >= 0, ABS(ROUND(VALUE(SUBSTITUTE(#REF!,"▲", "-")), 2)), NA()) -> #REF! | H32: =IF(ROUND(VALUE(SUBSTITUTE(#REF!,"▲", "-")), 2) < 0, ABS(ROUND(VALUE(SUBSTITUTE(#REF!,"▲", "-")), 2)), NA()) -> #REF! | I32: =IF(ROUND(VALUE(SUBSTITUTE(#REF!,"▲", "-")), 2) >= 0, ABS(ROUND(VALUE(SUBSTITUTE(#REF!,"▲", "-")), 2)), NA()) -> #REF! | J32: =IF(ROUND(VALUE(SUBSTITUTE(#REF!,"▲", "-")), 2) < 0, ABS(ROUND(VALUE(SUBSTITUTE(#REF!,"▲", "-")), 2)), NA()) -> #REF! | K32: =IF(ROUND(VALUE(SUBSTITUTE(#REF!,"▲", "-")), 2) >= 0, ABS(ROUND(VALUE(SUBSTITUTE(#REF!,"▲", "-")), 2)), NA()) -> #REF!
A33: =IF(#REF!="",NA(),#REF!) -> #REF! | B33: =IF(ROUND(VALUE(SUBSTITUTE(#REF!,"▲", "-")), 2) < 0, ABS(ROUND(VALUE(SUBSTITUTE(#REF!,"▲", "-")), 2)), NA()) -> #REF! | C33: =IF(ROUND(VALUE(SUBSTITUTE(#REF!,"▲", "-")), 2) >= 0, ABS(ROUND(VALUE(SUBSTITUTE(#REF!,"▲", "-")), 2)), NA()) -> #REF! | D33: =IF(ROUND(VALUE(SUBSTITUTE(#REF!,"▲", "-")), 2) < 0, ABS(ROUND(VALUE(SUBSTITUTE(#REF!,"▲", "-")), 2)), NA()) -> #REF! | E33: =IF(ROUND(VALUE(SUBSTITUTE(#REF!,"▲", "-")), 2) >= 0, ABS(ROUND(VALUE(SUBSTITUTE(#REF!,"▲", "-")), 2)), NA()) -> #REF! | F33: =IF(ROUND(VALUE(SUBSTITUTE(#REF!,"▲", "-")), 2) < 0, ABS(ROUND(VALUE(SUBSTITUTE(#REF!,"▲", "-")), 2)), NA()) -> #REF! | G33: =IF(ROUND(VALUE(SUBSTITUTE(#REF!,"▲", "-")), 2) >= 0, ABS(ROUND(VALUE(SUBSTITUTE(#REF!,"▲", "-")), 2)), NA()) -> #REF! | H33: =IF(ROUND(VALUE(SUBSTITUTE(#REF!,"▲", "-")), 2) < 0, ABS(ROUND(VALUE(SUBSTITUTE(#REF!,"▲", "-")), 2)), NA()) -> #REF! | I33: =IF(ROUND(VALUE(SUBSTITUTE(#REF!,"▲", "-")), 2) >= 0, ABS(ROUND(VALUE(SUBSTITUTE(#REF!,"▲", "-")), 2)), NA()) -> #REF! | J33: =IF(ROUND(VALUE(SUBSTITUTE(#REF!,"▲", "-")), 2) < 0, ABS(ROUND(VALUE(SUBSTITUTE(#REF!,"▲", "-")), 2)), NA()) -> #REF! | K33: =IF(ROUND(VALUE(SUBSTITUTE(#REF!,"▲", "-")), 2) >= 0, ABS(ROUND(VALUE(SUBSTITUTE(#REF!,"▲", "-")), 2)), NA()) -> #REF!
A34: =IF(#REF!="",NA(),#REF!) -> #REF! | B34: =IF(ROUND(VALUE(SUBSTITUTE(#REF!,"▲", "-")), 2) < 0, ABS(ROUND(VALUE(SUBSTITUTE(#REF!,"▲", "-")), 2)), NA()) -> #REF! | C34: =IF(ROUND(VALUE(SUBSTITUTE(#REF!,"▲", "-")), 2) >= 0, ABS(ROUND(VALUE(SUBSTITUTE(#REF!,"▲", "-")), 2)), NA()) -> #REF! | D34: =IF(ROUND(VALUE(SUBSTITUTE(#REF!,"▲", "-")), 2) < 0, ABS(ROUND(VALUE(SUBSTITUTE(#REF!,"▲", "-")), 2)), NA()) -> #REF! | E34: =IF(ROUND(VALUE(SUBSTITUTE(#REF!,"▲", "-")), 2) >= 0, ABS(ROUND(VALUE(SUBSTITUTE(#REF!,"▲", "-")), 2)), NA()) -> #REF! | F34: =IF(ROUND(VALUE(SUBSTITUTE(#REF!,"▲", "-")), 2) < 0, ABS(ROUND(VALUE(SUBSTITUTE(#REF!,"▲", "-")), 2)), NA()) -> #REF! | G34: =IF(ROUND(VALUE(SUBSTITUTE(#REF!,"▲", "-")), 2) >= 0, ABS(ROUND(VALUE(SUBSTITUTE(#REF!,"▲", "-")), 2)), NA()) -> #REF! | H34: =IF(ROUND(VALUE(SUBSTITUTE(#REF!,"▲", "-")), 2) < 0, ABS(ROUND(VALUE(SUBSTITUTE(#REF!,"▲", "-")), 2)), NA()) -> #REF! | I34: =IF(ROUND(VALUE(SUBSTITUTE(#REF!,"▲", "-")), 2) >= 0, ABS(ROUND(VALUE(SUBSTITUTE(#REF!,"▲", "-")), 2)), NA()) -> #REF! | J34: =IF(ROUND(VALUE(SUBSTITUTE(#REF!,"▲", "-")), 2) < 0, ABS(ROUND(VALUE(SUBSTITUTE(#REF!,"▲", "-")), 2)), NA()) -> #REF! | K34: =IF(ROUND(VALUE(SUBSTITUTE(#REF!,"▲", "-")), 2) >= 0, ABS(ROUND(VALUE(SUBSTITUTE(#REF!,"▲", "-")), 2)), NA()) -> #REF!
A35: =IF(#REF!="",NA(),#REF!) -> #REF! | B35: =IF(ROUND(VALUE(SUBSTITUTE(#REF!,"▲", "-")), 2) < 0, ABS(ROUND(VALUE(SUBSTITUTE(#REF!,"▲", "-")), 2)), NA()) -> #REF! | C35: =IF(ROUND(VALUE(SUBSTITUTE(#REF!,"▲", "-")), 2) >= 0, ABS(ROUND(VALUE(SUBSTITUTE(#REF!,"▲", "-")), 2)), NA()) -> #REF! | D35: =IF(ROUND(VALUE(SUBSTITUTE(#REF!,"▲", "-")), 2) < 0, ABS(ROUND(VALUE(SUBSTITUTE(#REF!,"▲", "-")), 2)), NA()) -> #REF! | E35: =IF(ROUND(VALUE(SUBSTITUTE(#REF!,"▲", "-")), 2) >= 0, ABS(ROUND(VALUE(SUBSTITUTE(#REF!,"▲", "-")), 2)), NA()) -> #REF! | F35: =IF(ROUND(VALUE(SUBSTITUTE(#REF!,"▲", "-")), 2) < 0, ABS(ROUND(VALUE(SUBSTITUTE(#REF!,"▲", "-")), 2)), NA()) -> #REF! | G35: =IF(ROUND(VALUE(SUBSTITUTE(#REF!,"▲", "-")), 2) >= 0, ABS(ROUND(VALUE(SUBSTITUTE(#REF!,"▲", "-")), 2)), NA()) -> #REF! | H35: =IF(ROUND(VALUE(SUBSTITUTE(#REF!,"▲", "-")), 2) < 0, ABS(ROUND(VALUE(SUBSTITUTE(#REF!,"▲", "-")), 2)), NA()) -> #REF! | I35: =IF(ROUND(VALUE(SUBSTITUTE(#REF!,"▲", "-")), 2) >= 0, ABS(ROUND(VALUE(SUBSTITUTE(#REF!,"▲", "-")), 2)), NA()) -> #REF! | J35: =IF(ROUND(VALUE(SUBSTITUTE(#REF!,"▲", "-")), 2) < 0, ABS(ROUND(VALUE(SUBSTITUTE(#REF!,"▲", "-")), 2)), NA()) -> #REF! | K35: =IF(ROUND(VALUE(SUBSTITUTE(#REF!,"▲", "-")), 2) >= 0, ABS(ROUND(VALUE(SUBSTITUTE(#REF!,"▲", "-")), 2)), NA()) -> #REF!
A36: =IF(#REF!="",NA(),#REF!) -> #REF! | B36: =IF(ROUND(VALUE(SUBSTITUTE(#REF!,"▲", "-")), 2) < 0, ABS(ROUND(VALUE(SUBSTITUTE(#REF!,"▲", "-")), 2)), NA()) -> #REF! | C36: =IF(ROUND(VALUE(SUBSTITUTE(#REF!,"▲", "-")), 2) >= 0, ABS(ROUND(VALUE(SUBSTITUTE(#REF!,"▲", "-")), 2)), NA()) -> #REF! | D36: =IF(ROUND(VALUE(SUBSTITUTE(#REF!,"▲", "-")), 2) < 0, ABS(ROUND(VALUE(SUBSTITUTE(#REF!,"▲", "-")), 2)), NA()) -> #REF! | E36: =IF(ROUND(VALUE(SUBSTITUTE(#REF!,"▲", "-")), 2) >= 0, ABS(ROUND(VALUE(SUBSTITUTE(#REF!,"▲", "-")), 2)), NA()) -> #REF! | F36: =IF(ROUND(VALUE(SUBSTITUTE(#REF!,"▲", "-")), 2) < 0, ABS(ROUND(VALUE(SUBSTITUTE(#REF!,"▲", "-")), 2)), NA()) -> #REF! | G36: =IF(ROUND(VALUE(SUBSTITUTE(#REF!,"▲", "-")), 2) >= 0, ABS(ROUND(VALUE(SUBSTITUTE(#REF!,"▲", "-")), 2)), NA()) -> #REF! | H36: =IF(ROUND(VALUE(SUBSTITUTE(#REF!,"▲", "-")), 2) < 0, ABS(ROUND(VALUE(SUBSTITUTE(#REF!,"▲", "-")), 2)), NA()) -> #REF! | I36: =IF(ROUND(VALUE(SUBSTITUTE(#REF!,"▲", "-")), 2) >= 0, ABS(ROUND(VALUE(SUBSTITUTE(#REF!,"▲", "-")), 2)), NA()) -> #REF! | J36: =IF(ROUND(VALUE(SUBSTITUTE(#REF!,"▲", "-")), 2) < 0, ABS(ROUND(VALUE(SUBSTITUTE(#REF!,"▲", "-")), 2)), NA()) -> #REF! | K36: =IF(ROUND(VALUE(SUBSTITUTE(#REF!,"▲", "-")), 2) >= 0, ABS(ROUND(VALUE(SUBSTITUTE(#REF!,"▲", "-")), 2)), NA()) -> #REF!
A39: 実質公債費比率（分子）の構造
B40: =#REF! -> #REF! | E40: =#REF! -> #REF! | H40: =#REF! -> #REF! | K40: =#REF! -> #REF! | N40: =#REF! -> #REF!
B41: 元利償還金等 | D41: 算入公債費等 | E41: 元利償還金等 | G41: 算入公債費等 | H41: 元利償還金等 | J41: 算入公債費等 | K41: 元利償還金等 | M41: 算入公債費等 | N41: 元利償還金等 | P41: 算入公債費等
A42: 算入公債費等 | D42: =#REF! -> #REF! | G42: =#REF! -> #REF! | J42: =#REF! -> #REF! | M42: =#REF! -> #REF! | P42: =#REF! -> #REF!
A43: 一時借入金の利子 | B43: =#REF! -> #REF! | E43: =#REF! -> #REF! | H43: =#REF! -> #REF! | K43: =#REF! -> #REF! | N43: =#REF! -> #REF!
A44: 債務負担行為に基づく支出額 | B44: =#REF! -> #REF! | E44: =#REF! -> #REF! | H44: =#REF! -> #REF! | K44: =#REF! -> #REF! | N44: =#REF! -> #REF!
A45: 組合等が起こした地方債の元利償還金に対する負担金等 | B45: =#REF! -> #REF! | E45: =#REF! -> #REF! | H45: =#REF! -> #REF! | K45: =#REF! -> #REF! | N45: =#REF! -> #REF!
A46: 公営企業債の元利償還金に対する繰入金 | B46: =#REF! -> #REF! | E46: =#REF! -> #REF! | H46: =#REF! -> #REF! | K46: =#REF! -> #REF! | N46: =#REF! -> #REF!
A47: 満期一括償還地方債に係る年度割相当額 | B47: =#REF! -> #REF! | E47: =#REF! -> #REF! | H47: =#REF! -> #REF! | K47: =#REF! -> #REF! | N47: =#REF! -> #REF!
...

Sheet 総括表
B1: 平成29年度 財政状況資料集
B2: 総括表（市町村）
B3: 都道府県名 | L3: 山形県 | W3: 市町村類型 | AC3: Ⅳ－１ | AM3: 指定団体等の指定状況 | AY3: 区分 | BN3: 平成29年度(千円) | BV3: 平成28年度(千円) | CD3: 区分 | CT3: 平成29年度(千円･％) | DB3: 平成28年度(千円･％)
AY4: 歳入総額 | BN4: 10699849 | BV4: 11244481 | CD4: 実質収支比率 | CT4: 3.2 | DB4: 3.5
AM5: 財政健全化等 | AU5: × | AY5: 歳出総額 | BN5: 10496365 | BV5: 10969002 | CD5: 経常収支比率 | CT5: 93 | DB5: 91.2
B6: 市町村名 | L6: 川西町 | W6: 地方交付税種地 | AC6: 2-2 | AM6: 財源超過 | AU6: × | AY6: 歳入歳出差引 | BN6: 203484 | BV6: 275479 | CD6: (※1) | CT6: 97.2 | DB6: 95.1
AM7: 首都 | AU7: × | AY7: 翌年度に繰越すべき財源 | BN7: 59 | BV7: 52636 | CD7: 標準財政規模 | CT7: 6401429 | DB7: 6441408
AM8: 近畿 | AU8: × | AY8: 実質収支 | BN8: 203425 | BV8: 222843 | CD8: 財政力指数 | CT8: 0.25 | DB8: 0.24
B9: 人口 | L9: 27年国調(人) | R9: 15751 | W9: 産業構造 (※5) | AM9: 中部 | AU9: × | AY9: 単年度収支 | BN9: -19418 | BV9: -41834 | CD9: 公債費負担比率 | CT9: 15.5 | DB9: 14.9
L10: 22年国調(人) | R10: 17313 | AM10: 過疎 | AU10: ○ | AY10: 積立金 | BN10: 1190 | BV10: 1140 | CD10: 健全化判断比率
L11: 増減率 (％) | R11: -9.0 | AM11: 山振 | AU11: ○ | AY11: 繰上償還金 | BN11: 0 | BV11: 0 | CD11: 実質赤字比率 | CT11: - | DB11: -
B12: 住民基本台帳人口 (※7) | L12: 30.01.01(人) | R12: 15516 | W12: 区分 | AC12: 27年国調 | AH12: 22年国調 | AM12: 低開発 | AU12: × | AY12: 積立金取崩し額 | BN12: 159326 | BV12: 162203 | CD12: 連結実質赤字比率 | CT12: - | DB12: -
M13: うち日本人(人) | R13: 15450 | W13: 第1次 | AC13: 1387 | AH13: 1504 | AM13: 指数表選定 | AU13: ○ | AY13: 実質単年度収支 | BN13: -177554 | BV13: -202897 | CD13: 実質公債費比率 | CT13: 11.9 | DB13: 10.6
L14: 29.01.01(人) | R14: 15817 | AC14: 17.1 | AH14: 17 | CD14: 将来負担比率 | CT14: 128.5 | DB14: 125.1
M15: うち日本人(人) | R15: 15745 | W15: 第2次 | AC15: 2714 | AH15: 3090 | AY15: 基準財政収入額 | BN15: 1424387 | BV15: 1413135 | CD15: 資金不足比率 (※4)
L16: 増減率 (％) | R16: -1.9 | AC16: 33.4 | AH16: 35 | AY16: 基準財政需要額 | BN16: 5774645 | BV16: 5845600
M17: うち日本人(％) | R17: -1.9 | W17: 第3次 | AC17: 4024 | AH17: 4234 | AY17: 標準税収入額等 | BN17: 1771651 | BV17: 1746781
B18: 面積 (k㎡) | L18: 166.6 | AC18: 49.5 | AH18: 48 | AY18: 経常経費充当一般財源等 | BN18: 5979430 | BV18: 5909581
B19: 人口密度 (人/k㎡) | L19: 95 | AY19: 歳入一般財源等 | BN19: 7619207 | BV19: 7818094
B20: 世帯数 (世帯) | L20: 4553
B21: 職員の状況 (※8)
B22: 特別職等 | E22: 区分 | L22: 定数 | Q22: 1人あたり平均 給料月額(百円) | W22: 一般職員等(※6) | Z22: 区分 | AH22: 職員数 (人) | AM22: 給料月額 (百円) | AS22: 1人あたり平均 給料月額(百円)
AY23: 地方債現在高 | BN23: 13111669 | BV23: 12979446
E24: 市区町村長 | L24: 1 | Q24: 8400 | Z24: 一般職員 | AH24: 161 | AM24: 521801 | AS24: 3241 | AY24: うち公的資金 | BN24: 8415495 | BV24: 8160891
E25: 副市区町村長 | L25: 1 | Q25: 6700 | Z25: うち消防職員 | AH25: - | AM25: - | AS25: - | AY25: 債務負担行為額（支出予定額） | BN25: 815281 | BV25: 812485
E26: 教育長 | L26: 1 | Q26: 5850 | Z26: うち技能労務職員 | AH26: 22 | AM26: 77286 | AS26: 3513 | AY26: 収益事業収入 | BN26: - | BV26: -
E27: 議会議長 | L27: 1 | Q27: 3300 | Z27: 教育公務員 | AH27: 13 | AM27: 46123 | AS27: 3548 | AY27: 土地開発基金現在高 | BN27: 246220 | BV27: 246214
E28: 議会副議長 | L28: 1 | Q28: 2700 | Z28: 臨時職員 | AH28: - | AM28: - | AS28: - | AY28: 積立金 現在高 | BC28: 財政調整基金 | BN28: 476427 | BV28: 634563
E29: 議会議員 | L29: 13 | Q29: 2550 | Z29: 合計 | AH29: 174 | AM29: 567924 | AS29: 3264 | BC29: 減債基金 | BN29: 26085 | BV29: 122262
W30: ラスパイレス指数 | AH30: 98.6 | BC30: その他特定目的基金 | BN30: 749040 | BV30: 702046
C32: 一般会計等の一覧 | U32: 事業会計の一覧 | AM32: 公営企業（法適）の一覧 | BE32: 公営企業（法非適）の一覧 | BW32: 関係する一部事務組合等一覧 | CO32: 地方公社・第三セクター等一覧
C33: 項番 | E33: 会計名 | U33: 項番 | W33: 会計名 | AM33: 項番 | AO33: 会計名 | BE33: 項番 | BG33: 会計名 | BW33: 項番 | BY33: 組合等名 | CO33: 項番 | CQ33: 団体名 | DG33: (※3)
C34: =IF(E34="","",1) -> 1 | E34: =IF('各会計、関係団体の財政状況及び健全化判断比率'!B7="","",'各会計、関係団体の財政状況及び健全化判断比率'!B7) -> 一般会計 | U34: =IF(W34="","",MAX(C34:D43)+1) -> 2 | W34: =IF('各会計、関係団体の財政状況及び健全化判断比率'!B28="","",'各会計、関係団体の財政状況及び健全化判断比率'!B28) -> 国民健康保険事業特別会計 | AM34: =IF(AO34="","",MAX(C34:D43,U34:V43)+1) -> 5 | AO34: =IF('各会計、関係団体の財政状況及び健全化判断比率'!B31="","",'各会計、関係団体の財政状況及び健全化判断比率'!B31) -> 水道事業会計 | BE34: =IF(BG34="","",MAX(C34:D43,U34:V43,AM34:AN43)+1) -> 6 | BG34: =IF('各会計、関係団体の財政状況及び健全化判断比率'!B32="","",'各会計、関係団体の財政状況及び健全化判断比率'!B32) -> 下水道事業特別会計 | BW34: =IF(BY34="","",MAX(C34:D43,U34:V43,AM34:AN43,BE34:BF43)+1) -> 8 | BY34: =IF('各会計、関係団体の財政状況及び健全化判断比率'!B68="","",'各会計、関係団体の財政状況及び健全化判断比率'!B68) -> 置賜広域病院企業団 | CO34: =IF(CQ34="","",MAX(C34:D43,U34:V43,AM34:AN43,BE34:BF43,BW34:BX43)+1) -> 16 | CQ34: =IF('各会計、関係団体の財政状況及び健全化判断比率'!BS7="","",'各会計、関係団体の財政状況及び健全化判断比率'!BS7) -> 川西町体育振興公社 | DG34: =IF('各会計、関係団体の財政状況及び健全化判断比率'!BR7="","",'各会計、関係団体の財政状況及び健全化判断比率'!BR7)
C35: =IF(E35="","",C34+1) | E35: =IF('各会計、関係団体の財政状況及び健全化判断比率'!B8="","",'各会計、関係団体の財政状況及び健全化判断比率'!B8) | U35: =IF(W35="","",U34+1) -> 3 | W35: =IF('各会計、関係団体の財政状況及び健全化判断比率'!B29="","",'各会計、関係団体の財政状況及び健全化判断比率'!B29) -> 介護保険事業特別会計 | AM35: =IF(AO35="","",AM34+1) | BE35: =IF(BG35="","",BE34+1) -> 7 | BG35: =IF('各会計、関係団体の財政状況及び健全化判断比率'!B33="","",'各会計、関係団体の財政状況及び健全化判断比率'!B33) -> 農業集落排水事業特別会計 | BW35: =IF(BY35="","",BW34+1) -> 9 | BY35: =IF('各会計、関係団体の財政状況及び健全化判断比率'!B69="","",'各会計、関係団体の財政状況及び健全化判断比率'!B69) -> 置賜広域行政事務組合 | CO35: =IF(CQ35="","",CO34+1) -> 17 | CQ35: =IF('各会計、関係団体の財政状況及び健全化判断比率'!BS8="","",'各会計、関係団体の財政状況及び健全化判断比率'!BS8) -> ダリヤパークサービス | DG35: =IF('各会計、関係団体の財政状況及び健全化判断比率'!BR8="","",'各会計、関係団体の財政状況及び健全化判断比率'!BR8)
C36: =IF(E36="","",C35+1) | E36: =IF('各会計、関係団体の財政状況及び健全化判断比率'!B9="","",'各会計、関係団体の財政状況及び健全化判断比率'!B9) | U36: =IF(W36="","",U35+1) -> 4 | W36: =IF('各会計、関係団体の財政状況及び健全化判断比率'!B30="","",'各会計、関係団体の財政状況及び健全化判断比率'!B30) -> 後期高齢者医療特別会計 | AM36: =IF(AO36="","",AM35+1) | BE36: =IF(BG36="","",BE35+1) | BW36: =IF(BY36="","",BW35+1) -> 10 | BY36: =IF('各会計、関係団体の財政状況及び健全化判断比率'!B70="","",'各会計、関係団体の財政状況及び健全化判断比率'!B70) -> 山形県消防補償等組合 | CO36: =IF(CQ36="","",CO35+1) -> 18 | CQ36: =IF('各会計、関係団体の財政状況及び健全化判断比率'!BS9="","",'各会計、関係団体の財政状況及び健全化判断比率'!BS9) -> 川西町土地開発公社 | DG36: =IF('各会計、関係団体の財政状況及び健全化判断比率'!BR9="","",'各会計、関係団体の財政状況及び健全化判断比率'!BR9) -> ○
C37: =IF(E37="","",C36+1) | E37: =IF('各会計、関係団体の財政状況及び健全化判断比率'!B10="","",'各会計、関係団体の財政状況及び健全化判断比率'!B10) | U37: =IF(W37="","",U36+1) | AM37: =IF(AO37="","",AM36+1) | BE37: =IF(BG37="","",BE36+1) | BW37: =IF(BY37="","",BW36+1) -> 11 | BY37: =IF('各会計、関係団体の財政状況及び健全化判断比率'!B71="","",'各会計、関係団体の財政状況及び健全化判断比率'!B71) -> 山形県自治会館管理組合 | CO37: =IF(CQ37="","",CO36+1) -> 19 | CQ37: =IF('各会計、関係団体の財政状況及び健全化判断比率'!BS10="","",'各会計、関係団体の財政状況及び健全化判断比率'!BS10) -> 山形鉄道 | DG37: =IF('各会計、関係団体の財政状況及び健全化判断比率'!BR10="","",'各会計、関係団体の財政状況及び健全化判断比率'!BR10)
C38: =IF(E38="","",C37+1) | E38: =IF('各会計、関係団体の財政状況及び健全化判断比率'!B11="","",'各会計、関係団体の財政状況及び健全化判断比率'!B11) | U38: =IF(W38="","",U37+1) | AM38: =IF(AO38="","",AM37+1) | BE38: =IF(BG38="","",BE37+1) | BW38: =IF(BY38="","",BW37+1) -> 12 | BY38: =IF('各会計、関係団体の財政状況及び健全化判断比率'!B72="","",'各会計、関係団体の財政状況及び健全化判断比率'!B72) -> 山形県市町村職員退職手当組合 | CO38: =IF(CQ38="","",CO37+1) | CQ38: =IF('各会計、関係団体の財政状況及び健全化判断比率'!BS11="","",'各会計、関係団体の財政状況及び健全化判断比率'!BS11) | DG38: =IF('各会計、関係団体の財政状況及び健全化判断比率'!BR11="","",'各会計、関係団体の財政状況及び健全化判断比率'!BR11)
C39: =IF(E39="","",C38+1) | E39: =IF('各会計、関係団体の財政状況及び健全化判断比率'!B12="","",'各会計、関係団体の財政状況及び健全化判断比率'!B12) | U39: =IF(W39="","",U38+1) | AM39: =IF(AO39="","",AM38+1) | BE39: =IF(BG39="","",BE38+1) | BW39: =IF(BY39="","",BW38+1) -> 13 | BY39: =IF('各会計、関係団体の財政状況及び健全化判断比率'!B73="","",'各会計、関係団体の財政状況及び健全化判断比率'!B73) -> 松川堰組合 | CO39: =IF(CQ39="","",CO38+1) | CQ39: =IF('各会計、関係団体の財政状況及び健全化判断比率'!BS12="","",'各会計、関係団体の財政状況及び健全化判断比率'!BS12) | DG39: =IF('各会計、関係団体の財政状況及び健全化判断比率'!BR12="","",'各会計、関係団体の財政状況及び健全化判断比率'!BR12)
C40: =IF(E40="","",C39+1) | E40: =IF('各会計、関係団体の財政状況及び健全化判断比率'!B13="","",'各会計、関係団体の財政状況及び健全化判断比率'!B13) | U40: =IF(W40="","",U39+1) | AM40: =IF(AO40="","",AM39+1) | BE40: =IF(BG40="","",BE39+1) | BW40: =IF(BY40="","",BW39+1) -> 14 | BY40: =IF('各会計、関係団体の財政状況及び健全化判断比率'!B74="","",'各会計、関係団体の財政状況及び健全化判断比率'!B74) -> 山形県後期高齢者医療広域連合（普通会計分） | CO40: =IF(CQ40="","",CO39+1) | CQ40: =IF('各会計、関係団体の財政状況及び健全化判断比率'!BS13="","",'各会計、関係団体の財政状況及び健全化判断比率'!BS13) | DG40: =IF('各会計、関係団体の財政状況及び健全化判断比率'!BR13="","",'各会計、関係団体の財政状況及び健全化判断比率'!BR13)
C41: =IF(E41="","",C40+1) | E41: =IF('各会計、関係団体の財政状況及び健全化判断比率'!B14="","",'各会計、関係団体の財政状況及び健全化判断比率'!B14) | U41: =IF(W41="","",U40+1) | AM41: =IF(AO41="","",AM40+1) | BE41: =IF(BG41="","",BE40+1) | BW41: =IF(BY41="","",BW40+1) -> 15 | BY41: =IF('各会計、関係団体の財政状況及び健全化判断比率'!B75="","",'各会計、関係団体の財政状況及び健全化判断比率'!B75) -> 山形県後期高齢者医療広域連合（事業会計分） | CO41: =IF(CQ41="","",CO40+1) | CQ41: =IF('各会計、関係団体の財政状況及び健全化判断比率'!BS14="","",'各会計、関係団体の財政状況及び健全化判断比率'!BS14) | DG41: =IF('各会計、関係団体の財政状況及び健全化判断比率'!BR14="","",'各会計、関係団体の財政状況及び健全化判断比率'!BR14)
...

Sheet 普通会計の状況
DH1: 平成29年度 | DP1: 山形県川西町
B2: (1) 普通会計の状況（市町村）
B3: 歳入の状況（単位 千円・％） | AP3: 地方税の状況（単位 千円・％） | CD3: 歳出の状況（単位 千円・％）
B4: 区分 | R4: 決算額 | Z4: 構成比 | AD4: 経常一般財源等 | AL4: 構成比 | AP4: 区分 | BG4: 収入済額 | BO4: 構成比 | BS4: 超過課税分 | CD4: 目的別歳出の状況（単位 千円・％）
B5: 地方税 | R5: 1342523 | Z5: 12.5 | AD5: 1314379 | AL5: 21.4 | AP5: 普通税 | BG5: 1308130 | BO5: 97.4 | BS5: 6399 | CD5: 区分 | CR5: 決算額 (A) | CZ5: 構成比 | DD5: (A)のうち普通建設事業費 | DQ5: (A)のうち充当一般財源等
B6: 地方譲与税 | R6: 132331 | Z6: 1.2 | AD6: 132331 | AL6: 2.2 | AP6: 法定普通税 | BG6: 1308130 | BO6: 97.4 | BS6: 6399 | CD6: 議会費 | CR6: 111861 | CZ6: 1.1 | DD6: - | DQ6: 111861
B7: 利子割交付金 | R7: 2891 | Z7: 0 | AD7: 2891 | AL7: 0 | AP7: 市町村民税 | BG7: 574103 | BO7: 42.8 | BS7: 6399 | CD7: 総務費 | CR7: 1565206 | CZ7: 14.9 | DD7: 50020 | DQ7: 1215676
B8: 配当割交付金 | R8: 3782 | Z8: 0 | AD8: 3782 | AL8: 0.1 | AP8: 個人均等割 | BG8: 26711 | BO8: 2 | BS8: - | CD8: 民生費 | CR8: 2058498 | CZ8: 19.6 | DD8: 22314 | DQ8: 1082666
B9: 株式等譲渡所得割交付金 | R9: 3846 | Z9: 0 | AD9: 3846 | AL9: 0.1 | AP9: 所得割 | BG9: 486977 | BO9: 36.3 | BS9: - | CD9: 衛生費 | CR9: 1757337 | CZ9: 16.7 | DD9: 16068 | DQ9: 1712274
B10: 分離課税所得割交付金 | R10: - | Z10: - | AD10: - | AL10: - | AP10: 法人均等割 | BG10: 28800 | BO10: 2.1 | BS10: - | CD10: 労働費 | CR10: 41550 | CZ10: 0.4 | DD10: - | DQ10: 16550
B11: 道府県民税所得割臨時交付金 | R11: - | Z11: - | AD11: - | AL11: - | AP11: 法人税割 | BG11: 31615 | BO11: 2.4 | BS11: 6399 | CD11: 農林水産業費 | CR11: 908341 | CZ11: 8.7 | DD11: 257197 | DQ11: 311757
B12: 地方消費税交付金 | R12: 280968 | Z12: 2.6 | AD12: 280968 | AL12: 4.6 | AP12: 固定資産税 | BG12: 565274 | BO12: 42.1 | BS12: - | CD12: 商工費 | CR12: 226749 | CZ12: 2.2 | DD12: 15198 | DQ12: 122575
B13: ゴルフ場利用税交付金 | R13: 6421 | Z13: 0.1 | AD13: 6421 | AL13: 0.1 | AP13: うち純固定資産税 | BG13: 563827 | BO13: 42 | BS13: - | CD13: 土木費 | CR13: 924369 | CZ13: 8.8 | DD13: 201939 | DQ13: 601305
B14: 特別地方消費税交付金 | R14: - | Z14: - | AD14: - | AL14: - | AP14: 軽自動車税 | BG14: 58039 | BO14: 4.3 | BS14: - | CD14: 消防費 | CR14: 357999 | CZ14: 3.4 | DD14: 27051 | DQ14: 333833
B15: 自動車取得税交付金 | R15: 37786 | Z15: 0.4 | AD15: 37786 | AL15: 0.6 | AP15: 市町村たばこ税 | BG15: 110714 | BO15: 8.2 | BS15: - | CD15: 教育費 | CR15: 1357572 | CZ15: 12.9 | DD15: 537397 | DQ15: 724557
B16: 軽油引取税交付金 | R16: - | Z16: - | AD16: - | AL16: - | AP16: 鉱産税 | BG16: - | BO16: - | BS16: - | CD16: 災害復旧費 | CR16: 929 | CZ16: 0 | DD16: - | DQ16: 929
B17: 地方特例交付金 | R17: 5601 | Z17: 0.1 | AD17: 5601 | AL17: 0.1 | AP17: 特別土地保有税 | BG17: - | BO17: - | BS17: - | CD17: 公債費 | CR17: 1185954 | CZ17: 11.3 | DD17: - | DQ17: 1181740
B18: 地方交付税 | R18: 5007732 | Z18: 46.8 | AD18: 4351098 | AL18: 70.7 | AP18: 法定外普通税 | BG18: - | BO18: - | BS18: - | CD18: 諸支出金 | CR18: - | CZ18: - | DD18: - | DQ18: -
B19: 普通交付税 | R19: 4351098 | Z19: 40.7 | AD19: 4351098 | AL19: 70.7 | AP19: 目的税 | BG19: 34393 | BO19: 2.6 | BS19: - | CD19: 前年度繰上充用金 | CR19: - | CZ19: - | DD19: - | DQ19: -
B20: 特別交付税 | R20: 656609 | Z20: 6.1 | AD20: - | AL20: - | AP20: 法定目的税 | BG20: 34393 | BO20: 2.6 | BS20: - | CD20: 歳出合計 | CR20: 10496365 | CZ20: 100 | DD20: 1127184 | DQ20: 7415723
B21: 震災復興特別交付税 | R21: 25 | Z21: 0 | AD21: - | AL21: - | AP21: 入湯税 | BG21: 6249 | BO21: 0.5 | BS21: -
B22: (一般財源計) | R22: 6823881 | Z22: 63.8 | AD22: 6139103 | AL22: 99.8 | AP22: 事業所税 | BG22: - | BO22: - | BS22: - | CD22: 性質別歳出の状況（単位 千円・％）
B23: 交通安全対策特別交付金 | R23: 3165 | Z23: 0 | AD23: 3165 | AL23: 0.1 | AP23: 都市計画税 | BG23: 28144 | BO23: 2.1 | BS23: - | CD23: 区分 | CR23: 決算額 | CZ23: 構成比 | DD23: 充当一般財源等 | DL23: 経常経費充当一般財源等 | DW23: 経常収支比率
B24: 分担金・負担金 | R24: 8601 | Z24: 0.1 | AD24: - | AL24: - | AP24: 水利地益税等 | BG24: - | BO24: - | BS24: - | CD24: 義務的経費計 | CR24: 3899687 | CZ24: 37.2 | DD24: 3027746 | DL24: 2991829 | DW24: 46.5
B25: 使用料 | R25: 99069 | Z25: 0.9 | AD25: 3482 | AL25: 0.1 | AP25: 法定外目的税 | BG25: - | BO25: - | BS25: - | CD25: 人件費 | CR25: 1623415 | CZ25: 15.5 | DD25: 1567802 | DL25: 1546630 | DW25: 24.1
B26: 手数料 | R26: 11047 | Z26: 0.1 | AD26: - | AL26: - | AP26: 旧法による税 | BG26: - | BO26: - | BS26: - | CD26: うち職員給 | CR26: 1068770 | CZ26: 10.2 | DD26: 1020617 | DL26: - | DW26: -
B27: 国庫支出金 | R27: 667859 | Z27: 6.2 | AD27: - | AL27: - | AP27: 合計 | BG27: 1342523 | BO27: 100 | BS27: 6399 | CD27: 扶助費 | CR27: 1090524 | CZ27: 10.4 | DD27: 278410 | DL27: 263665 | DW27: 4.1
B28: 国有提供交付金(特別区財調交付金) | R28: - | Z28: - | AD28: - | AL28: - | CD28: 公債費 | CR28: 1185748 | CZ28: 11.3 | DD28: 1181534 | DL28: 1181534 | DW28: 18.4
B29: 都道府県支出金 | R29: 778196 | Z29: 7.3 | AD29: - | AL29: - | AP29: 区分 | BG29: 平成29年度 | BR29: 平成28年度 | CD29: 内訳 | CF29: 元利償還金 | CR29: 1184419 | CZ29: 11.3 | DD29: 1180205 | DL29: 1180205 | DW29: 18.4
B30: 財産収入 | R30: 99926 | Z30: 0.9 | AD30: 3536 | AL30: 0.1 | AP30: 徴収率 (％) | AT30: 現年 | AX30: 合計 | BG30: 96.5 | BM30: 84.2 | BR30: 97 | BX30: 85.1 | CF30: うち元金 | CR30: 1097957 | CZ30: 10.5 | DD30: 1093743 | DL30: 1093743 | DW30: 17
B31: 寄附金 | R31: 82372 | Z31: 0.8 | AD31: - | AL31: - | AU31: ・計 | AX31: 市町村民税 | BG31: 98.3 | BM31: 93.3 | BR31: 98.6 | BX31: 93.7 | CF31: うち利子 | CR31: 86462 | CZ31: 0.8 | DD31: 86462 | DL31: 86462 | DW31: 1.3
B32: 繰入金 | R32: 402006 | Z32: 3.8 | AD32: - | AL32: - | AX32: 純固定資産税 | BG32: 94.1 | BM32: 74.1 | BR32: 94.8 | BX32: 75.7 | CF32: 一時借入金利子 | CR32: 1329 | CZ32: 0 | DD32: 1329 | DL32: 1329 | DW32: 0
B33: 繰越金 | R33: 275479 | Z33: 2.6 | AD33: - | AL33: - | CD33: その他の経費 | CR33: 5468565 | CZ33: 52.1 | DD33: 4306268 | DL33: 2987601 | DW33: 46.5
B34: 諸収入 | R34: 218068 | Z34: 2 | AD34: 2365 | AL34: 0 | AQ34: 公営事業等への繰出 | BG34: 国民健康保険事業会計の状況 | CD34: 物件費 | CR34: 1119053 | CZ34: 10.7 | DD34: 890755 | DL34: 582953 | DW34: 9.1
B35: 地方債 | R35: 1230180 | Z35: 11.5 | AD35: - | AL35: - | AQ35: 合計 | AZ35: 2514643 | BG35: 実質収支 | BV35: 50975 | CD35: 維持補修費 | CR35: 379158 | CZ35: 3.6 | DD35: 273430 | DL35: 187224 | DW35: 2.9
B36: うち減収補塡債(特例分) | R36: - | Z36: - | AD36: - | AL36: - | AQ36: 病院 | AZ36: 1466866 | BG36: 再差引収支 | BV36: 36748 | CD36: 補助費等 | CR36: 2641469 | CZ36: 25.2 | DD36: 2130029 | DL36: 1538571 | DW36: 23.9
B37: うち臨時財政対策債 | R37: 278680 | Z37: 2.6 | AD37: - | AL37: - | AQ37: 下水道 | AZ37: 308655 | BG37: 加入世帯数(世帯) | BV37: 2083 | CD37: うち一部事務組合負担金 | CR37: 416135 | CZ37: 4 | DD37: 415455 | DL37: 376589 | DW37: 5.9
B38: 歳入合計 | R38: 10699849 | Z38: 100 | AD38: 6151651 | AL38: 100 | AQ38: 上水道 | AZ38: 29148 | BG38: 被保険者数(人) | BV38: 3489 | CD38: 繰出金 | CR38: 1018629 | CZ38: 9.7 | DD38: 907768 | DL38: 677053 | DW38: 10.5
AQ39: 工業用水道 | AZ39: - | BG39: 被保険者 1人当り | BM39: 保険税(料)収入額 | BV39: 118 | CD39: 積立金 | CR39: 185684 | CZ39: 1.8 | DD39: 102214 | DL39: - | DW39: -
AQ40: 国民健康保険 | AZ40: 137916 | BM40: 国庫支出金 | BV40: 104 | CD40: 投資・出資金・貸付金 | CR40: 124572 | CZ40: 1.2 | DD40: 2072 | DL40: 1800 | DW40: 0
...

Sheet 各会計、関係団体の財政状況及び健全化判断比率
A2: (2)各会計、関係団体の財政状況及び健全化判断比率（市町村） | DJ2: 平成29年度 | DQ2: 山形県川西町
A4: 一般会計等の財政状況（単位：百万円） | BQ4: 地方公社・第三セクター等の経営状況及び地方公共団体の財政的支援の状況（単位：百万円）
A5: 会計名 | Q5: 歳入 | V5: 歳出 | AA5: 形式収支 | AF5: 実質収支 | AK5: 他会計等 からの 繰入金 | AP5: 地方債 現在高 | AU5: 備考 | BQ5: 地方公社・第三セクター等名 | CH5: 経常損益 | CM5: 純資産又は 正味財産 | CR5: 当該団体 からの 出資金 | CW5: 当該団体 からの 補助金 | DB5: 当該団体 からの 貸付金 | DG5: 当該団体からの債務保証に係る債務残高 | DL5: 当該団体からの損失補償に係る債務残高 | DQ5: 一般会計等 負担見込額 | DV5: 備考
A7: 1 | B7: 一般会計 | Q7: 10708 | V7: 10505 | AA7: 203 | AF7: 203 | AK7: 402 | AP7: 13112 | BQ7: 1 | BS7: 川西町体育振興公社 | CH7: 1 | CM7: 16 | CR7: 10 | CW7: - | DB7: - | DG7: - | DL7: - | DQ7: -
A8: 2 | BQ8: 2 | BS8: ダリヤパークサービス | CH8: -1 | CM8: -10 | CR8: 14 | CW8: - | DB8: - | DG8: - | DL8: - | DQ8: -
A9: 3 | BQ9: 3 | BR9: ○ | BS9: 川西町土地開発公社 | CH9: 0 | CM9: 58 | CR9: 5 | CW9: - | DB9: - | DG9: 42 | DL9: - | DQ9: 27
A10: 4 | BQ10: 4 | BS10: 山形鉄道 | CH10: -103 | CM10: 131 | CR10: 10 | CW10: 0 | DB10: - | DG10: - | DL10: - | DQ10: -
A11: 5 | BQ11: 5
A12: 6 | BQ12: 6
A13: 7 | BQ13: 7
A14: 8 | BQ14: 8
A15: 9 | BQ15: 9
A16: 10 | BQ16: 10
A17: 11 | BQ17: 11
A18: 12 | BQ18: 12
A19: 13 | BQ19: 13
A20: 14 | BQ20: 14
A21: 15 | BQ21: 15
A22: 16 | AZ22: 実質赤字額 | BQ22: 16
A23: 計 | B23: 一般会計等（純計） | Q23: 10700 | V23: 10496 | AA23: 203 | AF23: 203 | AP23: 13112 | AZ23: - | BQ23: 17
A24: ※一般会計等（純計）は、各会計の相互間の繰入・繰出等の重複を控除したものであり、各会計の合計と一致しない場合がある。 | BQ24: 18
A25: 公営企業会計等の財政状況（単位：百万円） | BQ25: 19
A26: 会計名 | Q26: 総収益 （歳入） | V26: 総費用 （歳出） | AA26: 純損益 （形式収支） | AF26: 資金剰余額 /不足額 （実質収支） | AK26: 他会計等 からの 繰入金 | AP26: 企業債 （地方債） 現在高 | AU26: 左のうち 一般会計等 繰入見込額 | AZ26: 資金不足 比率 | BE26: 備考 | BQ26: 20
BQ27: 21
A28: 1 | B28: 国民健康保険事業特別会計 | Q28: 1989 | V28: 1938 | AA28: 51 | AF28: 51 | AK28: 138 | AP28: - | AU28: - | AZ28: - | BQ28: 22
A29: 2 | B29: 介護保険事業特別会計 | Q29: 1881 | V29: 1834 | AA29: 47 | AF29: 47 | AK29: 293 | AP29: - | AU29: - | AZ29: - | BQ29: 23
A30: 3 | B30: 後期高齢者医療特別会計 | Q30: 168 | V30: 166 | AA30: 2 | AF30: 2 | AK30: 70 | AP30: - | AU30: - | AZ30: - | BQ30: 24
A31: 4 | B31: 水道事業会計 | Q31: 460 | V31: 449 | AA31: 11 | AF31: 144 | AK31: 29 | AP31: 1848 | AU31: 2 | AZ31: - | BE31: 法適用企業 | BQ31: 25
A32: 5 | B32: 下水道事業特別会計 | Q32: 499 | V32: 492 | AA32: 7 | AF32: 7 | AK32: 258 | AP32: 3391 | AU32: 3154 | AZ32: - | BE32: 法非適用企業 | BQ32: 26
A33: 6 | B33: 農業集落排水事業特別会計 | Q33: 91 | V33: 87 | AA33: 4 | AF33: 4 | AK33: 51 | AP33: 613 | AU33: 559 | AZ33: - | BE33: 法非適用企業 | BQ33: 27
A34: 7 | BQ34: 28
A35: 8 | BQ35: 29
A36: 9 | BQ36: 30
A37: 10 | BQ37: 31
A38: 11 | BQ38: 32
A39: 12 | BQ39: 33
A40: 13 | BQ40: 34
A41: 14 | BQ41: 35
A42: 15 | BQ42: 36
A43: 16 | BQ43: 37
...

Sheet 財政比較分析表

Sheet 経常経費分析表（経常収支比率の分析）

Sheet 経常経費分析表（人件費・公債費・普通建設事業費の分析）
A5: 人件費及び人件費に準ずる費用の分析
AK6: 人件費及び人件費に準ずる費用
AO7: 当該団体決算額 （千円） | AQ7: 人口1人当たり決算額
AP8: 当該団体（円） | AQ8: 類似団体平均（円） | AR8: 対比（％）
AK9: 人件費 | AO9: 1623415 | AP9: 104628 | AQ9: 81245 | AR9: 28.8
AK10: 賃金（物件費） | AO10: 161804 | AP10: 10428 | AQ10: 9012 | AR10: 15.7
AK11: 一部事務組合負担金（補助費等） | AO11: 245181 | AP11: 15802 | AQ11: 11253 | AR11: 40.4
AK12: 公営企業（法適）等に対する繰出し（補助費等） | AO12: - | AP12: - | AQ12: 1349 | AR12: -
AK13: 公営企業（法適）等に対する繰出し（投資及び出資金・貸付金） | AO13: - | AP13: - | AQ13: - | AR13: -
AK14: 公営企業（法非適）等に対する繰出し（繰出金） | AO14: 67142 | AP14: 4327 | AQ14: 5445 | AR14: -20.5
AK15: 事業費支弁に係る職員の人件費（投資的経費） | AO15: 16820 | AP15: 1084 | AQ15: 2659 | AR15: -59.2
AK16: ▲退職金 | AO16: -144224 | AP16: -9295 | AQ16: -8172 | AR16: 13.7
AK17: 合計 | AO17: 1970138 | AP17: 126975 | AQ17: 102791 | AR17: 23.5
AK19: 参考
AO20: 当該団体 | AP20: 類似団体平均 | AQ20: 対比（差引）
AK21: 人口1,000人当たり職員数（人） | AO21: 11.21 | AP21: 9.44 | AQ21: 1.77
AK22: ラスパイレス指数 | AO22: 98.6 | AP22: 96.6 | AQ22: 2
A26: （注）人口については、各調査年度の1月1日現在の住民基本台帳に登載されている人口に基づいている。
A27: （注）参考については、地方公務員給与実態調査に基づくものであるが、当該資料作成時点（平成31年1月末時点）において平成30年調査結果が未公表であるため、前年度の数値を引用している。
A28: 公債費及び公債費に準ずる費用の分析
AK29: 公債費及び公債費に準ずる費用（実質公債費比率の構成要素）
AO30: 当該団体決算額 （千円） | AQ30: 人口1人当たり決算額
AP31: 当該団体（円） | AQ31: 類似団体平均（円） | AR31: 対比（％）
AK32: 元利償還金の額 （繰上償還額等を除く） | AO32: 1184419 | AP32: 76335 | AQ32: 53655 | AR32: 42.3
AK33: 積立不足額を考慮して算定した額 | AO33: - | AP33: - | AQ33: - | AR33: -
AK34: 満期一括償還地方債の一年当たりの元金償還金に相当するもの （年度割相当額） | AO34: - | AP34: - | AQ34: 68 | AR34: -
AK35: 公営企業に要する経費の財源とする地方債の償還の財源に 充てたと認められる繰入金 | AO35: 307621 | AP35: 19826 | AQ35: 21213 | AR35: -6.5
AK36: 一部事務組合等の起こした地方債に充てたと認められる 補助金又は負担金 | AO36: 677147 | AP36: 43642 | AQ36: 3939 | AR36: 1007.9
AK37: 公債費に準ずる債務負担行為に係るもの | AO37: 3089 | AP37: 199 | AQ37: 620 | AR37: -67.9
AK38: 一時借入金利子 （同一団体における会計間の現金運用に係る利子は除く） | AO38: 1326 | AP38: 85 | AQ38: 4 | AR38: 2025
AK39: ▲特定財源の額 | AO39: -32354 | AP39: -2085 | AQ39: -2084 | AR39: 0
AK40: ▲地方債に係る元利償還金及び準元利償還金に要する経費として 普通交付税の額の算定に用いる基準財政需要額に算入された額 | AO40: -1519376 | AP40: -97923 | AQ40: -53215 | AR40: 84
AK41: 合計 | AO41: 621872 | AP41: 40079 | AQ41: 24200 | AR41: 65.6
AK42: ※平成30年度中に市町村合併した団体で、合併前の団体ごとの決算に基づく実質公債費比率を算出していない団体については、グラフを表記しない。
A47: （参考） 普通建設事業費の分析
AK48: 普通建設事業費
AM49: 当該団体決算額 （千円） | AN49: 人口１人当たり決算額
AN50: 当該団体(円) | AO50: 増減率(%)(A) | AP50: 類似団体平均(円) | AQ50: 増減率(%)(B) | AR50: (A)-(B)
AK51: H25 | AM51: 2230097 | AN51: 133251 | AO51: 38.6 | AP51: 81990 | AQ51: 16.2 | AR51: 22.4
AL52: うち単独分 | AM52: 421627 | AN52: 25193 | AO52: -42.1 | AP52: 34482 | AQ52: -4.5 | AR52: -37.6
...

Sheet 性質別歳出決算分析表（住民一人当たりのコスト）

Sheet 目的別歳出決算分析表（住民一人当たりのコスト）

Sheet 実質収支比率等に係る経年分析
J45: 標準財政規模比（％）
B46: 区分 | E46: 年度 | F46: H25 | G46: H26 | H46: H27 | I46: H28 | J46: H29
C47: 財政調整基金残高 | F47: 11.42 | G47: 11.77 | H47: 12.45 | I47: 9.85 | J47: 7.44
C48: 実質収支額 | F48: 4.55 | G48: 4.99 | H48: 4.14 | I48: 3.46 | J48: 3.18
C49: 実質単年度収支 | F49: 3.08 | G49: 0.81 | H49: 0.09 | I49: ▲ 3.15 | J49: ▲ 2.77

Sheet 連結実質赤字比率に係る赤字・黒字の構成分析
J32: 標準財政規模比（％）
B33: 会計 | E33: 年度 | F33: H25 | G33: H26 | H33: H27 | I33: H28 | J33: H29
C34: 一般会計 | F34: 4.55 | G34: 4.99 | H34: 4.14 | I34: 3.45 | J34: 3.17
C35: 水道事業会計 | F35: 1.95 | G35: 1.82 | H35: 2.1 | I35: 2.32 | J35: 2.24
C36: 国民健康保険事業特別会計 | F36: 1.16 | G36: 0.49 | H36: 0.07 | I36: 0.83 | J36: 0.79
C37: 介護保険事業特別会計 | F37: 0.18 | G37: 0.4 | H37: 0.36 | I37: 0.63 | J37: 0.72
C38: 下水道事業特別会計 | F38: 0.2 | G38: 0.13 | H38: 0.09 | I38: 0.16 | J38: 0.11
C39: 農業集落排水事業特別会計 | F39: 0.1 | G39: 0.07 | H39: 0.04 | I39: 0.05 | J39: 0.05
C40: 後期高齢者医療特別会計 | F40: 0.02 | G40: 0.05 | H40: 0.02 | I40: 0.03 | J40: 0.03
C42: その他会計（赤字） | F42: - | G42: - | H42: - | I42: - | J42: -
C43: その他会計（黒字） | F43: - | G43: - | H43: - | I43: - | J43: -
B44: ※平成30年度中に市町村合併した団体で、合併前の団体ごとの決算に基づく連結実質赤字比率を算出していない団体については、グラフを表記しない。

Sheet 実質公債費比率（分子）の構造
O43: （百万円）
B44: 分子の構造 | J44: 年度 | K44: H25 | L44: H26 | M44: H27 | N44: H28 | O44: H29
B45: 元利償還金等(A) | E45: 元利償還金 | K45: 986 | L45: 1008 | M45: 1058 | N45: 1105 | O45: 1184
E46: 減債基金積立不足算定額 | K46: - | L46: - | M46: - | N46: - | O46: -
E47: 満期一括償還地方債に係る年度割相当額 | K47: - | L47: - | M47: - | N47: - | O47: -
E48: 公営企業債の元利償還金に対する繰入金 | K48: 268 | L48: 263 | M48: 290 | N48: 324 | O48: 308
E49: 組合等が起こした地方債の元利償還金に対する負担金等 | K49: 621 | L49: 604 | M49: 624 | N49: 731 | O49: 677
E50: 債務負担行為に基づく支出額 | K50: 19 | L50: 13 | M50: - | N50: 3 | O50: 3
E51: 一時借入金の利子 | K51: 1 | L51: 1 | M51: 0 | N51: 1 | O51: 1
B52: 算入公債費等(B) | E52: 算入公債費等 | K52: 1370 | L52: 1464 | M52: 1449 | N52: 1542 | O52: 1551
B53: (A)－(B) | E53: 実質公債費比率の分子 | K53: 525 | L53: 425 | M53: 523 | N53: 622 | O53: 622
B54: ※平成30年度中に市町村合併した団体で、合併前の団体ごとの決算に基づく実質公債費比率を算出していない団体については、グラフを表記しない。

Sheet 将来負担比率（分子）の構造
M39: （百万円）
B40: 分子の構造 | H40: 年度 | I40: H25 | J40: H26 | K40: H27 | L40: H28 | M40: H29
B41: 将来負担額(A) | E41: 一般会計等に係る地方債の現在高 | I41: 11071 | J41: 11526 | K41: 12596 | L41: 12979 | M41: 13112
E42: 債務負担行為に基づく支出予定額 | I42: 38 | J42: 110 | K42: 19 | L42: 15 | M42: 12
E43: 公営企業債等繰入見込額 | I43: 4267 | J43: 3824 | K43: 3758 | L43: 3767 | M43: 3715
E44: 組合等負担等見込額 | I44: 7234 | J44: 7090 | K44: 6772 | L44: 6307 | M44: 5906
E45: 退職手当負担見込額 | I45: 1411 | J45: 1336 | K45: 1119 | L45: 1185 | M45: 1153
E46: 設立法人等の負債額等負担見込額 | I46: 2 | J46: 5 | K46: 8 | L46: 26 | M46: 27
E47: うち、健全化法施行規則附則第三条に係る負担見込額 | I47: - | J47: - | K47: - | L47: - | M47: -
E48: 連結実質赤字額 | I48: - | J48: - | K48: - | L48: - | M48: -
E49: 組合等連結実質赤字額負担見込額 | I49: - | J49: - | K49: - | L49: - | M49: -
B50: 充当可能財源等(B) | E50: 充当可能基金 | I50: 1381 | J50: 1413 | K50: 1595 | L50: 1519 | M50: 1349
E51: 充当可能特定歳入 | I51: 147 | J51: 224 | K51: 328 | L51: 441 | M51: 463
E52: 基準財政需要額算入見込額 | I52: 16131 | J52: 16176 | K52: 16572 | L52: 16144 | M52: 15837
B53: (A)－(B) | E53: 将来負担比率の分子 | I53: 6363 | J53: 6080 | K53: 5777 | L53: 6176 | M53: 6276
B54: ※平成30年度中に市町村合併した団体で、合併前の団体ごとの決算に基づく将来負担比率を算出していない団体については、グラフを表記しない。

Sheet 基金残高に係る経年分析
H53: （百万円）
B54: 区分 | E54: 年度 | F54: H27 | G54: H28 | H54: H29
C55: 財政調整基金 | F55: 796 | G55: 635 | H55: 476
C56: 減債基金 | F56: 268 | G56: 122 | H56: 26
C57: その他特定目的基金 | F57: 474 | G57: 702 | H57: 749
C58: 庁舎建設基金 | F58: 160 | G58: 310 | H58: 410
C59: 人材育成交流基金 | F59: 92 | G59: 99 | H59: 97
C60: 起業支援基金 | F60: 84 | G60: 98 | H60: 93
C61: 子育て支援基金 | F61: 87 | G61: 89 | H61: 63
C62: ふるさとづくり基金 | F62: 13 | G62: 66 | H62: 42
C63: 基金残高合計 | F63: 1538 | G63: 1459 | H63: 1252

Sheet 公会計指標分析・財政指標組合せ分析表
EM10: a
EM12: a
B41: 将来負担比率及び有形固定資産減価償却率の組合せによる分析
AN42: 分析欄
AN43: 将来負担比率については、類似団体と比較すると高い水準となっている地方債の残高が高いことや充当可能財源の基金残高が低いためである。 引き続き、経営改革プランに基づき、建設事業債の発行や債務負担行為の新規設定の抑制等や、資産の効率的な利用や総量の縮減、長寿命化を務めていきます。
AN49: ( 参考 ）
BP50: H25 | BX50: H26 | CF50: H27 | CN50: H28 | CV50: H29
AN51: 当該団体値 | BB51: 将来負担比率 | CN51: 125.1
BB53: 有形固定資産減価償却率 | CN53: 61
AN55: 類似団体内平均値 | BB55: 将来負担比率 | CN55: 44.9
BB57: 有形固定資産減価償却率 | CN57: 62.6
B63: 将来負担比率及び実質公債費比率の組合せによる分析
AN64: 分析欄
AN65: 将来負担比率及び実質公債費比率ともに、類似団体と比較すると高い水準です。これは近年大規模な投資的事業を継続したことにより借入残高は年々増加傾向であり、財源についてはその大半を町債に依存してきたためです。今後は、事業の選択や平準化を図り町債残高の縮減に努め将来的な財政負担の軽減を図る。また経営改革プランに基づき、建設事業債の発行や債務負担行為の新規設定の抑制等や、両比率の軽減に務めていきます。
AN71: ( 参考 ）
BP72: H25 | BX72: H26 | CF72: H27 | CN72: H28 | CV72: H29
AN73: 当該団体値 | BB73: 将来負担比率 | BP73: 127.9 | BX73: 124.3 | CF73: 115.9 | CN73: 125.1 | CV73: 128.5
BB75: 実質公債費比率 | BP75: 11.7 | BX75: 10.2 | CF75: 9.9 | CN75: 10.6 | CV75: 11.9
AN77: 類似団体内平均値 | BB77: 将来負担比率 | BP77: 44.3 | BX77: 40.3 | CF77: 44.9 | CN77: 44.9 | CV77: 40.8
BB79: 実質公債費比率 | BP79: 10.6 | BX79: 9.8 | CF79: 8.5 | CN79: 9.1 | CV79: 8.9

Sheet 施設類型別ストック情報分析表①

Sheet 施設類型別ストック情報分析表②
