Workbook

Sheet 総括表
B1: 平成29年度 財政状況資料集
B2: 総括表（市町村）
B3: 都道府県名 | L3: 山形県 | W3: 市町村類型 | AC3: Ⅱ－１ | AM3: 指定団体等の指定状況 | AY3: 区分 | BN3: 平成29年度(千円) | BV3: 平成28年度(千円) | CD3: 区分 | CT3: 平成29年度(千円･％) | DB3: 平成28年度(千円･％)
AY4: 歳入総額 | BN4: 4650000 | BV4: 4935273 | CD4: 実質収支比率 | CT4: 12.5 | DB4: 11.6
AM5: 財政健全化等 | AU5: × | AY5: 歳出総額 | BN5: 4339765 | BV5: 4633410 | CD5: 経常収支比率 | CT5: 88.1 | DB5: 82.6
B6: 市町村名 | L6: 金山町 | W6: 地方交付税種地 | AC6: 2-2 | AM6: 財源超過 | AU6: × | AY6: 歳入歳出差引 | BN6: 310235 | BV6: 301863 | CD6: (※1) | CT6: 91.7 | DB6: 85.9
AM7: 首都 | AU7: × | AY7: 翌年度に繰越すべき財源 | BN7: 7682 | BV7: 11048 | CD7: 標準財政規模 | CT7: 2418381 | DB7: 2503703
AM8: 近畿 | AU8: × | AY8: 実質収支 | BN8: 302553 | BV8: 290815 | CD8: 財政力指数 | CT8: 0.2 | DB8: 0.2
B9: 人口 | L9: 27年国調(人) | R9: 5829 | W9: 産業構造 (※5) | AM9: 中部 | AU9: × | AY9: 単年度収支 | BN9: 11738 | BV9: 15614 | CD9: 公債費負担比率 | CT9: 9.5 | DB9: 10.7
L10: 22年国調(人) | R10: 6365 | AM10: 過疎 | AU10: ○ | AY10: 積立金 | BN10: 157274 | BV10: 148241 | CD10: 健全化判断比率
L11: 増減率 (％) | R11: -8.4 | AM11: 山振 | AU11: ○ | AY11: 繰上償還金 | BN11: 0 | BV11: 0 | CD11: 実質赤字比率 | CT11: - | DB11: -
B12: 住民基本台帳人口 (※7) | L12: 30.01.01(人) | R12: 5674 | W12: 区分 | AC12: 27年国調 | AH12: 22年国調 | AM12: 低開発 | AU12: × | AY12: 積立金取崩し額 | BN12: 420800 | BV12: 167380 | CD12: 連結実質赤字比率 | CT12: - | DB12: -
M13: うち日本人(人) | R13: 5618 | W13: 第1次 | AC13: 533 | AH13: 600 | AM13: 指数表選定 | AU13: × | AY13: 実質単年度収支 | BN13: -251788 | BV13: -3525 | CD13: 実質公債費比率 | CT13: 8.5 | DB13: 7.9
L14: 29.01.01(人) | R14: 5827 | AC14: 17.9 | AH14: 19.4 | CD14: 将来負担比率 | CT14: 51.6 | DB14: 38.7
M15: うち日本人(人) | R15: 5773 | W15: 第2次 | AC15: 1052 | AH15: 1089 | AY15: 基準財政収入額 | BN15: 473969 | BV15: 465025 | CD15: 資金不足比率 (※4)
L16: 増減率 (％) | R16: -2.6 | AC16: 35.2 | AH16: 35.1 | AY16: 基準財政需要額 | BN16: 2205873 | BV16: 2295454
M17: うち日本人(％) | R17: -2.7 | W17: 第3次 | AC17: 1400 | AH17: 1411 | AY17: 標準税収入額等 | BN17: 593055 | BV17: 577366
B18: 面積 (k㎡) | L18: 161.67 | AC18: 46.9 | AH18: 45.5 | AY18: 経常経費充当一般財源等 | BN18: 2142662 | BV18: 2074320
B19: 人口密度 (人/k㎡) | L19: 36 | AY19: 歳入一般財源等 | BN19: 3425583 | BV19: 3295034
B20: 世帯数 (世帯) | L20: 1643
B21: 職員の状況 (※8)
B22: 特別職等 | E22: 区分 | L22: 定数 | Q22: 1人あたり平均 給料月額(百円) | W22: 一般職員等(※6) | Z22: 区分 | AH22: 職員数 (人) | AM22: 給料月額 (百円) | AS22: 1人あたり平均 給料月額(百円)
AY23: 地方債現在高 | BN23: 4431006 | BV23: 4422564
E24: 市区町村長 | L24: 1 | Q24: 7380 | Z24: 一般職員 | AH24: 65 | AM24: 194935 | AS24: 2999 | AY24: うち公的資金 | BN24: 2630626 | BV24: 2675566
E25: 副市区町村長 | L25: 1 | Q25: 5770 | Z25: うち消防職員 | AH25: - | AM25: - | AS25: - | AY25: 債務負担行為額（支出予定額） | BN25: 10287 | BV25: 10836
E26: 教育長 | L26: 1 | Q26: 5470 | Z26: うち技能労務職員 | AH26: 2 | AM26: * | AS26: * | AY26: 収益事業収入 | BN26: - | BV26: -
E27: 議会議長 | L27: 1 | Q27: 3100 | Z27: 教育公務員 | AH27: - | AM27: - | AS27: - | AY27: 土地開発基金現在高 | BN27: 117917 | BV27: 117910
E28: 議会副議長 | L28: 1 | Q28: 2500 | Z28: 臨時職員 | AH28: - | AM28: - | AS28: - | AY28: 積立金 現在高 | BC28: 財政調整基金 | BN28: 488596 | BV28: 752122
E29: 議会議員 | L29: 8 | Q29: 2300 | Z29: 合計 | AH29: 65 | AM29: 194935 | AS29: 2999 | BC29: 減債基金 | BN29: 45378 | BV29: 45348
W30: ラスパイレス指数 | AH30: 97.8 | BC30: その他特定目的基金 | BN30: 597211 | BV30: 465338
C32: 一般会計等の一覧 | U32: 事業会計の一覧 | AM32: 公営企業（法適）の一覧 | BE32: 公営企業（法非適）の一覧 | BW32: 関係する一部事務組合等一覧 | CO32: 地方公社・第三セクター等一覧
C33: 項番 | E33: 会計名 | U33: 項番 | W33: 会計名 | AM33: 項番 | AO33: 会計名 | BE33: 項番 | BG33: 会計名 | BW33: 項番 | BY33: 組合等名 | CO33: 項番 | CQ33: 団体名 | DG33: (※3)
C34: =IF(E34="","",1) -> 1 | E34: =IF('各会計、関係団体の財政状況及び健全化判断比率'!B7="","",'各会計、関係団体の財政状況及び健全化判断比率'!B7) -> 一般会計 | U34: =IF(W34="","",MAX(C34:D43)+1) -> 2 | W34: =IF('各会計、関係団体の財政状況及び健全化判断比率'!B28="","",'各会計、関係団体の財政状況及び健全化判断比率'!B28) -> 国民健康保険特別会計 | AM34: =IF(AO34="","",MAX(C34:D43,U34:V43)+1) -> 6 | AO34: =IF('各会計、関係団体の財政状況及び健全化判断比率'!B32="","",'各会計、関係団体の財政状況及び健全化判断比率'!B32) -> 水道事業会計 | BE34: =IF(BG34="","",MAX(C34:D43,U34:V43,AM34:AN43)+1) -> 7 | BG34: =IF('各会計、関係団体の財政状況及び健全化判断比率'!B33="","",'各会計、関係団体の財政状況及び健全化判断比率'!B33) -> 公共下水道事業特別会計 | BW34: =IF(BY34="","",MAX(C34:D43,U34:V43,AM34:AN43,BE34:BF43)+1) -> 9 | BY34: =IF('各会計、関係団体の財政状況及び健全化判断比率'!B68="","",'各会計、関係団体の財政状況及び健全化判断比率'!B68) -> 最上広域市町村圏事務組合 | CO34: =IF(CQ34="","",MAX(C34:D43,U34:V43,AM34:AN43,BE34:BF43,BW34:BX43)+1) -> 19 | CQ34: =IF('各会計、関係団体の財政状況及び健全化判断比率'!BS7="","",'各会計、関係団体の財政状況及び健全化判断比率'!BS7) -> グリーンバレー神室振興公社 | DG34: =IF('各会計、関係団体の財政状況及び健全化判断比率'!BR7="","",'各会計、関係団体の財政状況及び健全化判断比率'!BR7)
C35: =IF(E35="","",C34+1) | E35: =IF('各会計、関係団体の財政状況及び健全化判断比率'!B8="","",'各会計、関係団体の財政状況及び健全化判断比率'!B8) | U35: =IF(W35="","",U34+1) -> 3 | W35: =IF('各会計、関係団体の財政状況及び健全化判断比率'!B29="","",'各会計、関係団体の財政状況及び健全化判断比率'!B29) -> 介護保険特別会計 | AM35: =IF(AO35="","",AM34+1) | BE35: =IF(BG35="","",BE34+1) -> 8 | BG35: =IF('各会計、関係団体の財政状況及び健全化判断比率'!B34="","",'各会計、関係団体の財政状況及び健全化判断比率'!B34) -> 農業集落排水事業特別会計 | BW35: =IF(BY35="","",BW34+1) -> 10 | BY35: =IF('各会計、関係団体の財政状況及び健全化判断比率'!B69="","",'各会計、関係団体の財政状況及び健全化判断比率'!B69) -> 最上地区広域連合（普通会計分） | CO35: =IF(CQ35="","",CO34+1) | CQ35: =IF('各会計、関係団体の財政状況及び健全化判断比率'!BS8="","",'各会計、関係団体の財政状況及び健全化判断比率'!BS8) | DG35: =IF('各会計、関係団体の財政状況及び健全化判断比率'!BR8="","",'各会計、関係団体の財政状況及び健全化判断比率'!BR8)
C36: =IF(E36="","",C35+1) | E36: =IF('各会計、関係団体の財政状況及び健全化判断比率'!B9="","",'各会計、関係団体の財政状況及び健全化判断比率'!B9) | U36: =IF(W36="","",U35+1) -> 4 | W36: =IF('各会計、関係団体の財政状況及び健全化判断比率'!B30="","",'各会計、関係団体の財政状況及び健全化判断比率'!B30) -> 介護サービス事業 | AM36: =IF(AO36="","",AM35+1) | BE36: =IF(BG36="","",BE35+1) | BW36: =IF(BY36="","",BW35+1) -> 11 | BY36: =IF('各会計、関係団体の財政状況及び健全化判断比率'!B70="","",'各会計、関係団体の財政状況及び健全化判断比率'!B70) -> 最上地区広域連合（事業会計分） | CO36: =IF(CQ36="","",CO35+1) | CQ36: =IF('各会計、関係団体の財政状況及び健全化判断比率'!BS9="","",'各会計、関係団体の財政状況及び健全化判断比率'!BS9) | DG36: =IF('各会計、関係団体の財政状況及び健全化判断比率'!BR9="","",'各会計、関係団体の財政状況及び健全化判断比率'!BR9)
C37: =IF(E37="","",C36+1) | E37: =IF('各会計、関係団体の財政状況及び健全化判断比率'!B10="","",'各会計、関係団体の財政状況及び健全化判断比率'!B10) | U37: =IF(W37="","",U36+1) -> 5 | W37: =IF('各会計、関係団体の財政状況及び健全化判断比率'!B31="","",'各会計、関係団体の財政状況及び健全化判断比率'!B31) -> 後期高齢者医療特別会計 | AM37: =IF(AO37="","",AM36+1) | BE37: =IF(BG37="","",BE36+1) | BW37: =IF(BY37="","",BW36+1) -> 12 | BY37: =IF('各会計、関係団体の財政状況及び健全化判断比率'!B71="","",'各会計、関係団体の財政状況及び健全化判断比率'!B71) -> 山形県自治会館管理組合 | CO37: =IF(CQ37="","",CO36+1) | CQ37: =IF('各会計、関係団体の財政状況及び健全化判断比率'!BS10="","",'各会計、関係団体の財政状況及び健全化判断比率'!BS10) | DG37: =IF('各会計、関係団体の財政状況及び健全化判断比率'!BR10="","",'各会計、関係団体の財政状況及び健全化判断比率'!BR10)
C38: =IF(E38="","",C37+1) | E38: =IF('各会計、関係団体の財政状況及び健全化判断比率'!B11="","",'各会計、関係団体の財政状況及び健全化判断比率'!B11) | U38: =IF(W38="","",U37+1) | AM38: =IF(AO38="","",AM37+1) | BE38: =IF(BG38="","",BE37+1) | BW38: =IF(BY38="","",BW37+1) -> 13 | BY38: =IF('各会計、関係団体の財政状況及び健全化判断比率'!B72="","",'各会計、関係団体の財政状況及び健全化判断比率'!B72) -> 山形県消防補償等組合(一般会計) | CO38: =IF(CQ38="","",CO37+1) | CQ38: =IF('各会計、関係団体の財政状況及び健全化判断比率'!BS11="","",'各会計、関係団体の財政状況及び健全化判断比率'!BS11) | DG38: =IF('各会計、関係団体の財政状況及び健全化判断比率'!BR11="","",'各会計、関係団体の財政状況及び健全化判断比率'!BR11)
C39: =IF(E39="","",C38+1) | E39: =IF('各会計、関係団体の財政状況及び健全化判断比率'!B12="","",'各会計、関係団体の財政状況及び健全化判断比率'!B12) | U39: =IF(W39="","",U38+1) | AM39: =IF(AO39="","",AM38+1) | BE39: =IF(BG39="","",BE38+1) | BW39: =IF(BY39="","",BW38+1) -> 14 | BY39: =IF('各会計、関係団体の財政状況及び健全化判断比率'!B73="","",'各会計、関係団体の財政状況及び健全化判断比率'!B73) -> 山形県市町村交通災害共済組合 | CO39: =IF(CQ39="","",CO38+1) | CQ39: =IF('各会計、関係団体の財政状況及び健全化判断比率'!BS12="","",'各会計、関係団体の財政状況及び健全化判断比率'!BS12) | DG39: =IF('各会計、関係団体の財政状況及び健全化判断比率'!BR12="","",'各会計、関係団体の財政状況及び健全化判断比率'!BR12)
C40: =IF(E40="","",C39+1) | E40: =IF('各会計、関係団体の財政状況及び健全化判断比率'!B13="","",'各会計、関係団体の財政状況及び健全化判断比率'!B13) | U40: =IF(W40="","",U39+1) | AM40: =IF(AO40="","",AM39+1) | BE40: =IF(BG40="","",BE39+1) | BW40: =IF(BY40="","",BW39+1) -> 15 | BY40: =IF('各会計、関係団体の財政状況及び健全化判断比率'!B74="","",'各会計、関係団体の財政状況及び健全化判断比率'!B74) -> 山形県市町村職員退職手当組合 | CO40: =IF(CQ40="","",CO39+1) | CQ40: =IF('各会計、関係団体の財政状況及び健全化判断比率'!BS13="","",'各会計、関係団体の財政状況及び健全化判断比率'!BS13) | DG40: =IF('各会計、関係団体の財政状況及び健全化判断比率'!BR13="","",'各会計、関係団体の財政状況及び健全化判断比率'!BR13)
C41: =IF(E41="","",C40+1) | E41: =IF('各会計、関係団体の財政状況及び健全化判断比率'!B14="","",'各会計、関係団体の財政状況及び健全化判断比率'!B14) | U41: =IF(W41="","",U40+1) | AM41: =IF(AO41="","",AM40+1) | BE41: =IF(BG41="","",BE40+1) | BW41: =IF(BY41="","",BW40+1) -> 16 | BY41: =IF('各会計、関係団体の財政状況及び健全化判断比率'!B75="","",'各会計、関係団体の財政状況及び健全化判断比率'!B75) -> 山形県後期高齢者医療広域連合（一般会計分） | CO41: =IF(CQ41="","",CO40+1) | CQ41: =IF('各会計、関係団体の財政状況及び健全化判断比率'!BS14="","",'各会計、関係団体の財政状況及び健全化判断比率'!BS14) | DG41: =IF('各会計、関係団体の財政状況及び健全化判断比率'!BR14="","",'各会計、関係団体の財政状況及び健全化判断比率'!BR14)
...

Sheet 普通会計の状況
DH1: 平成29年度 | DP1: 山形県金山町
B2: (1) 普通会計の状況（市町村）
B3: 歳入の状況（単位 千円・％） | AP3: 地方税の状況（単位 千円・％） | CD3: 歳出の状況（単位 千円・％）
B4: 区分 | R4: 決算額 | Z4: 構成比 | AD4: 経常一般財源等 | AL4: 構成比 | AP4: 区分 | BG4: 収入済額 | BO4: 構成比 | BS4: 超過課税分 | CD4: 目的別歳出の状況（単位 千円・％）
B5: 地方税 | R5: 461549 | Z5: 9.9 | AD5: 453108 | AL5: 19.4 | AP5: 普通税 | BG5: 448687 | BO5: 97.2 | BS5: - | CD5: 区分 | CR5: 決算額 (A) | CZ5: 構成比 | DD5: (A)のうち普通建設事業費 | DQ5: (A)のうち充当一般財源等
B6: 地方譲与税 | R6: 41370 | Z6: 0.9 | AD6: 41370 | AL6: 1.8 | AP6: 法定普通税 | BG6: 448687 | BO6: 97.2 | BS6: - | CD6: 議会費 | CR6: 69263 | CZ6: 1.6 | DD6: - | DQ6: 69263
B7: 利子割交付金 | R7: 912 | Z7: 0 | AD7: 912 | AL7: 0 | AP7: 市町村民税 | BG7: 184473 | BO7: 40 | BS7: - | CD7: 総務費 | CR7: 778349 | CZ7: 17.9 | DD7: 35085 | DQ7: 576106
B8: 配当割交付金 | R8: 1198 | Z8: 0 | AD8: 1198 | AL8: 0.1 | AP8: 個人均等割 | BG8: 9230 | BO8: 2 | BS8: - | CD8: 民生費 | CR8: 808867 | CZ8: 18.6 | DD8: 2313 | DQ8: 463683
B9: 株式等譲渡所得割交付金 | R9: 1224 | Z9: 0 | AD9: 1224 | AL9: 0.1 | AP9: 所得割 | BG9: 162447 | BO9: 35.2 | BS9: - | CD9: 衛生費 | CR9: 472031 | CZ9: 10.9 | DD9: 8880 | DQ9: 436224
B10: 分離課税所得割交付金 | R10: - | Z10: - | AD10: - | AL10: - | AP10: 法人均等割 | BG10: 6836 | BO10: 1.5 | BS10: - | CD10: 労働費 | CR10: 10634 | CZ10: 0.2 | DD10: - | DQ10: 3634
B11: 道府県民税所得割臨時交付金 | R11: - | Z11: - | AD11: - | AL11: - | AP11: 法人税割 | BG11: 5960 | BO11: 1.3 | BS11: - | CD11: 農林水産業費 | CR11: 330043 | CZ11: 7.6 | DD11: 89580 | DQ11: 167494
B12: 地方消費税交付金 | R12: 93501 | Z12: 2 | AD12: 93501 | AL12: 4 | AP12: 固定資産税 | BG12: 214748 | BO12: 46.5 | BS12: - | CD12: 商工費 | CR12: 155978 | CZ12: 3.6 | DD12: 17539 | DQ12: 74552
B13: ゴルフ場利用税交付金 | R13: - | Z13: - | AD13: - | AL13: - | AP13: うち純固定資産税 | BG13: 188380 | BO13: 40.8 | BS13: - | CD13: 土木費 | CR13: 561878 | CZ13: 12.9 | DD13: 275194 | DQ13: 347097
B14: 特別地方消費税交付金 | R14: - | Z14: - | AD14: - | AL14: - | AP14: 軽自動車税 | BG14: 20465 | BO14: 4.4 | BS14: - | CD14: 消防費 | CR14: 171642 | CZ14: 4 | DD14: 10271 | DQ14: 148493
B15: 自動車取得税交付金 | R15: 11751 | Z15: 0.3 | AD15: 11751 | AL15: 0.5 | AP15: 市町村たばこ税 | BG15: 29001 | BO15: 6.3 | BS15: - | CD15: 教育費 | CR15: 651521 | CZ15: 15 | DD15: 62206 | DQ15: 499243
B16: 軽油引取税交付金 | R16: - | Z16: - | AD16: - | AL16: - | AP16: 鉱産税 | BG16: - | BO16: - | BS16: - | CD16: 災害復旧費 | CR16: 2628 | CZ16: 0.1 | DD16: - | DQ16: 2628
B17: 地方特例交付金 | R17: 904 | Z17: 0 | AD17: 904 | AL17: 0 | AP17: 特別土地保有税 | BG17: - | BO17: - | BS17: - | CD17: 公債費 | CR17: 326931 | CZ17: 7.5 | DD17: - | DQ17: 326931
B18: 地方交付税 | R18: 1981118 | Z18: 42.6 | AD18: 1730164 | AL18: 74.1 | AP18: 法定外普通税 | BG18: - | BO18: - | BS18: - | CD18: 諸支出金 | CR18: - | CZ18: - | DD18: - | DQ18: -
B19: 普通交付税 | R19: 1730164 | Z19: 37.2 | AD19: 1730164 | AL19: 74.1 | AP19: 目的税 | BG19: 12862 | BO19: 2.8 | BS19: - | CD19: 前年度繰上充用金 | CR19: - | CZ19: - | DD19: - | DQ19: -
B20: 特別交付税 | R20: 250954 | Z20: 5.4 | AD20: - | AL20: - | AP20: 法定目的税 | BG20: 12862 | BO20: 2.8 | BS20: - | CD20: 歳出合計 | CR20: 4339765 | CZ20: 100 | DD20: 501068 | DQ20: 3115348
B21: 震災復興特別交付税 | R21: - | Z21: - | AD21: - | AL21: - | AP21: 入湯税 | BG21: 4421 | BO21: 1 | BS21: -
B22: (一般財源計) | R22: 2593527 | Z22: 55.8 | AD22: 2334132 | AL22: 99.9 | AP22: 事業所税 | BG22: - | BO22: - | BS22: - | CD22: 性質別歳出の状況（単位 千円・％）
B23: 交通安全対策特別交付金 | R23: 789 | Z23: 0 | AD23: 789 | AL23: 0 | AP23: 都市計画税 | BG23: 8441 | BO23: 1.8 | BS23: - | CD23: 区分 | CR23: 決算額 | CZ23: 構成比 | DD23: 充当一般財源等 | DL23: 経常経費充当一般財源等 | DW23: 経常収支比率
B24: 分担金・負担金 | R24: 2076 | Z24: 0 | AD24: - | AL24: - | AP24: 水利地益税等 | BG24: - | BO24: - | BS24: - | CD24: 義務的経費計 | CR24: 1259123 | CZ24: 29 | DD24: 958421 | DL24: 957184 | DW24: 39.4
B25: 使用料 | R25: 43729 | Z25: 0.9 | AD25: 676 | AL25: 0 | AP25: 法定外目的税 | BG25: - | BO25: - | BS25: - | CD25: 人件費 | CR25: 565754 | CZ25: 13 | DD25: 548083 | DL25: 546846 | DW25: 22.5
B26: 手数料 | R26: 11797 | Z26: 0.3 | AD26: - | AL26: - | AP26: 旧法による税 | BG26: - | BO26: - | BS26: - | CD26: うち職員給 | CR26: 345332 | CZ26: 8 | DD26: 332245 | DL26: - | DW26: -
B27: 国庫支出金 | R27: 338582 | Z27: 7.3 | AD27: - | AL27: - | AP27: 合計 | BG27: 461549 | BO27: 100 | BS27: - | CD27: 扶助費 | CR27: 366438 | CZ27: 8.4 | DD27: 83407 | DL27: 83407 | DW27: 3.4
B28: 国有提供交付金(特別区財調交付金) | R28: - | Z28: - | AD28: - | AL28: - | CD28: 公債費 | CR28: 326931 | CZ28: 7.5 | DD28: 326931 | DL28: 326931 | DW28: 13.4
B29: 都道府県支出金 | R29: 286196 | Z29: 6.2 | AD29: - | AL29: - | AP29: 区分 | BG29: 平成29年度 | BR29: 平成28年度 | CD29: 内訳 | CF29: 元利償還金 | CR29: 326931 | CZ29: 7.5 | DD29: 326931 | DL29: 326931 | DW29: 13.4
B30: 財産収入 | R30: 11786 | Z30: 0.3 | AD30: 28 | AL30: 0 | AP30: 徴収率 (％) | AT30: 現年 | AX30: 合計 | BG30: 98.9 | BM30: 91.1 | BR30: 98.2 | BX30: 90.2 | CF30: うち元金 | CR30: 294620 | CZ30: 6.8 | DD30: 294620 | DL30: 294620 | DW30: 12.1
B31: 寄附金 | R31: 115740 | Z31: 2.5 | AD31: - | AL31: - | AU31: ・計 | AX31: 市町村民税 | BG31: 98.9 | BM31: 93.3 | BR31: 97.9 | BX31: 92.8 | CF31: うち利子 | CR31: 32311 | CZ31: 0.7 | DD31: 32311 | DL31: 32311 | DW31: 1.3
B32: 繰入金 | R32: 607393 | Z32: 13.1 | AD32: - | AL32: - | AX32: 純固定資産税 | BG32: 98.5 | BM32: 86.1 | BR32: 97.7 | BX32: 84.5 | CF32: 一時借入金利子 | CR32: - | CZ32: - | DD32: - | DL32: - | DW32: -
B33: 繰越金 | R33: 301863 | Z33: 6.5 | AD33: - | AL33: - | CD33: その他の経費 | CR33: 2576946 | CZ33: 59.4 | DD33: 2024916 | DL33: 1185478 | DW33: 48.8
B34: 諸収入 | R34: 33460 | Z34: 0.7 | AD34: 58 | AL34: 0 | AQ34: 公営事業等への繰出 | BG34: 国民健康保険事業会計の状況 | CD34: 物件費 | CR34: 702097 | CZ34: 16.2 | DD34: 505947 | DL34: 233057 | DW34: 9.6
B35: 地方債 | R35: 303062 | Z35: 6.5 | AD35: - | AL35: - | AQ35: 合計 | AZ35: 707617 | BG35: 実質収支 | BV35: 2728 | CD35: 維持補修費 | CR35: 143949 | CZ35: 3.3 | DD35: 118544 | DL35: 118544 | DW35: 4.9
B36: うち減収補塡債(特例分) | R36: - | Z36: - | AD36: - | AL36: - | AQ36: 下水道 | AZ36: 144499 | BG36: 再差引収支 | BV36: 1549 | CD36: 補助費等 | CR36: 599243 | CZ36: 13.8 | DD36: 441639 | DL36: 337183 | DW36: 13.9
B37: うち臨時財政対策債 | R37: 95162 | Z37: 2 | AD37: - | AL37: - | AQ37: 上水道 | AZ37: 58204 | BG37: 加入世帯数(世帯) | BV37: 682 | CD37: うち一部事務組合負担金 | CR37: 254212 | CZ37: 5.9 | DD37: 220837 | DL37: 210635 | DW37: 8.7
B38: 歳入合計 | R38: 4650000 | Z38: 100 | AD38: 2335683 | AL38: 100 | AQ38: 工業用水道 | AZ38: - | BG38: 被保険者数(人) | BV38: 1171 | CD38: 繰出金 | CR38: 649413 | CZ38: 15 | DD38: 609508 | DL38: 496694 | DW38: 20.4
AQ39: 交通 | AZ39: - | BG39: 被保険者 1人当り | BM39: 保険税(料)収入額 | BV39: 2 | CD39: 積立金 | CR39: 475770 | CZ39: 11 | DD39: 346804 | DL39: - | DW39: -
AQ40: 国民健康保険 | AZ40: 246251 | BM40: 国庫支出金 | BV40: - | CD40: 投資・出資金・貸付金 | CR40: 6474 | CZ40: 0.1 | DD40: 2474 | DL40: - | DW40: -
...

Sheet 各会計、関係団体の財政状況及び健全化判断比率
A2: (2)各会計、関係団体の財政状況及び健全化判断比率（市町村） | DJ2: 平成29年度 | DQ2: 山形県金山町
A4: 一般会計等の財政状況（単位：百万円） | BQ4: 地方公社・第三セクター等の経営状況及び地方公共団体の財政的支援の状況（単位：百万円）
A5: 会計名 | Q5: 歳入 | V5: 歳出 | AA5: 形式収支 | AF5: 実質収支 | AK5: 他会計等 からの 繰入金 | AP5: 地方債 現在高 | AU5: 備考 | BQ5: 地方公社・第三セクター等名 | CH5: 経常損益 | CM5: 純資産又は 正味財産 | CR5: 当該団体 からの 出資金 | CW5: 当該団体 からの 補助金 | DB5: 当該団体 からの 貸付金 | DG5: 当該団体からの債務保証に係る債務残高 | DL5: 当該団体からの損失補償に係る債務残高 | DQ5: 一般会計等 負担見込額 | DV5: 備考
A7: 1 | B7: 一般会計 | Q7: 4655 | V7: 4345 | AA7: 310 | AF7: 303 | AK7: 607 | AP7: 4431 | BQ7: 1 | BS7: グリーンバレー神室振興公社 | CH7: 1 | CM7: 75 | CR7: 36 | CW7: - | DB7: - | DG7: - | DL7: - | DQ7: -
A8: 2 | BQ8: 2
A9: 3 | BQ9: 3
A10: 4 | BQ10: 4
A11: 5 | BQ11: 5
A12: 6 | BQ12: 6
A13: 7 | BQ13: 7
A14: 8 | BQ14: 8
A15: 9 | BQ15: 9
A16: 10 | BQ16: 10
A17: 11 | BQ17: 11
A18: 12 | BQ18: 12
A19: 13 | BQ19: 13
... A21: 15 | BQ21: 15
A22: 16 | AZ22: 実質赤字額 | BQ22: 16
A23: 計 | B23: 一般会計等（純計） | Q23: 4655 | V23: 4345 | AA23: 310 | AF23: 303 | AP23: 4431 | AZ23: - | BQ23: 17
A24: ※一般会計等（純計）は、各会計の相互間の繰入・繰出等の重複を控除したものであり、各会計の合計と一致しない場合がある。 | BQ24: 18
A25: 公営企業会計等の財政状況（単位：百万円） | BQ25: 19
A26: 会計名 | Q26: 総収益 （歳入） | V26: 総費用 （歳出） | AA26: 純損益 （形式収支） | AF26: 資金剰余額 /不足額 （実質収支） | AK26: 他会計等 からの 繰入金 | AP26: 企業債 （地方債） 現在高 | AU26: 左のうち 一般会計等 繰入見込額 | AZ26: 資金不足 比率 | BE26: 備考 | BQ26: 20
BQ27: 21
A28: 1 | B28: 国民健康保険特別会計 | Q28: 431 | V28: 418 | AA28: 14 | AF28: 14 | AK28: 276 | AP28: 74 | AU28: - | AZ28: - | BQ28: 22
A29: 2 | B29: 介護保険特別会計 | Q29: 829 | V29: 819 | AA29: 10 | AF29: 10 | AK29: 180 | AP29: - | AU29: - | AZ29: - | BQ29: 23
A30: 3 | B30: 介護サービス事業 | Q30: 3 | V30: 3 | AA30: - | AF30: - | AK30: - | AP30: - | AU30: - | AZ30: - | BQ30: 24
A31: 4 | B31: 後期高齢者医療特別会計 | Q31: 64 | V31: 63 | AA31: 1 | AF31: 1 | AK31: - | AP31: - | AU31: - | AZ31: - | BQ31: 25
A32: 5 | B32: 水道事業会計 | Q32: 188 | V32: 191 | AA32: ▲3 | AF32: 95 | AK32: 56 | AP32: 639 | AU32: 336 | AZ32: - | BE32: 法適用企業 | BQ32: 26
A33: 6 | B33: 公共下水道事業特別会計 | Q33: 164 | V33: 154 | AA33: 10 | AF33: 10 | AK33: 100 | AP33: 1279 | AU33: 1222 | AZ33: - | BE33: 法非適用企業 | BQ33: 27
A34: 7 | B34: 農業集落排水事業特別会計 | Q34: 62 | V34: 60 | AA34: 2 | AF34: 2 | AK34: 45 | AP34: 147 | AU34: 145 | AZ34: - | BE34: 法非適用企業 | BQ34: 28
A35: 8 | BQ35: 29
A36: 9 | BQ36: 30
A37: 10 | BQ37: 31
A38: 11 | BQ38: 32
A39: 12 | BQ39: 33
A40: 13 | BQ40: 34
A41: 14 | BQ41: 35
A42: 15 | BQ42: 36
A43: 16 | BQ43: 37
A44: 17 | BQ44: 38
...

Sheet 財政比較分析表 

Sheet 経常経費分析表（経常収支比率の分析）

Sheet 経常経費分析表（人件費・公債費・普通建設事業費の分析）
A5: 人件費及び人件費に準ずる費用の分析
AK6: 人件費及び人件費に準ずる費用
AO7: 当該団体決算額 （千円） | AQ7: 人口1人当たり決算額
AP8: 当該団体（円） | AQ8: 類似団体平均（円） | AR8: 対比（％）
AK9: 人件費 | AO9: 565754 | AP9: 99710 | AQ9: 107310 | AR9: -7.1
AK10: 賃金（物件費） | AO10: 160480 | AP10: 28283 | AQ10: 12629 | AR10: 124
AK11: 一部事務組合負担金（補助費等） | AO11: 78079 | AP11: 13761 | AQ11: 13528 | AR11: 1.7
AK12: 公営企業（法適）等に対する繰出し（補助費等） | AO12: - | AP12: - | AQ12: 1569 | AR12: -
AK13: 公営企業（法適）等に対する繰出し（投資及び出資金・貸付金） | AO13: - | AP13: - | AQ13: - | AR13: -
AK14: 公営企業（法非適）等に対する繰出し（繰出金） | AO14: 36898 | AP14: 6503 | AQ14: 5788 | AR14: 12.4
AK15: 事業費支弁に係る職員の人件費（投資的経費） | AO15: 13162 | AP15: 2320 | AQ15: 2674 | AR15: -13.2
AK16: ▲退職金 | AO16: -47422 | AP16: -8358 | AQ16: -10217 | AR16: -18.2
AK17: 合計 | AO17: 806951 | AP17: 142219 | AQ17: 133280 | AR17: 6.7
AK19: 参考
AO20: 当該団体 | AP20: 類似団体平均 | AQ20: 対比（差引）
AK21: 人口1,000人当たり職員数（人） | AO21: 11.46 | AP21: 12.41 | AQ21: -0.95
AK22: ラスパイレス指数 | AO22: 97.8 | AP22: 96.1 | AQ22: 1.7
A26: （注）人口については、各調査年度の1月1日現在の住民基本台帳に登載されている人口に基づいている。
A27: （注）参考については、地方公務員給与実態調査に基づくものであるが、当該資料作成時点（平成31年1月末時点）において平成30年調査結果が未公表であるため、前年度の数値を引用している。
A28: 公債費及び公債費に準ずる費用の分析
AK29: 公債費及び公債費に準ずる費用（実質公債費比率の構成要素）
AO30: 当該団体決算額 （千円） | AQ30: 人口1人当たり決算額
AP31: 当該団体（円） | AQ31: 類似団体平均（円） | AR31: 対比（％）
AK32: 元利償還金の額 （繰上償還額等を除く） | AO32: 326931 | AP32: 57619 | AQ32: 65207 | AR32: -11.6
AK33: 積立不足額を考慮して算定した額 | AO33: - | AP33: - | AQ33: - | AR33: -
AK34: 満期一括償還地方債の一年当たりの元金償還金に相当するもの （年度割相当額） | AO34: - | AP34: - | AQ34: - | AR34: -
AK35: 公営企業に要する経費の財源とする地方債の償還の財源に 充てたと認められる繰入金 | AO35: 167715 | AP35: 29559 | AQ35: 23731 | AR35: 24.6
AK36: 一部事務組合等の起こした地方債に充てたと認められる 補助金又は負担金 | AO36: 11688 | AP36: 2060 | AQ36: 4111 | AR36: -49.9
AK37: 公債費に準ずる債務負担行為に係るもの | AO37: - | AP37: - | AQ37: 745 | AR37: -
AK38: 一時借入金利子 （同一団体における会計間の現金運用に係る利子は除く） | AO38: - | AP38: - | AQ38: 5 | AR38: -
AK39: ▲特定財源の額 | AO39: -2607 | AP39: -459 | AQ39: -2298 | AR39: -80
AK40: ▲地方債に係る元利償還金及び準元利償還金に要する経費として 普通交付税の額の算定に用いる基準財政需要額に算入された額 | AO40: -304013 | AP40: -53580 | AQ40: -66358 | AR40: -19.3
AK41: 合計 | AO41: 199714 | AP41: 35198 | AQ41: 25144 | AR41: 40
AK42: ※平成30年度中に市町村合併した団体で、合併前の団体ごとの決算に基づく実質公債費比率を算出していない団体については、グラフを表記しない。
A47: （参考） 普通建設事業費の分析
AK48: 普通建設事業費
AM49: 当該団体決算額 （千円） | AN49: 人口１人当たり決算額
AN50: 当該団体(円) | AO50: 増減率(%)(A) | AP50: 類似団体平均(円) | AQ50: 増減率(%)(B) | AR50: (A)-(B)
AK51: H25 | AM51: 795301 | AN51: 127821 | AO51: -14.2 | AP51: 118223 | AQ51: 0.5 | AR51: -14.7
AL52: うち単独分 | AM52: 212394 | AN52: 34136 | AO52: 13.1 | AP52: 57106 | AQ52: -8.4 | AR52: 21.5
...

Sheet 性質別歳出決算分析表（住民一人当たりのコスト）

Sheet 目的別歳出決算分析表（住民一人当たりのコスト）

Sheet 実質収支比率等に係る経年分析
J45: 標準財政規模比（％）
B46: 区分 | E46: 年度 | F46: H25 | G46: H26 | H46: H27 | I46: H28 | J46: H29
C47: 財政調整基金残高 | F47: 31.68 | G47: 32.5 | H47: 30.45 | I47: 30.04 | J47: 20.2
C48: 実質収支額 | F48: 7.4 | G48: 10.78 | H48: 10.86 | I48: 11.62 | J48: 12.51
C49: 実質単年度収支 | F49: 3.4 | G49: 3.12 | H49: ▲ 0.82 | I49: ▲ 0.14 | J49: ▲ 10.41

Sheet 連結実質赤字比率に係る赤字・黒字の構成分析
J32: 標準財政規模比（％）
B33: 会計 | E33: 年度 | F33: H25 | G33: H26 | H33: H27 | I33: H28 | J33: H29
C34: 一般会計 | F34: 7.39 | G34: 10.77 | H34: 10.86 | I34: 11.61 | J34: 12.51
C35: 水道事業会計 | F35: 14 | G35: 6.37 | H35: 5.12 | I35: 4.34 | J35: 3.91
C36: 国民健康保険特別会計 | F36: 0.63 | G36: 0.56 | H36: 0.62 | I36: 0.62 | J36: 0.55
C37: 介護保険特別会計 | F37: 0.34 | G37: 0.05 | H37: 0.47 | I37: 0.43 | J37: 0.4
C38: 公共下水道事業特別会計 | F38: 0.41 | G38: 0.22 | H38: 0.06 | I38: 0.09 | J38: 0.38
C39: 農業集落排水事業特別会計 | F39: 0.07 | G39: 0.05 | H39: 0.08 | I39: 0.1 | J39: 0.06
C40: 後期高齢者医療特別会計 | F40: 0.07 | G40: 0.03 | H40: 0.02 | I40: 0.02 | J40: 0.03
C41: 介護サービス事業 | F41: 0 | G41: 0 | H41: 0 | I41: 0 | J41: 0
C42: その他会計（赤字） | F42: - | G42: - | H42: - | I42: - | J42: -
C43: その他会計（黒字） | F43: - | G43: - | H43: - | I43: - | J43: -
B44: ※平成30年度中に市町村合併した団体で、合併前の団体ごとの決算に基づく連結実質赤字比率を算出していない団体については、グラフを表記しない。

Sheet 実質公債費比率（分子）の構造
O43: （百万円）
B44: 分子の構造 | J44: 年度 | K44: H25 | L44: H26 | M44: H27 | N44: H28 | O44: H29
B45: 元利償還金等(A) | E45: 元利償還金 | K45: 340 | L45: 340 | M45: 342 | N45: 351 | O45: 327
E46: 減債基金積立不足算定額 | K46: - | L46: - | M46: - | N46: - | O46: -
E47: 満期一括償還地方債に係る年度割相当額 | K47: - | L47: - | M47: - | N47: - | O47: -
E48: 公営企業債の元利償還金に対する繰入金 | K48: 155 | L48: 139 | M48: 138 | N48: 154 | O48: 168
E49: 組合等が起こした地方債の元利償還金に対する負担金等 | K49: 7 | L49: 8 | M49: 11 | N49: 10 | O49: 12
E50: 債務負担行為に基づく支出額 | K50: 3 | L50: 3 | M50: 3 | N50: 3 | O50: -
E51: 一時借入金の利子 | K51: - | L51: - | M51: 0 | N51: 0 | O51: -
B52: 算入公債費等(B) | E52: 算入公債費等 | K52: 309 | L52: 323 | M52: 328 | N52: 332 | O52: 307
B53: (A)－(B) | E53: 実質公債費比率の分子 | K53: 196 | L53: 167 | M53: 166 | N53: 186 | O53: 200
B54: ※平成30年度中に市町村合併した団体で、合併前の団体ごとの決算に基づく実質公債費比率を算出していない団体については、グラフを表記しない。

Sheet 将来負担比率（分子）の構造
M39: （百万円）
B40: 分子の構造 | H40: 年度 | I40: H25 | J40: H26 | K40: H27 | L40: H28 | M40: H29
B41: 将来負担額(A) | E41: 一般会計等に係る地方債の現在高 | I41: 3516 | J41: 3497 | K41: 4088 | L41: 4423 | M41: 4431
E42: 債務負担行為に基づく支出予定額 | I42: 10 | J42: 6 | K42: 3 | L42: 1 | M42: 10
E43: 公営企業債等繰入見込額 | I43: 2137 | J43: 2003 | K43: 1839 | L43: 1719 | M43: 1703
E44: 組合等負担等見込額 | I44: 26 | J44: 24 | K44: 20 | L44: 13 | M44: 8
E45: 退職手当負担見込額 | I45: 346 | J45: 295 | K45: 238 | L45: 291 | M45: 275
E46: 設立法人等の負債額等負担見込額 | I46: - | J46: - | K46: - | L46: - | M46: -
E47: うち、健全化法施行規則附則第三条に係る負担見込額 | I47: - | J47: - | K47: - | L47: - | M47: -
E48: 連結実質赤字額 | I48: - | J48: - | K48: - | L48: - | M48: -
E49: 組合等連結実質赤字額負担見込額 | I49: - | J49: - | K49: - | L49: - | M49: -
B50: 充当可能財源等(B) | E50: 充当可能基金 | I50: 1515 | J50: 1387 | K50: 1455 | L50: 1467 | M50: 1261
E51: 充当可能特定歳入 | I51: 110 | J51: 87 | K51: 74 | L51: 66 | M51: 59
E52: 基準財政需要額算入見込額 | I52: 3542 | J52: 3497 | K52: 3859 | L52: 4071 | M52: 4014
B53: (A)－(B) | E53: 将来負担比率の分子 | I53: 869 | J53: 854 | K53: 800 | L53: 843 | M53: 1092
B54: ※平成30年度中に市町村合併した団体で、合併前の団体ごとの決算に基づく将来負担比率を算出していない団体については、グラフを表記しない。

Sheet 基金残高に係る経年分析
H53: （百万円）
B54: 区分 | E54: 年度 | F54: H27 | G54: H28 | H54: H29
C55: 財政調整基金 | F55: 771 | G55: 752 | H55: 489
C56: 減債基金 | F56: 45 | G56: 45 | H56: 45
C57: その他特定目的基金 | F57: 427 | G57: 465 | H57: 597
C58: 中央公民館等建設金 | F58: 107 | G58: 205 | H58: 408
C59: かねやま応援基金 | F59: 6 | G59: 130 | H59: 146
C60: 資産活性基金 | F60: 67 | G60: 59 | H60: 30
C61: すこやか基金 | F61: 28 | G61: 28 | H61: 15
C62: かねやま清い心の町創造基金 | F62: 8 | G62: 8 | H62: 8
C63: 基金残高合計 | F63: 1243 | G63: 1263 | H63: 1131

Sheet 公会計指標分析・財政指標組合せ分析表
EM10: a
EM12: a
B41: 将来負担比率及び有形固定資産減価償却率の組合せによる分析
AN42: 分析欄
AN43: 平成26年度から貸工場等の大型事業を実施に係る財源確保の起債発行や、施設運営費や物件費等の増嵩による基金取崩しによることが要因となり、将来負担比率が年々上昇しており、今後元利償還金の大幅な増加や、財政運営基金等の基金残高の減少により将来負担比率は高くなる見込みである。中央公民館建設を含め当面の施設更新については先送りすることとしていることから有形固定資産減価償却率は増加していくものと見込まれる。
AN49: ( 参考 ）
BP50: H25 | BX50: H26 | CF50: H27 | CN50: H28 | CV50: H29
AN51: 当該団体値 | BB51: 将来負担比率 | CF51: 36.1 | CN51: 38.7 | CV51: 51.6
BB53: 有形固定資産減価償却率 | CF53: 56.8 | CN53: 61 | CV53: 62.4
AN55: 類似団体内平均値 | BB55: 将来負担比率 | CF55: 0.8 | CN55: 0 | CV55: 0
BB57: 有形固定資産減価償却率 | CF57: 56.2 | CN57: 58.6 | CV57: 60.3
B63: 将来負担比率及び実質公債費比率の組合せによる分析
AN64: 分析欄
AN65: 公債費適正化計画を策定し、これまで起債発行を抑制していきたことにより、実質公債費比率は大きく減少したが、過疎債等の公債費が大幅に高止まりすることから実質公債費比率は増加する見込みである。将来負担比率は、基金残高が減少することから今後高くなる見込みである。類似団体内平均値と比較し実質公債費比率及び将来負担比率ともに高い状況である。
AN71: ( 参考 ）
BP72: H25 | BX72: H26 | CF72: H27 | CN72: H28 | CV72: H29
AN73: 当該団体値 | BB73: 将来負担比率 | BP73: 38.9 | BX73: 39.8 | CF73: 36.1 | CN73: 38.7 | CV73: 51.6
BB75: 実質公債費比率 | BP75: 10.4 | BX75: 8.6 | CF75: 8 | CN75: 7.9 | CV75: 8.5
AN77: 類似団体内平均値 | BB77: 将来負担比率 | BP77: 12.9 | BX77: 22.6 | CF77: 0.8 | CN77: 0 | CV77: 0
BB79: 実質公債費比率 | BP79: 10 | BX79: 9.5 | CF79: 8.1 | CN79: 7.3 | CV79: 7.2

Sheet 施設類型別ストック情報分析表①

Sheet 施設類型別ストック情報分析表②
