Workbook

Sheet 総括表
B1: 平成29年度 財政状況資料集
B2: 総括表（市町村）
B3: 都道府県名 | L3: 山形県 | W3: 市町村類型 | AC3: Ⅱ－０ | AM3: 指定団体等の指定状況 | AY3: 区分 | BN3: 平成29年度(千円) | BV3: 平成28年度(千円) | CD3: 区分 | CT3: 平成29年度(千円･％) | DB3: 平成28年度(千円･％)
AY4: 歳入総額 | BN4: 5622607 | BV4: 5485959 | CD4: 実質収支比率 | CT4: 10.2 | DB4: 12.6
AM5: 財政健全化等 | AU5: × | AY5: 歳出総額 | BN5: 5212473 | BV5: 5085328 | CD5: 経常収支比率 | CT5: 93.7 | DB5: 89.4
B6: 市町村名 | L6: 朝日町 | W6: 地方交付税種地 | AC6: 2-2 | AM6: 財源超過 | AU6: × | AY6: 歳入歳出差引 | BN6: 410134 | BV6: 400631 | CD6: (※1) | CT6: 97.7 | DB6: 89.4
AM7: 首都 | AU7: × | AY7: 翌年度に繰越すべき財源 | BN7: 88961 | BV7: 323 | CD7: 標準財政規模 | CT7: 3133529 | DB7: 3175590
AM8: 近畿 | AU8: × | AY8: 実質収支 | BN8: 321173 | BV8: 400308 | CD8: 財政力指数 | CT8: 0.2 | DB8: 0.2
B9: 人口 | L9: 27年国調(人) | R9: 7119 | W9: 産業構造 (※5) | AM9: 中部 | AU9: × | AY9: 単年度収支 | BN9: -79135 | BV9: 5293 | CD9: 公債費負担比率 | CT9: 15.2 | DB9: 14.9
L10: 22年国調(人) | R10: 7856 | AM10: 過疎 | AU10: ○ | AY10: 積立金 | BN10: 586 | BV10: 772 | CD10: 健全化判断比率
L11: 増減率 (％) | R11: -9.4 | AM11: 山振 | AU11: ○ | AY11: 繰上償還金 | BN11: 0 | BV11: 0 | CD11: 実質赤字比率 | CT11: - | DB11: -
B12: 住民基本台帳人口 (※7) | L12: 30.01.01(人) | R12: 7083 | W12: 区分 | AC12: 27年国調 | AH12: 22年国調 | AM12: 低開発 | AU12: × | AY12: 積立金取崩し額 | BN12: 344375 | BV12: 156568 | CD12: 連結実質赤字比率 | CT12: - | DB12: -
M13: うち日本人(人) | R13: 7028 | W13: 第1次 | AC13: 959 | AH13: 1118 | AM13: 指数表選定 | AU13: × | AY13: 実質単年度収支 | BN13: -422924 | BV13: -150503 | CD13: 実質公債費比率 | CT13: 3.5 | DB13: 1.5
L14: 29.01.01(人) | R14: 7248 | AC14: 25.7 | AH14: 27.6 | CD14: 将来負担比率 | CT14: - | DB14: -
M15: うち日本人(人) | R15: 7187 | W15: 第2次 | AC15: 1101 | AH15: 1210 | AY15: 基準財政収入額 | BN15: 582585 | BV15: 585039 | CD15: 資金不足比率 (※4)
L16: 増減率 (％) | R16: -2.3 | AC16: 29.5 | AH16: 29.9 | AY16: 基準財政需要額 | BN16: 2867696 | BV16: 2911148
M17: うち日本人(％) | R17: -2.2 | W17: 第3次 | AC17: 1678 | AH17: 1724 | AY17: 標準税収入額等 | BN17: 723521 | BV17: 724310
B18: 面積 (k㎡) | L18: 196.81 | AC18: 44.9 | AH18: 42.5 | AY18: 経常経費充当一般財源等 | BN18: 2984573 | BV18: 2762159
B19: 人口密度 (人/k㎡) | L19: 36 | AY19: 歳入一般財源等 | BN19: 4181491 | BV19: 3922592
B20: 世帯数 (世帯) | L20: 2242
B21: 職員の状況 (※8)
B22: 特別職等 | E22: 区分 | L22: 定数 | Q22: 1人あたり平均 給料月額(百円) | W22: 一般職員等(※6) | Z22: 区分 | AH22: 職員数 (人) | AM22: 給料月額 (百円) | AS22: 1人あたり平均 給料月額(百円)
AY23: 地方債現在高 | BN23: 6609300 | BV23: 6634224
E24: 市区町村長 | L24: 1 | Q24: 8200 | Z24: 一般職員 | AH24: 89 | AM24: 262995 | AS24: 2955 | AY24: うち公的資金 | BN24: 6049117 | BV24: 5988464
E25: 副市区町村長 | L25: 1 | Q25: 6350 | Z25: うち消防職員 | AH25: - | AM25: - | AS25: - | AY25: 債務負担行為額（支出予定額） | BN25: 231683 | BV25: 858
E26: 教育長 | L26: 1 | Q26: 5750 | Z26: うち技能労務職員 | AH26: 13 | AM26: 45487 | AS26: 3499 | AY26: 収益事業収入 | BN26: - | BV26: -
E27: 議会議長 | L27: 1 | Q27: 3100 | Z27: 教育公務員 | AH27: 1 | AM27: * | AS27: * | AY27: 土地開発基金現在高 | BN27: 82000 | BV27: 82000
E28: 議会副議長 | L28: 1 | Q28: 2500 | Z28: 臨時職員 | AH28: - | AM28: - | AS28: - | AY28: 積立金 現在高 | BC28: 財政調整基金 | BN28: 1109947 | BV28: 1203736
E29: 議会議員 | L29: 10 | Q29: 2350 | Z29: 合計 | AH29: 90 | AM29: 267058 | AS29: 2967 | BC29: 減債基金 | BN29: 163023 | BV29: 163478
W30: ラスパイレス指数 | AH30: 100.8 | BC30: その他特定目的基金 | BN30: 1845983 | BV30: 1671696
C32: 一般会計等の一覧 | U32: 事業会計の一覧 | AM32: 公営企業（法適）の一覧 | BE32: 公営企業（法非適）の一覧 | BW32: 関係する一部事務組合等一覧 | CO32: 地方公社・第三セクター等一覧
C33: 項番 | E33: 会計名 | U33: 項番 | W33: 会計名 | AM33: 項番 | AO33: 会計名 | BE33: 項番 | BG33: 会計名 | BW33: 項番 | BY33: 組合等名 | CO33: 項番 | CQ33: 団体名 | DG33: (※3)
C34: =IF(E34="","",1) -> 1 | E34: =IF('各会計、関係団体の財政状況及び健全化判断比率'!B7="","",'各会計、関係団体の財政状況及び健全化判断比率'!B7) -> 一般会計 | U34: =IF(W34="","",MAX(C34:D43)+1) -> 2 | W34: =IF('各会計、関係団体の財政状況及び健全化判断比率'!B28="","",'各会計、関係団体の財政状況及び健全化判断比率'!B28) -> 国民健康保険特別会計 | AM34: =IF(AO34="","",MAX(C34:D43,U34:V43)+1) -> 5 | AO34: =IF('各会計、関係団体の財政状況及び健全化判断比率'!B31="","",'各会計、関係団体の財政状況及び健全化判断比率'!B31) -> 水道事業会計 | BE34: =IF(BG34="","",MAX(C34:D43,U34:V43,AM34:AN43)+1) -> 7 | BG34: =IF('各会計、関係団体の財政状況及び健全化判断比率'!B33="","",'各会計、関係団体の財政状況及び健全化判断比率'!B33) -> 集落排水事業特別会計 | BW34: =IF(BY34="","",MAX(C34:D43,U34:V43,AM34:AN43,BE34:BF43)+1) -> 8 | BY34: =IF('各会計、関係団体の財政状況及び健全化判断比率'!B68="","",'各会計、関係団体の財政状況及び健全化判断比率'!B68) -> 西村山広域行政事務組合（普通会計分） | CO34: =IF(CQ34="","",MAX(C34:D43,U34:V43,AM34:AN43,BE34:BF43,BW34:BX43)+1) -> 15 | CQ34: =IF('各会計、関係団体の財政状況及び健全化判断比率'!BS7="","",'各会計、関係団体の財政状況及び健全化判断比率'!BS7) -> 朝日町ワイン | DG34: =IF('各会計、関係団体の財政状況及び健全化判断比率'!BR7="","",'各会計、関係団体の財政状況及び健全化判断比率'!BR7)
C35: =IF(E35="","",C34+1) | E35: =IF('各会計、関係団体の財政状況及び健全化判断比率'!B8="","",'各会計、関係団体の財政状況及び健全化判断比率'!B8) | U35: =IF(W35="","",U34+1) -> 3 | W35: =IF('各会計、関係団体の財政状況及び健全化判断比率'!B29="","",'各会計、関係団体の財政状況及び健全化判断比率'!B29) -> 介護保険特別会計 | AM35: =IF(AO35="","",AM34+1) -> 6 | AO35: =IF('各会計、関係団体の財政状況及び健全化判断比率'!B32="","",'各会計、関係団体の財政状況及び健全化判断比率'!B32) -> 病院事業会計 | BE35: =IF(BG35="","",BE34+1) | BW35: =IF(BY35="","",BW34+1) -> 9 | BY35: =IF('各会計、関係団体の財政状況及び健全化判断比率'!B69="","",'各会計、関係団体の財政状況及び健全化判断比率'!B69) -> 西村山広域行政事務組合（事業会計分） | CO35: =IF(CQ35="","",CO34+1) -> 16 | CQ35: =IF('各会計、関係団体の財政状況及び健全化判断比率'!BS8="","",'各会計、関係団体の財政状況及び健全化判断比率'!BS8) -> 朝日自然観 | DG35: =IF('各会計、関係団体の財政状況及び健全化判断比率'!BR8="","",'各会計、関係団体の財政状況及び健全化判断比率'!BR8)
C36: =IF(E36="","",C35+1) | E36: =IF('各会計、関係団体の財政状況及び健全化判断比率'!B9="","",'各会計、関係団体の財政状況及び健全化判断比率'!B9) | U36: =IF(W36="","",U35+1) -> 4 | W36: =IF('各会計、関係団体の財政状況及び健全化判断比率'!B30="","",'各会計、関係団体の財政状況及び健全化判断比率'!B30) -> 後期高齢者医療特別会計 | AM36: =IF(AO36="","",AM35+1) | BE36: =IF(BG36="","",BE35+1) | BW36: =IF(BY36="","",BW35+1) -> 10 | BY36: =IF('各会計、関係団体の財政状況及び健全化判断比率'!B70="","",'各会計、関係団体の財政状況及び健全化判断比率'!B70) -> 山形県消防補償等組合 | CO36: =IF(CQ36="","",CO35+1) -> 17 | CQ36: =IF('各会計、関係団体の財政状況及び健全化判断比率'!BS9="","",'各会計、関係団体の財政状況及び健全化判断比率'!BS9) -> りんごの森 | DG36: =IF('各会計、関係団体の財政状況及び健全化判断比率'!BR9="","",'各会計、関係団体の財政状況及び健全化判断比率'!BR9)
C37: =IF(E37="","",C36+1) | E37: =IF('各会計、関係団体の財政状況及び健全化判断比率'!B10="","",'各会計、関係団体の財政状況及び健全化判断比率'!B10) | U37: =IF(W37="","",U36+1) | AM37: =IF(AO37="","",AM36+1) | BE37: =IF(BG37="","",BE36+1) | BW37: =IF(BY37="","",BW36+1) -> 11 | BY37: =IF('各会計、関係団体の財政状況及び健全化判断比率'!B71="","",'各会計、関係団体の財政状況及び健全化判断比率'!B71) -> 山形県自治会館管理組合 | CO37: =IF(CQ37="","",CO36+1) | CQ37: =IF('各会計、関係団体の財政状況及び健全化判断比率'!BS10="","",'各会計、関係団体の財政状況及び健全化判断比率'!BS10) | DG37: =IF('各会計、関係団体の財政状況及び健全化判断比率'!BR10="","",'各会計、関係団体の財政状況及び健全化判断比率'!BR10)
C38: =IF(E38="","",C37+1) | E38: =IF('各会計、関係団体の財政状況及び健全化判断比率'!B11="","",'各会計、関係団体の財政状況及び健全化判断比率'!B11) | U38: =IF(W38="","",U37+1) | AM38: =IF(AO38="","",AM37+1) | BE38: =IF(BG38="","",BE37+1) | BW38: =IF(BY38="","",BW37+1) -> 12 | BY38: =IF('各会計、関係団体の財政状況及び健全化判断比率'!B72="","",'各会計、関係団体の財政状況及び健全化判断比率'!B72) -> 山形県市町村職員退職手当組合 | CO38: =IF(CQ38="","",CO37+1) | CQ38: =IF('各会計、関係団体の財政状況及び健全化判断比率'!BS11="","",'各会計、関係団体の財政状況及び健全化判断比率'!BS11) | DG38: =IF('各会計、関係団体の財政状況及び健全化判断比率'!BR11="","",'各会計、関係団体の財政状況及び健全化判断比率'!BR11)
C39: =IF(E39="","",C38+1) | E39: =IF('各会計、関係団体の財政状況及び健全化判断比率'!B12="","",'各会計、関係団体の財政状況及び健全化判断比率'!B12) | U39: =IF(W39="","",U38+1) | AM39: =IF(AO39="","",AM38+1) | BE39: =IF(BG39="","",BE38+1) | BW39: =IF(BY39="","",BW38+1) -> 13 | BY39: =IF('各会計、関係団体の財政状況及び健全化判断比率'!B73="","",'各会計、関係団体の財政状況及び健全化判断比率'!B73) -> 山形県後期高齢者医療広域連合（普通会計分） | CO39: =IF(CQ39="","",CO38+1) | CQ39: =IF('各会計、関係団体の財政状況及び健全化判断比率'!BS12="","",'各会計、関係団体の財政状況及び健全化判断比率'!BS12) | DG39: =IF('各会計、関係団体の財政状況及び健全化判断比率'!BR12="","",'各会計、関係団体の財政状況及び健全化判断比率'!BR12)
C40: =IF(E40="","",C39+1) | E40: =IF('各会計、関係団体の財政状況及び健全化判断比率'!B13="","",'各会計、関係団体の財政状況及び健全化判断比率'!B13) | U40: =IF(W40="","",U39+1) | AM40: =IF(AO40="","",AM39+1) | BE40: =IF(BG40="","",BE39+1) | BW40: =IF(BY40="","",BW39+1) -> 14 | BY40: =IF('各会計、関係団体の財政状況及び健全化判断比率'!B74="","",'各会計、関係団体の財政状況及び健全化判断比率'!B74) -> 山形県後期高齢者医療広域連合（事業会計分） | CO40: =IF(CQ40="","",CO39+1) | CQ40: =IF('各会計、関係団体の財政状況及び健全化判断比率'!BS13="","",'各会計、関係団体の財政状況及び健全化判断比率'!BS13) | DG40: =IF('各会計、関係団体の財政状況及び健全化判断比率'!BR13="","",'各会計、関係団体の財政状況及び健全化判断比率'!BR13)
C41: =IF(E41="","",C40+1) | E41: =IF('各会計、関係団体の財政状況及び健全化判断比率'!B14="","",'各会計、関係団体の財政状況及び健全化判断比率'!B14) | U41: =IF(W41="","",U40+1) | AM41: =IF(AO41="","",AM40+1) | BE41: =IF(BG41="","",BE40+1) | BW41: =IF(BY41="","",BW40+1) | BY41: =IF('各会計、関係団体の財政状況及び健全化判断比率'!B75="","",'各会計、関係団体の財政状況及び健全化判断比率'!B75) | CO41: =IF(CQ41="","",CO40+1) | CQ41: =IF('各会計、関係団体の財政状況及び健全化判断比率'!BS14="","",'各会計、関係団体の財政状況及び健全化判断比率'!BS14) | DG41: =IF('各会計、関係団体の財政状況及び健全化判断比率'!BR14="","",'各会計、関係団体の財政状況及び健全化判断比率'!BR14)
...

Sheet 普通会計の状況
DH1: 平成29年度 | DP1: 山形県朝日町
B2: (1) 普通会計の状況（市町村）
B3: 歳入の状況（単位 千円・％） | AP3: 地方税の状況（単位 千円・％） | CD3: 歳出の状況（単位 千円・％）
B4: 区分 | R4: 決算額 | Z4: 構成比 | AD4: 経常一般財源等 | AL4: 構成比 | AP4: 区分 | BG4: 収入済額 | BO4: 構成比 | BS4: 超過課税分 | CD4: 目的別歳出の状況（単位 千円・％）
B5: 地方税 | R5: 581672 | Z5: 10.3 | AD5: 581672 | AL5: 19 | AP5: 普通税 | BG5: 581610 | BO5: 100 | BS5: 29998 | CD5: 区分 | CR5: 決算額 (A) | CZ5: 構成比 | DD5: (A)のうち普通建設事業費 | DQ5: (A)のうち充当一般財源等
B6: 地方譲与税 | R6: 53206 | Z6: 0.9 | AD6: 53206 | AL6: 1.7 | AP6: 法定普通税 | BG6: 581610 | BO6: 100 | BS6: 29998 | CD6: 議会費 | CR6: 84755 | CZ6: 1.6 | DD6: - | DQ6: 84755
B7: 利子割交付金 | R7: 1133 | Z7: 0 | AD7: 1133 | AL7: 0 | AP7: 市町村民税 | BG7: 225461 | BO7: 38.8 | BS7: 1833 | CD7: 総務費 | CR7: 1049107 | CZ7: 20.1 | DD7: 20545 | DQ7: 961905
B8: 配当割交付金 | R8: 1482 | Z8: 0 | AD8: 1482 | AL8: 0 | AP8: 個人均等割 | BG8: 11210 | BO8: 1.9 | BS8: - | CD8: 民生費 | CR8: 1183376 | CZ8: 22.7 | DD8: 171695 | DQ8: 676276
B9: 株式等譲渡所得割交付金 | R9: 1508 | Z9: 0 | AD9: 1508 | AL9: 0 | AP9: 所得割 | BG9: 193326 | BO9: 33.2 | BS9: - | CD9: 衛生費 | CR9: 503845 | CZ9: 9.7 | DD9: 15391 | DQ9: 455750
B10: 分離課税所得割交付金 | R10: - | Z10: - | AD10: - | AL10: - | AP10: 法人均等割 | BG10: 11011 | BO10: 1.9 | BS10: - | CD10: 労働費 | CR10: 8907 | CZ10: 0.2 | DD10: - | DQ10: 1407
B11: 道府県民税所得割臨時交付金 | R11: - | Z11: - | AD11: - | AL11: - | AP11: 法人税割 | BG11: 9914 | BO11: 1.7 | BS11: 1833 | CD11: 農林水産業費 | CR11: 223398 | CZ11: 4.3 | DD11: 9851 | DQ11: 88918
B12: 地方消費税交付金 | R12: 115001 | Z12: 2 | AD12: 115001 | AL12: 3.8 | AP12: 固定資産税 | BG12: 296287 | BO12: 50.9 | BS12: 28165 | CD12: 商工費 | CR12: 214679 | CZ12: 4.1 | DD12: 45585 | DQ12: 108276
B13: ゴルフ場利用税交付金 | R13: - | Z13: - | AD13: - | AL13: - | AP13: うち純固定資産税 | BG13: 281805 | BO13: 48.4 | BS13: 28165 | CD13: 土木費 | CR13: 583939 | CZ13: 11.2 | DD13: 385567 | DQ13: 208979
B14: 特別地方消費税交付金 | R14: - | Z14: - | AD14: - | AL14: - | AP14: 軽自動車税 | BG14: 25955 | BO14: 4.5 | BS14: - | CD14: 消防費 | CR14: 215116 | CZ14: 4.1 | DD14: 38951 | DQ14: 161772
B15: 自動車取得税交付金 | R15: 15132 | Z15: 0.3 | AD15: 15132 | AL15: 0.5 | AP15: 市町村たばこ税 | BG15: 33907 | BO15: 5.8 | BS15: - | CD15: 教育費 | CR15: 457709 | CZ15: 8.8 | DD15: 46994 | DQ15: 374215
B16: 軽油引取税交付金 | R16: - | Z16: - | AD16: - | AL16: - | AP16: 鉱産税 | BG16: - | BO16: - | BS16: - | CD16: 災害復旧費 | CR16: 13584 | CZ16: 0.3 | DD16: - | DQ16: 13584
B17: 地方特例交付金 | R17: 1294 | Z17: 0 | AD17: 1294 | AL17: 0 | AP17: 特別土地保有税 | BG17: - | BO17: - | BS17: - | CD17: 公債費 | CR17: 674058 | CZ17: 12.9 | DD17: - | DQ17: 635520
B18: 地方交付税 | R18: 2573925 | Z18: 45.8 | AD18: 2281141 | AL18: 74.6 | AP18: 法定外普通税 | BG18: - | BO18: - | BS18: - | CD18: 諸支出金 | CR18: - | CZ18: - | DD18: - | DQ18: -
B19: 普通交付税 | R19: 2281141 | Z19: 40.6 | AD19: 2281141 | AL19: 74.6 | AP19: 目的税 | BG19: 62 | BO19: 0 | BS19: - | CD19: 前年度繰上充用金 | CR19: - | CZ19: - | DD19: - | DQ19: -
B20: 特別交付税 | R20: 292784 | Z20: 5.2 | AD20: - | AL20: - | AP20: 法定目的税 | BG20: 62 | BO20: 0 | BS20: - | CD20: 歳出合計 | CR20: 5212473 | CZ20: 100 | DD20: 734579 | DQ20: 3771357
B21: 震災復興特別交付税 | R21: - | Z21: - | AD21: - | AL21: - | AP21: 入湯税 | BG21: 62 | BO21: 0 | BS21: -
B22: (一般財源計) | R22: 3344353 | Z22: 59.5 | AD22: 3051569 | AL22: 99.9 | AP22: 事業所税 | BG22: - | BO22: - | BS22: - | CD22: 性質別歳出の状況（単位 千円・％）
B23: 交通安全対策特別交付金 | R23: 1136 | Z23: 0 | AD23: 1136 | AL23: 0 | AP23: 都市計画税 | BG23: - | BO23: - | BS23: - | CD23: 区分 | CR23: 決算額 | CZ23: 構成比 | DD23: 充当一般財源等 | DL23: 経常経費充当一般財源等 | DW23: 経常収支比率
B24: 分担金・負担金 | R24: 5600 | Z24: 0.1 | AD24: - | AL24: - | AP24: 水利地益税等 | BG24: - | BO24: - | BS24: - | CD24: 義務的経費計 | CR24: 1775534 | CZ24: 34.1 | DD24: 1493294 | DL24: 1482246 | DW24: 46.5
B25: 使用料 | R25: 71715 | Z25: 1.3 | AD25: 582 | AL25: 0 | AP25: 法定外目的税 | BG25: - | BO25: - | BS25: - | CD25: 人件費 | CR25: 798901 | CZ25: 15.3 | DD25: 769822 | DL25: 769718 | DW25: 24.2
B26: 手数料 | R26: 5408 | Z26: 0.1 | AD26: - | AL26: - | AP26: 旧法による税 | BG26: - | BO26: - | BS26: - | CD26: うち職員給 | CR26: 487924 | CZ26: 9.4 | DD26: 464475 | DL26: - | DW26: -
B27: 国庫支出金 | R27: 374744 | Z27: 6.7 | AD27: - | AL27: - | AP27: 合計 | BG27: 581672 | BO27: 100 | BS27: 29998 | CD27: 扶助費 | CR27: 302575 | CZ27: 5.8 | DD27: 87952 | DL27: 77008 | DW27: 2.4
B28: 国有提供交付金(特別区財調交付金) | R28: - | Z28: - | AD28: - | AL28: - | CD28: 公債費 | CR28: 674058 | CZ28: 12.9 | DD28: 635520 | DL28: 635520 | DW28: 20
B29: 都道府県支出金 | R29: 303128 | Z29: 5.4 | AD29: - | AL29: - | AP29: 区分 | BG29: 平成29年度 | BR29: 平成28年度 | CD29: 内訳 | CF29: 元利償還金 | CR29: 673989 | CZ29: 12.9 | DD29: 635451 | DL29: 635451 | DW29: 20
B30: 財産収入 | R30: 19072 | Z30: 0.3 | AD30: 2680 | AL30: 0.1 | AP30: 徴収率 (％) | AT30: 現年 | AX30: 合計 | BG30: 99 | BM30: 97 | BR30: 99.1 | BX30: 97.2 | CF30: うち元金 | CR30: 633724 | CZ30: 12.2 | DD30: 595186 | DL30: 595186 | DW30: 18.7
B31: 寄附金 | R31: 96989 | Z31: 1.7 | AD31: - | AL31: - | AU31: ・計 | AX31: 市町村民税 | BG31: 99.2 | BM31: 98.2 | BR31: 99.7 | BX31: 98.3 | CF31: うち利子 | CR31: 40265 | CZ31: 0.8 | DD31: 40265 | DL31: 40265 | DW31: 1.3
B32: 繰入金 | R32: 593765 | Z32: 10.6 | AD32: - | AL32: - | AX32: 純固定資産税 | BG32: 98.7 | BM32: 95.8 | BR32: 98.7 | BX32: 96 | CF32: 一時借入金利子 | CR32: 69 | CZ32: 0 | DD32: 69 | DL32: 69 | DW32: 0
B33: 繰越金 | R33: 150631 | Z33: 2.7 | AD33: - | AL33: - | CD33: その他の経費 | CR33: 2688776 | CZ33: 51.6 | DD33: 2179740 | DL33: 1502327 | DW33: 47.2
B34: 諸収入 | R34: 47266 | Z34: 0.8 | AD34: 32 | AL34: 0 | AQ34: 公営事業等への繰出 | BG34: 国民健康保険事業会計の状況 | CD34: 物件費 | CR34: 777843 | CZ34: 14.9 | DD34: 546276 | DL34: 502229 | DW34: 15.8
B35: 地方債 | R35: 608800 | Z35: 10.8 | AD35: - | AL35: - | AQ35: 合計 | AZ35: 699640 | BG35: 実質収支 | BV35: 94364 | CD35: 維持補修費 | CR35: 147368 | CZ35: 2.8 | DD35: 126776 | DL35: 118105 | DW35: 3.7
B36: うち減収補塡債(特例分) | R36: - | Z36: - | AD36: - | AL36: - | AQ36: 病院 | AZ36: 285123 | BG36: 再差引収支 | BV36: 88443 | CD36: 補助費等 | CR36: 881827 | CZ36: 16.9 | DD36: 703566 | DL36: 510207 | DW36: 16
B37: うち臨時財政対策債 | R37: 128800 | Z37: 2.3 | AD37: - | AL37: - | AQ37: 上水道 | AZ37: 2402 | BG37: 加入世帯数(世帯) | BV37: 1099 | CD37: うち一部事務組合負担金 | CR37: 242737 | CZ37: 4.7 | DD37: 221337 | DL37: 206913 | DW37: 6.5
B38: 歳入合計 | R38: 5622607 | Z38: 100 | AD38: 3055999 | AL38: 100 | AQ38: 下水道 | AZ38: 1183 | BG38: 被保険者数(人) | BV38: 1947 | CD38: 繰出金 | CR38: 412115 | CZ38: 7.9 | DD38: 353077 | DL38: 344013 | DW38: 10.8
AQ39: 工業用水道 | AZ39: - | BG39: 被保険者 1人当り | BM39: 保険税(料)収入額 | BV39: 103 | CD39: 積立金 | CR39: 423495 | CZ39: 8.1 | DD39: 414417 | DL39: - | DW39: -
AQ40: 国民健康保険 | AZ40: 95495 | BM40: 国庫支出金 | BV40: 102 | CD40: 投資・出資金・貸付金 | CR40: 46128 | CZ40: 0.9 | DD40: 35628 | DL40: 27773 | DW40: 0.9
...

Sheet 各会計、関係団体の財政状況及び健全化判断比率
A2: (2)各会計、関係団体の財政状況及び健全化判断比率（市町村） | DJ2: 平成29年度 | DQ2: 山形県朝日町
A4: 一般会計等の財政状況（単位：百万円） | BQ4: 地方公社・第三セクター等の経営状況及び地方公共団体の財政的支援の状況（単位：百万円）
A5: 会計名 | Q5: 歳入 | V5: 歳出 | AA5: 形式収支 | AF5: 実質収支 | AK5: 他会計等 からの 繰入金 | AP5: 地方債 現在高 | AU5: 備考 | BQ5: 地方公社・第三セクター等名 | CH5: 経常損益 | CM5: 純資産又は 正味財産 | CR5: 当該団体 からの 出資金 | CW5: 当該団体 からの 補助金 | DB5: 当該団体 からの 貸付金 | DG5: 当該団体からの債務保証に係る債務残高 | DL5: 当該団体からの損失補償に係る債務残高 | DQ5: 一般会計等 負担見込額 | DV5: 備考
A7: 1 | B7: 一般会計 | Q7: 5641 | V7: 5230 | AA7: 410 | AF7: 321 | AK7: 593 | AP7: 6609 | BQ7: 1 | BS7: 朝日町ワイン | CH7: 26 | CM7: 190 | CR7: 28 | CW7: 2 | DB7: - | DG7: - | DL7: - | DQ7: -
A8: 2 | BQ8: 2 | BS8: 朝日自然観 | CH8: -5 | CM8: 8 | CR8: 33 | CW8: 4 | DB8: - | DG8: - | DL8: - | DQ8: -
A9: 3 | BQ9: 3 | BS9: りんごの森 | CH9: 1 | CM9: 25 | CR9: 20 | CW9: - | DB9: - | DG9: - | DL9: - | DQ9: -
A10: 4 | BQ10: 4
A11: 5 | BQ11: 5
A12: 6 | BQ12: 6
A13: 7 | BQ13: 7
A14: 8 | BQ14: 8
A15: 9 | BQ15: 9
A16: 10 | BQ16: 10
A17: 11 | BQ17: 11
A18: 12 | BQ18: 12
A19: 13 | BQ19: 13
A20: 14 | BQ20: 14
A21: 15 | BQ21: 15
A22: 16 | AZ22: 実質赤字額 | BQ22: 16
A23: 計 | B23: 一般会計等（純計） | Q23: 5641 | V23: 5230 | AA23: 410 | AF23: 321 | AP23: 6609 | AZ23: - | BQ23: 17
A24: ※一般会計等（純計）は、各会計の相互間の繰入・繰出等の重複を控除したものであり、各会計の合計と一致しない場合がある。 | BQ24: 18
A25: 公営企業会計等の財政状況（単位：百万円） | BQ25: 19
A26: 会計名 | Q26: 総収益 （歳入） | V26: 総費用 （歳出） | AA26: 純損益 （形式収支） | AF26: 資金剰余額 /不足額 （実質収支） | AK26: 他会計等 からの 繰入金 | AP26: 企業債 （地方債） 現在高 | AU26: 左のうち 一般会計等 繰入見込額 | AZ26: 資金不足 比率 | BE26: 備考 | BQ26: 20
BQ27: 21
A28: 1 | B28: 国民健康保険特別会計 | Q28: 1139 | V28: 1045 | AA28: 94 | AF28: 94 | AK28: 166 | AP28: - | AU28: - | AZ28: - | BQ28: 22
A29: 2 | B29: 介護保険特別会計 | Q29: 1057 | V29: 1022 | AA29: 35 | AF29: 35 | AK29: 171 | AP29: - | AU29: - | AZ29: - | BQ29: 23
A30: 3 | B30: 後期高齢者医療特別会計 | Q30: 92 | V30: 92 | AA30: 0 | AF30: 0 | AK30: 35 | AP30: - | AU30: - | AZ30: - | BQ30: 24
A31: 4 | B31: 水道事業会計 | Q31: 159 | V31: 138 | AA31: 21 | AF31: 377 | AK31: 2 | AP31: 96 | AU31: 9 | AZ31: - | BE31: 法適用企業 | BQ31: 25
A32: 5 | B32: 病院事業会計 | Q32: 696 | V32: 728 | AA32: -32 | AF32: 293 | AK32: 285 | AP32: 409 | AU32: 298 | AZ32: - | BE32: 法適用企業 | BQ32: 26
A33: 6 | B33: 集落排水事業特別会計 | Q33: 21 | V33: 21 | AA33: - | AF33: - | AK33: 4 | AP33: 16 | AU33: 2 | AZ33: - | BE33: 法非適用企業 | BQ33: 27
A34: 7 | BQ34: 28
A35: 8 | BQ35: 29
A36: 9 | BQ36: 30
A37: 10 | BQ37: 31
A38: 11 | BQ38: 32
A39: 12 | BQ39: 33
A40: 13 | BQ40: 34
A41: 14 | BQ41: 35
A42: 15 | BQ42: 36
A43: 16 | BQ43: 37
...

Sheet 財政比較分析表 

Sheet 経常経費分析表（経常収支比率の分析）

Sheet 経常経費分析表（人件費・公債費・普通建設事業費の分析）
A5: 人件費及び人件費に準ずる費用の分析
AK6: 人件費及び人件費に準ずる費用
AO7: 当該団体決算額 （千円） | AQ7: 人口1人当たり決算額
AP8: 当該団体（円） | AQ8: 類似団体平均（円） | AR8: 対比（％）
AK9: 人件費 | AO9: 798901 | AP9: 112791 | AQ9: 135358 | AR9: -16.7
AK10: 賃金（物件費） | AO10: 75461 | AP10: 10654 | AQ10: 16285 | AR10: -34.6
AK11: 一部事務組合負担金（補助費等） | AO11: 150326 | AP11: 21223 | AQ11: 23139 | AR11: -8.3
AK12: 公営企業（法適）等に対する繰出し（補助費等） | AO12: 10236 | AP12: 1445 | AQ12: 3507 | AR12: -58.8
AK13: 公営企業（法適）等に対する繰出し（投資及び出資金・貸付金） | AO13: - | AP13: - | AQ13: 1 | AR13: -
AK14: 公営企業（法非適）等に対する繰出し（繰出金） | AO14: 68534 | AP14: 9676 | AQ14: 6299 | AR14: 53.6
AK15: 事業費支弁に係る職員の人件費（投資的経費） | AO15: 15208 | AP15: 2147 | AQ15: 3566 | AR15: -39.8
AK16: ▲退職金 | AO16: -67999 | AP16: -9600 | AQ16: -14081 | AR16: -31.8
AK17: 合計 | AO17: 1050667 | AP17: 148336 | AQ17: 174073 | AR17: -14.8
AK19: 参考
AO20: 当該団体 | AP20: 類似団体平均 | AQ20: 対比（差引）
AK21: 人口1,000人当たり職員数（人） | AO21: 12.71 | AP21: 15.56 | AQ21: -2.85
AK22: ラスパイレス指数 | AO22: 100.8 | AP22: 96 | AQ22: 4.8
A26: （注）人口については、各調査年度の1月1日現在の住民基本台帳に登載されている人口に基づいている。
A27: （注）参考については、地方公務員給与実態調査に基づくものであるが、当該資料作成時点（平成31年1月末時点）において平成30年調査結果が未公表であるため、前年度の数値を引用している。
A28: 公債費及び公債費に準ずる費用の分析
AK29: 公債費及び公債費に準ずる費用（実質公債費比率の構成要素）
AO30: 当該団体決算額 （千円） | AQ30: 人口1人当たり決算額
AP31: 当該団体（円） | AQ31: 類似団体平均（円） | AR31: 対比（％）
AK32: 元利償還金の額 （繰上償還額等を除く） | AO32: 673989 | AP32: 95156 | AQ32: 106722 | AR32: -10.8
AK33: 積立不足額を考慮して算定した額 | AO33: - | AP33: - | AQ33: 147 | AR33: -
AK34: 満期一括償還地方債の一年当たりの元金償還金に相当するもの （年度割相当額） | AO34: - | AP34: - | AQ34: 287 | AR34: -
AK35: 公営企業に要する経費の財源とする地方債の償還の財源に 充てたと認められる繰入金 | AO35: 39521 | AP35: 5580 | AQ35: 22428 | AR35: -75.1
AK36: 一部事務組合等の起こした地方債に充てたと認められる 補助金又は負担金 | AO36: 6169 | AP36: 871 | AQ36: 4327 | AR36: -79.9
AK37: 公債費に準ずる債務負担行為に係るもの | AO37: - | AP37: - | AQ37: 1437 | AR37: -
AK38: 一時借入金利子 （同一団体における会計間の現金運用に係る利子は除く） | AO38: 69 | AP38: 10 | AQ38: 25 | AR38: -60
AK39: ▲特定財源の額 | AO39: -38538 | AP39: -5441 | AQ39: -4811 | AR39: 13.1
AK40: ▲地方債に係る元利償還金及び準元利償還金に要する経費として 普通交付税の額の算定に用いる基準財政需要額に算入された額 | AO40: -554393 | AP40: -78271 | AQ40: -91754 | AR40: -14.7
AK41: 合計 | AO41: 126817 | AP41: 17904 | AQ41: 38807 | AR41: -53.9
AK42: ※平成30年度中に市町村合併した団体で、合併前の団体ごとの決算に基づく実質公債費比率を算出していない団体については、グラフを表記しない。
A47: （参考） 普通建設事業費の分析
AK48: 普通建設事業費
AM49: 当該団体決算額 （千円） | AN49: 人口１人当たり決算額
AN50: 当該団体(円) | AO50: 増減率(%)(A) | AP50: 類似団体平均(円) | AQ50: 増減率(%)(B) | AR50: (A)-(B)
AK51: H25 | AM51: 899966 | AN51: 117275 | AO51: -19.8 | AP51: 174587 | AQ51: 19.1 | AR51: -38.9
AL52: うち単独分 | AM52: 534410 | AN52: 69639 | AO52: -29.3 | AP52: 79695 | AQ52: 17 | AR52: -46.3
...

Sheet 性質別歳出決算分析表（住民一人当たりのコスト）

Sheet 目的別歳出決算分析表（住民一人当たりのコスト）

Sheet 実質収支比率等に係る経年分析
J45: 標準財政規模比（％）
B46: 区分 | E46: 年度 | F46: H25 | G46: H26 | H46: H27 | I46: H28 | J46: H29
C47: 財政調整基金残高 | F47: 34.87 | G47: 33.46 | H47: 34.33 | I47: 37.91 | J47: 35.42
C48: 実質収支額 | F48: 11.83 | G48: 12.01 | H48: 12.22 | I48: 12.61 | J48: 10.25
C49: 実質単年度収支 | F49: ▲ 5.77 | G49: ▲ 4.59 | H49: ▲ 5.63 | I49: ▲ 4.74 | J49: ▲ 13.50

Sheet 連結実質赤字比率に係る赤字・黒字の構成分析
J32: 標準財政規模比（％）
B33: 会計 | E33: 年度 | F33: H25 | G33: H26 | H33: H27 | I33: H28 | J33: H29
C34: 水道事業会計 | F34: 10.09 | G34: 11.7 | H34: 12.08 | I34: 11.45 | J34: 12.03
C35: 一般会計 | F35: 11.82 | G35: 12.01 | H35: 12.22 | I35: 12.6 | J35: 10.24
C36: 病院事業会計 | F36: 14.83 | G36: 14.19 | H36: 12.64 | I36: 10.6 | J36: 9.36
C37: 国民健康保険特別会計 | F37: 2.63 | G37: 2.38 | H37: 1.08 | I37: 1.89 | J37: 3.01
C38: 介護保険特別会計 | F38: 0.62 | G38: 0.45 | H38: 0.56 | I38: 1.84 | J38: 1.11
C39: 後期高齢者医療特別会計 | F39: 0 | G39: 0.01 | H39: 0.02 | I39: 0.01 | J39: 0.01
C40: 集落排水事業特別会計 | F40: 0 | G40: 0 | H40: 0 | I40: 0 | J40: 0
C42: その他会計（赤字） | F42: - | G42: - | H42: - | I42: - | J42: -
C43: その他会計（黒字） | F43: - | G43: - | H43: - | I43: - | J43: -
B44: ※平成30年度中に市町村合併した団体で、合併前の団体ごとの決算に基づく連結実質赤字比率を算出していない団体については、グラフを表記しない。

Sheet 実質公債費比率（分子）の構造
O43: （百万円）
B44: 分子の構造 | J44: 年度 | K44: H25 | L44: H26 | M44: H27 | N44: H28 | O44: H29
B45: 元利償還金等(A) | E45: 元利償還金 | K45: 451 | L45: 510 | M45: 592 | N45: 623 | O45: 674
E46: 減債基金積立不足算定額 | K46: - | L46: - | M46: - | N46: - | O46: -
E47: 満期一括償還地方債に係る年度割相当額 | K47: - | L47: - | M47: - | N47: - | O47: -
E48: 公営企業債の元利償還金に対する繰入金 | K48: 60 | L48: 52 | M48: 45 | N48: 36 | O48: 40
E49: 組合等が起こした地方債の元利償還金に対する負担金等 | K49: 22 | L49: 1 | M49: 5 | N49: 6 | O49: 6
E50: 債務負担行為に基づく支出額 | K50: - | L50: - | M50: - | N50: - | O50: -
E51: 一時借入金の利子 | K51: 0 | L51: 0 | M51: 0 | N51: 0 | O51: 0
B52: 算入公債費等(B) | E52: 算入公債費等 | K52: 489 | L52: 592 | M52: 575 | N52: 576 | O52: 593
B53: (A)－(B) | E53: 実質公債費比率の分子 | K53: 44 | L53: -29 | M53: 67 | N53: 89 | O53: 127
B54: ※平成30年度中に市町村合併した団体で、合併前の団体ごとの決算に基づく実質公債費比率を算出していない団体については、グラフを表記しない。

Sheet 将来負担比率（分子）の構造
M39: （百万円）
B40: 分子の構造 | H40: 年度 | I40: H25 | J40: H26 | K40: H27 | L40: H28 | M40: H29
B41: 将来負担額(A) | E41: 一般会計等に係る地方債の現在高 | I41: 5918 | J41: 6301 | K41: 6592 | L41: 6634 | M41: 6609
E42: 債務負担行為に基づく支出予定額 | I42: - | J42: - | K42: - | L42: - | M42: -
E43: 公営企業債等繰入見込額 | I43: 412 | J43: 374 | K43: 354 | L43: 315 | M43: 309
E44: 組合等負担等見込額 | I44: 45 | J44: 24 | K44: 58 | L44: 51 | M44: 45
E45: 退職手当負担見込額 | I45: 886 | J45: 814 | K45: 703 | L45: 576 | M45: 585
E46: 設立法人等の負債額等負担見込額 | I46: - | J46: - | K46: - | L46: - | M46: -
E47: うち、健全化法施行規則附則第三条に係る負担見込額 | I47: - | J47: - | K47: - | L47: - | M47: -
E48: 連結実質赤字額 | I48: - | J48: - | K48: - | L48: - | M48: -
E49: 組合等連結実質赤字額負担見込額 | I49: - | J49: - | K49: - | L49: - | M49: -
B50: 充当可能財源等(B) | E50: 充当可能基金 | I50: 2359 | J50: 2559 | K50: 2993 | L50: 3263 | M50: 3377
E51: 充当可能特定歳入 | I51: 143 | J51: 229 | K51: 213 | L51: 186 | M51: 151
E52: 基準財政需要額算入見込額 | I52: 5300 | J52: 5424 | K52: 5533 | L52: 5614 | M52: 5574
B53: (A)－(B) | E53: 将来負担比率の分子 | I53: -541 | J53: -699 | K53: -1032 | L53: -1485 | M53: -1554
B54: ※平成30年度中に市町村合併した団体で、合併前の団体ごとの決算に基づく将来負担比率を算出していない団体については、グラフを表記しない。

Sheet 基金残高に係る経年分析
H53: （百万円）
B54: 区分 | E54: 年度 | F54: H27 | G54: H28 | H54: H29
C55: 財政調整基金 | F55: 1110 | G55: 1204 | H55: 1110
C56: 減債基金 | F56: 159 | G56: 163 | H56: 163
C57: その他特定目的基金 | F57: 1462 | G57: 1672 | H57: 1846
C58: 町有施設整備管理基金 | F58: 1078 | G58: 1216 | H58: 1364
C59: 日本一りんごのふるさとづくり基金 | F59: 85 | G59: 125 | H59: 142
C60: 町営住宅建設維持管理基金 | F60: 96 | G60: 111 | H60: 126
C61: ふれあい福祉基金 | F61: 58 | G61: 58 | H61: 58
C62: 志藤六郎村おこし基金 | F62: 52 | G62: 50 | H62: 49
C63: 基金残高合計 | F63: 2730 | G63: 3039 | H63: 3119

Sheet 公会計指標分析・財政指標組合せ分析表 
EM10: a
EM12: a
B41: 将来負担比率及び有形固定資産減価償却率の組合せによる分析
AN42: 分析欄
AN43: 平成２９年度における将来負担比率はマイナスで、早期健全化基準を大幅に下回っている。これまで、財政の健全運営に努めてきた結果が反映されたものとなっている。少子高齢化・定住・経済対策等に要する経費の増加、更には、景気低迷による町税等の伸び悩みにより、今後とも厳しい財政運営となる見込であるが、持続可能な財政運営を行うため、引き続き、財政の健全性を保つよう努める。 また減価償却率が高いもの、低いものと様々だが、平均すると、全国、山形県平均よりも低い値となっている。
AN49: ( 参考 ）
BP50: H25 | BX50: H26 | CF50: H27 | CN50: H28 | CV50: H29
AN51: 当該団体値 | BB51: 将来負担比率
BB53: 有形固定資産減価償却率 | CF53: 49.7 | CN53: 51.7 | CV53: 55.2
AN55: 類似団体内平均値 | BB55: 将来負担比率 | CF55: 0 | CN55: 0 | CV55: 0
BB57: 有形固定資産減価償却率 | CF57: 55.3 | CN57: 56.3 | CV57: 58.5
B63: 将来負担比率及び実質公債費比率の組合せによる分析
AN64: 分析欄
AN65: 平成２９年度決算に基づく実質公債費比率は３．５％で、早期健全化基準を大幅に下回っている。これまで、財政の健全運営に努めてきた結果が反映されたものとなっている。少子高齢化・定住・経済対策等に要する経費の増加、更には、景気低迷による町税等の伸び悩みにより、今後とも厳しい財政運営となる見込であるが、持続可能な財政運営を行うため、引き続き、財政の健全性を保つよう努める。
AN71: ( 参考 ）
BP72: H25 | BX72: H26 | CF72: H27 | CN72: H28 | CV72: H29
AN73: 当該団体値 | BB73: 将来負担比率
BB75: 実質公債費比率 | BP75: 3.5 | BX75: 1.4 | CF75: 0.9 | CN75: 1.5 | CV75: 3.5
AN77: 類似団体内平均値 | BB77: 将来負担比率 | BP77: 0 | BX77: 0 | CF77: 0 | CN77: 0 | CV77: 0
BB79: 実質公債費比率 | BP79: 9.8 | BX79: 9.1 | CF79: 8.6 | CN79: 8.5 | CV79: 8.5

Sheet 施設類型別ストック情報分析表① 

Sheet 施設類型別ストック情報分析表② 

Sheet データシート
D2: 当該団体(円) | F2: 類似団体内平均(円)
A3: H25 | D3: 117275 | F3: 174587
D4: 69639 | F4: 79695
A5: H26 | D5: 151920 | F5: 175675
D6: 28371 | F6: 87698
A7: H27 | D7: 137657 | F7: 162193
D8: 61016 | F8: 79985
A9: H28 | D9: 100815 | F9: 168868
D10: 61897 | F10: 79360
A11: H29 | D11: 103710 | F11: 202870
D12: 51960 | F12: 79735
D13: 122275 | F13: 176839
D14: 54577 | F14: 81295
A17: 実質収支比率等に係る経年分析
B18: =実質収支比率等に係る経年分析!F$46 -> H25 | C18: =実質収支比率等に係る経年分析!G$46 -> H26 | D18: =実質収支比率等に係る経年分析!H$46 -> H27 | E18: =実質収支比率等に係る経年分析!I$46 -> H28 | F18: =実質収支比率等に係る経年分析!J$46 -> H29
A19: 実質収支額 | B19: =ROUND(VALUE(SUBSTITUTE(実質収支比率等に係る経年分析!F$48,"▲","-")),2) -> 11.83 | C19: =ROUND(VALUE(SUBSTITUTE(実質収支比率等に係る経年分析!G$48,"▲","-")),2) -> 12.01 | D19: =ROUND(VALUE(SUBSTITUTE(実質収支比率等に係る経年分析!H$48,"▲","-")),2) -> 12.22 | E19: =ROUND(VALUE(SUBSTITUTE(実質収支比率等に係る経年分析!I$48,"▲","-")),2) -> 12.61 | F19: =ROUND(VALUE(SUBSTITUTE(実質収支比率等に係る経年分析!J$48,"▲","-")),2) -> 10.25
A20: 財政調整基金残高 | B20: =ROUND(VALUE(SUBSTITUTE(実質収支比率等に係る経年分析!F$47,"▲","-")),2) -> 34.87 | C20: =ROUND(VALUE(SUBSTITUTE(実質収支比率等に係る経年分析!G$47,"▲","-")),2) -> 33.46 | D20: =ROUND(VALUE(SUBSTITUTE(実質収支比率等に係る経年分析!H$47,"▲","-")),2) -> 34.33 | E20: =ROUND(VALUE(SUBSTITUTE(実質収支比率等に係る経年分析!I$47,"▲","-")),2) -> 37.91 | F20: =ROUND(VALUE(SUBSTITUTE(実質収支比率等に係る経年分析!J$47,"▲","-")),2) -> 35.42
A21: 実質単年度収支 | B21: =IF(ISNUMBER(VALUE(SUBSTITUTE(実質収支比率等に係る経年分析!F$49,"▲","-"))),ROUND(VALUE(SUBSTITUTE(実質収支比率等に係る経年分析!F$49,"▲","-")),2),NA()) -> -5.77 | C21: =IF(ISNUMBER(VALUE(SUBSTITUTE(実質収支比率等に係る経年分析!G$49,"▲","-"))),ROUND(VALUE(SUBSTITUTE(実質収支比率等に係る経年分析!G$49,"▲","-")),2),NA()) -> -4.59 | D21: =IF(ISNUMBER(VALUE(SUBSTITUTE(実質収支比率等に係る経年分析!H$49,"▲","-"))),ROUND(VALUE(SUBSTITUTE(実質収支比率等に係る経年分析!H$49,"▲","-")),2),NA()) -> -5.63 | E21: =IF(ISNUMBER(VALUE(SUBSTITUTE(実質収支比率等に係る経年分析!I$49,"▲","-"))),ROUND(VALUE(SUBSTITUTE(実質収支比率等に係る経年分析!I$49,"▲","-")),2),NA()) -> -4.74 | F21: =IF(ISNUMBER(VALUE(SUBSTITUTE(実質収支比率等に係る経年分析!J$49,"▲","-"))),ROUND(VALUE(SUBSTITUTE(実質収支比率等に係る経年分析!J$49,"▲","-")),2),NA()) -> -13.5
A24: 連結実質赤字比率に係る赤字・黒字の構成分析
B25: =連結実質赤字比率に係る赤字・黒字の構成分析!F$33 -> H25 | D25: =連結実質赤字比率に係る赤字・黒字の構成分析!G$33 -> H26 | F25: =連結実質赤字比率に係る赤字・黒字の構成分析!H$33 -> H27 | H25: =連結実質赤字比率に係る赤字・黒字の構成分析!I$33 -> H28 | J25: =連結実質赤字比率に係る赤字・黒字の構成分析!J$33 -> H29
B26: 赤字額 | C26: 黒字額 | D26: 赤字額 | E26: 黒字額 | F26: 赤字額 | G26: 黒字額 | H26: 赤字額 | I26: 黒字額 | J26: 赤字額 | K26: 黒字額
A27: =IF(連結実質赤字比率に係る赤字・黒字の構成分析!C$43="",NA(),連結実質赤字比率に係る赤字・黒字の構成分析!C$43) -> その他会計（黒字） | B27: =IF(ROUND(VALUE(SUBSTITUTE(連結実質赤字比率に係る赤字・黒字の構成分析!F$43,"▲", "-")), 2) < 0, ABS(ROUND(VALUE(SUBSTITUTE(連結実質赤字比率に係る赤字・黒字の構成分析!F$43,"▲", "-")), 2)), NA()) -> #VALUE! | C27: =IF(ROUND(VALUE(SUBSTITUTE(連結実質赤字比率に係る赤字・黒字の構成分析!F$43,"▲", "-")), 2) >= 0, ABS(ROUND(VALUE(SUBSTITUTE(連結実質赤字比率に係る赤字・黒字の構成分析!F$43,"▲", "-")), 2)), NA()) -> #VALUE! | D27: =IF(ROUND(VALUE(SUBSTITUTE(連結実質赤字比率に係る赤字・黒字の構成分析!G$43,"▲", "-")), 2) < 0, ABS(ROUND(VALUE(SUBSTITUTE(連結実質赤字比率に係る赤字・黒字の構成分析!G$43,"▲", "-")), 2)), NA()) -> #VALUE! | E27: =IF(ROUND(VALUE(SUBSTITUTE(連結実質赤字比率に係る赤字・黒字の構成分析!G$43,"▲", "-")), 2) >= 0, ABS(ROUND(VALUE(SUBSTITUTE(連結実質赤字比率に係る赤字・黒字の構成分析!G$43,"▲", "-")), 2)), NA()) -> #VALUE! | F27: =IF(ROUND(VALUE(SUBSTITUTE(連結実質赤字比率に係る赤字・黒字の構成分析!H$43,"▲", "-")), 2) < 0, ABS(ROUND(VALUE(SUBSTITUTE(連結実質赤字比率に係る赤字・黒字の構成分析!H$43,"▲", "-")), 2)), NA()) -> #VALUE! | G27: =IF(ROUND(VALUE(SUBSTITUTE(連結実質赤字比率に係る赤字・黒字の構成分析!H$43,"▲", "-")), 2) >= 0, ABS(ROUND(VALUE(SUBSTITUTE(連結実質赤字比率に係る赤字・黒字の構成分析!H$43,"▲", "-")), 2)), NA()) -> #VALUE! | H27: =IF(ROUND(VALUE(SUBSTITUTE(連結実質赤字比率に係る赤字・黒字の構成分析!I$43,"▲", "-")), 2) < 0, ABS(ROUND(VALUE(SUBSTITUTE(連結実質赤字比率に係る赤字・黒字の構成分析!I$43,"▲", "-")), 2)), NA()) -> #VALUE! | I27: =IF(ROUND(VALUE(SUBSTITUTE(連結実質赤字比率に係る赤字・黒字の構成分析!I$43,"▲", "-")), 2) >= 0, ABS(ROUND(VALUE(SUBSTITUTE(連結実質赤字比率に係る赤字・黒字の構成分析!I$43,"▲", "-")), 2)), NA()) -> #VALUE! | J27: =IF(ROUND(VALUE(SUBSTITUTE(連結実質赤字比率に係る赤字・黒字の構成分析!J$43,"▲", "-")), 2) < 0, ABS(ROUND(VALUE(SUBSTITUTE(連結実質赤字比率に係る赤字・黒字の構成分析!J$43,"▲", "-")), 2)), NA()) -> #VALUE! | K27: =IF(ROUND(VALUE(SUBSTITUTE(連結実質赤字比率に係る赤字・黒字の構成分析!J$43,"▲", "-")), 2) >= 0, ABS(ROUND(VALUE(SUBSTITUTE(連結実質赤字比率に係る赤字・黒字の構成分析!J$43,"▲", "-")), 2)), NA()) -> #VALUE!
A28: =IF(連結実質赤字比率に係る赤字・黒字の構成分析!C$42="",NA(),連結実質赤字比率に係る赤字・黒字の構成分析!C$42) -> その他会計（赤字） | B28: =IF(ROUND(VALUE(SUBSTITUTE(連結実質赤字比率に係る赤字・黒字の構成分析!F$42,"▲", "-")), 2) < 0, ABS(ROUND(VALUE(SUBSTITUTE(連結実質赤字比率に係る赤字・黒字の構成分析!F$42,"▲", "-")), 2)), NA()) -> #VALUE! | C28: =IF(ROUND(VALUE(SUBSTITUTE(連結実質赤字比率に係る赤字・黒字の構成分析!F$42,"▲", "-")), 2) >= 0, ABS(ROUND(VALUE(SUBSTITUTE(連結実質赤字比率に係る赤字・黒字の構成分析!F$42,"▲", "-")), 2)), NA()) -> #VALUE! | D28: =IF(ROUND(VALUE(SUBSTITUTE(連結実質赤字比率に係る赤字・黒字の構成分析!G$42,"▲", "-")), 2) < 0, ABS(ROUND(VALUE(SUBSTITUTE(連結実質赤字比率に係る赤字・黒字の構成分析!G$42,"▲", "-")), 2)), NA()) -> #VALUE! | E28: =IF(ROUND(VALUE(SUBSTITUTE(連結実質赤字比率に係る赤字・黒字の構成分析!G$42,"▲", "-")), 2) >= 0, ABS(ROUND(VALUE(SUBSTITUTE(連結実質赤字比率に係る赤字・黒字の構成分析!G$42,"▲", "-")), 2)), NA()) -> #VALUE! | F28: =IF(ROUND(VALUE(SUBSTITUTE(連結実質赤字比率に係る赤字・黒字の構成分析!H$42,"▲", "-")), 2) < 0, ABS(ROUND(VALUE(SUBSTITUTE(連結実質赤字比率に係る赤字・黒字の構成分析!H$42,"▲", "-")), 2)), NA()) -> #VALUE! | G28: =IF(ROUND(VALUE(SUBSTITUTE(連結実質赤字比率に係る赤字・黒字の構成分析!H$42,"▲", "-")), 2) >= 0, ABS(ROUND(VALUE(SUBSTITUTE(連結実質赤字比率に係る赤字・黒字の構成分析!H$42,"▲", "-")), 2)), NA()) -> #VALUE! | H28: =IF(ROUND(VALUE(SUBSTITUTE(連結実質赤字比率に係る赤字・黒字の構成分析!I$42,"▲", "-")), 2) < 0, ABS(ROUND(VALUE(SUBSTITUTE(連結実質赤字比率に係る赤字・黒字の構成分析!I$42,"▲", "-")), 2)), NA()) -> #VALUE! | I28: =IF(ROUND(VALUE(SUBSTITUTE(連結実質赤字比率に係る赤字・黒字の構成分析!I$42,"▲", "-")), 2) >= 0, ABS(ROUND(VALUE(SUBSTITUTE(連結実質赤字比率に係る赤字・黒字の構成分析!I$42,"▲", "-")), 2)), NA()) -> #VALUE! | J28: =IF(ROUND(VALUE(SUBSTITUTE(連結実質赤字比率に係る赤字・黒字の構成分析!J$42,"▲", "-")), 2) < 0, ABS(ROUND(VALUE(SUBSTITUTE(連結実質赤字比率に係る赤字・黒字の構成分析!J$42,"▲", "-")), 2)), NA()) -> #VALUE! | K28: =IF(ROUND(VALUE(SUBSTITUTE(連結実質赤字比率に係る赤字・黒字の構成分析!J$42,"▲", "-")), 2) >= 0, ABS(ROUND(VALUE(SUBSTITUTE(連結実質赤字比率に係る赤字・黒字の構成分析!J$42,"▲", "-")), 2)), NA()) -> #VALUE!
A29: =IF(連結実質赤字比率に係る赤字・黒字の構成分析!C$41="",NA(),連結実質赤字比率に係る赤字・黒字の構成分析!C$41) -> #N/A | B29: =IF(ROUND(VALUE(SUBSTITUTE(連結実質赤字比率に係る赤字・黒字の構成分析!F$41,"▲", "-")), 2) < 0, ABS(ROUND(VALUE(SUBSTITUTE(連結実質赤字比率に係る赤字・黒字の構成分析!F$41,"▲", "-")), 2)), NA()) -> #VALUE! | C29: =IF(ROUND(VALUE(SUBSTITUTE(連結実質赤字比率に係る赤字・黒字の構成分析!F$41,"▲", "-")), 2) >= 0, ABS(ROUND(VALUE(SUBSTITUTE(連結実質赤字比率に係る赤字・黒字の構成分析!F$41,"▲", "-")), 2)), NA()) -> #VALUE! | D29: =IF(ROUND(VALUE(SUBSTITUTE(連結実質赤字比率に係る赤字・黒字の構成分析!G$41,"▲", "-")), 2) < 0, ABS(ROUND(VALUE(SUBSTITUTE(連結実質赤字比率に係る赤字・黒字の構成分析!G$41,"▲", "-")), 2)), NA()) -> #VALUE! | E29: =IF(ROUND(VALUE(SUBSTITUTE(連結実質赤字比率に係る赤字・黒字の構成分析!G$41,"▲", "-")), 2) >= 0, ABS(ROUND(VALUE(SUBSTITUTE(連結実質赤字比率に係る赤字・黒字の構成分析!G$41,"▲", "-")), 2)), NA()) -> #VALUE! | F29: =IF(ROUND(VALUE(SUBSTITUTE(連結実質赤字比率に係る赤字・黒字の構成分析!H$41,"▲", "-")), 2) < 0, ABS(ROUND(VALUE(SUBSTITUTE(連結実質赤字比率に係る赤字・黒字の構成分析!H$41,"▲", "-")), 2)), NA()) -> #VALUE! | G29: =IF(ROUND(VALUE(SUBSTITUTE(連結実質赤字比率に係る赤字・黒字の構成分析!H$41,"▲", "-")), 2) >= 0, ABS(ROUND(VALUE(SUBSTITUTE(連結実質赤字比率に係る赤字・黒字の構成分析!H$41,"▲", "-")), 2)), NA()) -> #VALUE! | H29: =IF(ROUND(VALUE(SUBSTITUTE(連結実質赤字比率に係る赤字・黒字の構成分析!I$41,"▲", "-")), 2) < 0, ABS(ROUND(VALUE(SUBSTITUTE(連結実質赤字比率に係る赤字・黒字の構成分析!I$41,"▲", "-")), 2)), NA()) -> #VALUE! | I29: =IF(ROUND(VALUE(SUBSTITUTE(連結実質赤字比率に係る赤字・黒字の構成分析!I$41,"▲", "-")), 2) >= 0, ABS(ROUND(VALUE(SUBSTITUTE(連結実質赤字比率に係る赤字・黒字の構成分析!I$41,"▲", "-")), 2)), NA()) -> #VALUE! | J29: =IF(ROUND(VALUE(SUBSTITUTE(連結実質赤字比率に係る赤字・黒字の構成分析!J$41,"▲", "-")), 2) < 0, ABS(ROUND(VALUE(SUBSTITUTE(連結実質赤字比率に係る赤字・黒字の構成分析!J$41,"▲", "-")), 2)), NA()) -> #VALUE! | K29: =IF(ROUND(VALUE(SUBSTITUTE(連結実質赤字比率に係る赤字・黒字の構成分析!J$41,"▲", "-")), 2) >= 0, ABS(ROUND(VALUE(SUBSTITUTE(連結実質赤字比率に係る赤字・黒字の構成分析!J$41,"▲", "-")), 2)), NA()) -> #VALUE!
A30: =IF(連結実質赤字比率に係る赤字・黒字の構成分析!C$40="",NA(),連結実質赤字比率に係る赤字・黒字の構成分析!C$40) -> 集落排水事業特別会計 | B30: =IF(ROUND(VALUE(SUBSTITUTE(連結実質赤字比率に係る赤字・黒字の構成分析!F$40,"▲", "-")), 2) < 0, ABS(ROUND(VALUE(SUBSTITUTE(連結実質赤字比率に係る赤字・黒字の構成分析!F$40,"▲", "-")), 2)), NA()) -> #N/A | C30: =IF(ROUND(VALUE(SUBSTITUTE(連結実質赤字比率に係る赤字・黒字の構成分析!F$40,"▲", "-")), 2) >= 0, ABS(ROUND(VALUE(SUBSTITUTE(連結実質赤字比率に係る赤字・黒字の構成分析!F$40,"▲", "-")), 2)), NA()) -> 0 | D30: =IF(ROUND(VALUE(SUBSTITUTE(連結実質赤字比率に係る赤字・黒字の構成分析!G$40,"▲", "-")), 2) < 0, ABS(ROUND(VALUE(SUBSTITUTE(連結実質赤字比率に係る赤字・黒字の構成分析!G$40,"▲", "-")), 2)), NA()) -> #N/A | E30: =IF(ROUND(VALUE(SUBSTITUTE(連結実質赤字比率に係る赤字・黒字の構成分析!G$40,"▲", "-")), 2) >= 0, ABS(ROUND(VALUE(SUBSTITUTE(連結実質赤字比率に係る赤字・黒字の構成分析!G$40,"▲", "-")), 2)), NA()) -> 0 | F30: =IF(ROUND(VALUE(SUBSTITUTE(連結実質赤字比率に係る赤字・黒字の構成分析!H$40,"▲", "-")), 2) < 0, ABS(ROUND(VALUE(SUBSTITUTE(連結実質赤字比率に係る赤字・黒字の構成分析!H$40,"▲", "-")), 2)), NA()) -> #N/A | G30: =IF(ROUND(VALUE(SUBSTITUTE(連結実質赤字比率に係る赤字・黒字の構成分析!H$40,"▲", "-")), 2) >= 0, ABS(ROUND(VALUE(SUBSTITUTE(連結実質赤字比率に係る赤字・黒字の構成分析!H$40,"▲", "-")), 2)), NA()) -> 0 | H30: =IF(ROUND(VALUE(SUBSTITUTE(連結実質赤字比率に係る赤字・黒字の構成分析!I$40,"▲", "-")), 2) < 0, ABS(ROUND(VALUE(SUBSTITUTE(連結実質赤字比率に係る赤字・黒字の構成分析!I$40,"▲", "-")), 2)), NA()) -> #N/A | I30: =IF(ROUND(VALUE(SUBSTITUTE(連結実質赤字比率に係る赤字・黒字の構成分析!I$40,"▲", "-")), 2) >= 0, ABS(ROUND(VALUE(SUBSTITUTE(連結実質赤字比率に係る赤字・黒字の構成分析!I$40,"▲", "-")), 2)), NA()) -> 0 | J30: =IF(ROUND(VALUE(SUBSTITUTE(連結実質赤字比率に係る赤字・黒字の構成分析!J$40,"▲", "-")), 2) < 0, ABS(ROUND(VALUE(SUBSTITUTE(連結実質赤字比率に係る赤字・黒字の構成分析!J$40,"▲", "-")), 2)), NA()) -> #N/A | K30: =IF(ROUND(VALUE(SUBSTITUTE(連結実質赤字比率に係る赤字・黒字の構成分析!J$40,"▲", "-")), 2) >= 0, ABS(ROUND(VALUE(SUBSTITUTE(連結実質赤字比率に係る赤字・黒字の構成分析!J$40,"▲", "-")), 2)), NA()) -> 0
A31: =IF(連結実質赤字比率に係る赤字・黒字の構成分析!C$39="",NA(),連結実質赤字比率に係る赤字・黒字の構成分析!C$39) -> 後期高齢者医療特別会計 | B31: =IF(ROUND(VALUE(SUBSTITUTE(連結実質赤字比率に係る赤字・黒字の構成分析!F$39,"▲", "-")), 2) < 0, ABS(ROUND(VALUE(SUBSTITUTE(連結実質赤字比率に係る赤字・黒字の構成分析!F$39,"▲", "-")), 2)), NA()) -> #N/A | C31: =IF(ROUND(VALUE(SUBSTITUTE(連結実質赤字比率に係る赤字・黒字の構成分析!F$39,"▲", "-")), 2) >= 0, ABS(ROUND(VALUE(SUBSTITUTE(連結実質赤字比率に係る赤字・黒字の構成分析!F$39,"▲", "-")), 2)), NA()) -> 0 | D31: =IF(ROUND(VALUE(SUBSTITUTE(連結実質赤字比率に係る赤字・黒字の構成分析!G$39,"▲", "-")), 2) < 0, ABS(ROUND(VALUE(SUBSTITUTE(連結実質赤字比率に係る赤字・黒字の構成分析!G$39,"▲", "-")), 2)), NA()) -> #N/A | E31: =IF(ROUND(VALUE(SUBSTITUTE(連結実質赤字比率に係る赤字・黒字の構成分析!G$39,"▲", "-")), 2) >= 0, ABS(ROUND(VALUE(SUBSTITUTE(連結実質赤字比率に係る赤字・黒字の構成分析!G$39,"▲", "-")), 2)), NA()) -> 0.01 | F31: =IF(ROUND(VALUE(SUBSTITUTE(連結実質赤字比率に係る赤字・黒字の構成分析!H$39,"▲", "-")), 2) < 0, ABS(ROUND(VALUE(SUBSTITUTE(連結実質赤字比率に係る赤字・黒字の構成分析!H$39,"▲", "-")), 2)), NA()) -> #N/A | G31: =IF(ROUND(VALUE(SUBSTITUTE(連結実質赤字比率に係る赤字・黒字の構成分析!H$39,"▲", "-")), 2) >= 0, ABS(ROUND(VALUE(SUBSTITUTE(連結実質赤字比率に係る赤字・黒字の構成分析!H$39,"▲", "-")), 2)), NA()) -> 0.02 | H31: =IF(ROUND(VALUE(SUBSTITUTE(連結実質赤字比率に係る赤字・黒字の構成分析!I$39,"▲", "-")), 2) < 0, ABS(ROUND(VALUE(SUBSTITUTE(連結実質赤字比率に係る赤字・黒字の構成分析!I$39,"▲", "-")), 2)), NA()) -> #N/A | I31: =IF(ROUND(VALUE(SUBSTITUTE(連結実質赤字比率に係る赤字・黒字の構成分析!I$39,"▲", "-")), 2) >= 0, ABS(ROUND(VALUE(SUBSTITUTE(連結実質赤字比率に係る赤字・黒字の構成分析!I$39,"▲", "-")), 2)), NA()) -> 0.01 | J31: =IF(ROUND(VALUE(SUBSTITUTE(連結実質赤字比率に係る赤字・黒字の構成分析!J$39,"▲", "-")), 2) < 0, ABS(ROUND(VALUE(SUBSTITUTE(連結実質赤字比率に係る赤字・黒字の構成分析!J$39,"▲", "-")), 2)), NA()) -> #N/A | K31: =IF(ROUND(VALUE(SUBSTITUTE(連結実質赤字比率に係る赤字・黒字の構成分析!J$39,"▲", "-")), 2) >= 0, ABS(ROUND(VALUE(SUBSTITUTE(連結実質赤字比率に係る赤字・黒字の構成分析!J$39,"▲", "-")), 2)), NA()) -> 0.01
A32: =IF(連結実質赤字比率に係る赤字・黒字の構成分析!C$38="",NA(),連結実質赤字比率に係る赤字・黒字の構成分析!C$38) -> 介護保険特別会計 | B32: =IF(ROUND(VALUE(SUBSTITUTE(連結実質赤字比率に係る赤字・黒字の構成分析!F$38,"▲", "-")), 2) < 0, ABS(ROUND(VALUE(SUBSTITUTE(連結実質赤字比率に係る赤字・黒字の構成分析!F$38,"▲", "-")), 2)), NA()) -> #N/A | C32: =IF(ROUND(VALUE(SUBSTITUTE(連結実質赤字比率に係る赤字・黒字の構成分析!F$38,"▲", "-")), 2) >= 0, ABS(ROUND(VALUE(SUBSTITUTE(連結実質赤字比率に係る赤字・黒字の構成分析!F$38,"▲", "-")), 2)), NA()) -> 0.62 | D32: =IF(ROUND(VALUE(SUBSTITUTE(連結実質赤字比率に係る赤字・黒字の構成分析!G$38,"▲", "-")), 2) < 0, ABS(ROUND(VALUE(SUBSTITUTE(連結実質赤字比率に係る赤字・黒字の構成分析!G$38,"▲", "-")), 2)), NA()) -> #N/A | E32: =IF(ROUND(VALUE(SUBSTITUTE(連結実質赤字比率に係る赤字・黒字の構成分析!G$38,"▲", "-")), 2) >= 0, ABS(ROUND(VALUE(SUBSTITUTE(連結実質赤字比率に係る赤字・黒字の構成分析!G$38,"▲", "-")), 2)), NA()) -> 0.45 | F32: =IF(ROUND(VALUE(SUBSTITUTE(連結実質赤字比率に係る赤字・黒字の構成分析!H$38,"▲", "-")), 2) < 0, ABS(ROUND(VALUE(SUBSTITUTE(連結実質赤字比率に係る赤字・黒字の構成分析!H$38,"▲", "-")), 2)), NA()) -> #N/A | G32: =IF(ROUND(VALUE(SUBSTITUTE(連結実質赤字比率に係る赤字・黒字の構成分析!H$38,"▲", "-")), 2) >= 0, ABS(ROUND(VALUE(SUBSTITUTE(連結実質赤字比率に係る赤字・黒字の構成分析!H$38,"▲", "-")), 2)), NA()) -> 0.56 | H32: =IF(ROUND(VALUE(SUBSTITUTE(連結実質赤字比率に係る赤字・黒字の構成分析!I$38,"▲", "-")), 2) < 0, ABS(ROUND(VALUE(SUBSTITUTE(連結実質赤字比率に係る赤字・黒字の構成分析!I$38,"▲", "-")), 2)), NA()) -> #N/A | I32: =IF(ROUND(VALUE(SUBSTITUTE(連結実質赤字比率に係る赤字・黒字の構成分析!I$38,"▲", "-")), 2) >= 0, ABS(ROUND(VALUE(SUBSTITUTE(連結実質赤字比率に係る赤字・黒字の構成分析!I$38,"▲", "-")), 2)), NA()) -> 1.84 | J32: =IF(ROUND(VALUE(SUBSTITUTE(連結実質赤字比率に係る赤字・黒字の構成分析!J$38,"▲", "-")), 2) < 0, ABS(ROUND(VALUE(SUBSTITUTE(連結実質赤字比率に係る赤字・黒字の構成分析!J$38,"▲", "-")), 2)), NA()) -> #N/A | K32: =IF(ROUND(VALUE(SUBSTITUTE(連結実質赤字比率に係る赤字・黒字の構成分析!J$38,"▲", "-")), 2) >= 0, ABS(ROUND(VALUE(SUBSTITUTE(連結実質赤字比率に係る赤字・黒字の構成分析!J$38,"▲", "-")), 2)), NA()) -> 1.11
A33: =IF(連結実質赤字比率に係る赤字・黒字の構成分析!C$37="",NA(),連結実質赤字比率に係る赤字・黒字の構成分析!C$37) -> 国民健康保険特別会計 | B33: =IF(ROUND(VALUE(SUBSTITUTE(連結実質赤字比率に係る赤字・黒字の構成分析!F$37,"▲", "-")), 2) < 0, ABS(ROUND(VALUE(SUBSTITUTE(連結実質赤字比率に係る赤字・黒字の構成分析!F$37,"▲", "-")), 2)), NA()) -> #N/A | C33: =IF(ROUND(VALUE(SUBSTITUTE(連結実質赤字比率に係る赤字・黒字の構成分析!F$37,"▲", "-")), 2) >= 0, ABS(ROUND(VALUE(SUBSTITUTE(連結実質赤字比率に係る赤字・黒字の構成分析!F$37,"▲", "-")), 2)), NA()) -> 2.63 | D33: =IF(ROUND(VALUE(SUBSTITUTE(連結実質赤字比率に係る赤字・黒字の構成分析!G$37,"▲", "-")), 2) < 0, ABS(ROUND(VALUE(SUBSTITUTE(連結実質赤字比率に係る赤字・黒字の構成分析!G$37,"▲", "-")), 2)), NA()) -> #N/A | E33: =IF(ROUND(VALUE(SUBSTITUTE(連結実質赤字比率に係る赤字・黒字の構成分析!G$37,"▲", "-")), 2) >= 0, ABS(ROUND(VALUE(SUBSTITUTE(連結実質赤字比率に係る赤字・黒字の構成分析!G$37,"▲", "-")), 2)), NA()) -> 2.38 | F33: =IF(ROUND(VALUE(SUBSTITUTE(連結実質赤字比率に係る赤字・黒字の構成分析!H$37,"▲", "-")), 2) < 0, ABS(ROUND(VALUE(SUBSTITUTE(連結実質赤字比率に係る赤字・黒字の構成分析!H$37,"▲", "-")), 2)), NA()) -> #N/A | G33: =IF(ROUND(VALUE(SUBSTITUTE(連結実質赤字比率に係る赤字・黒字の構成分析!H$37,"▲", "-")), 2) >= 0, ABS(ROUND(VALUE(SUBSTITUTE(連結実質赤字比率に係る赤字・黒字の構成分析!H$37,"▲", "-")), 2)), NA()) -> 1.08 | H33: =IF(ROUND(VALUE(SUBSTITUTE(連結実質赤字比率に係る赤字・黒字の構成分析!I$37,"▲", "-")), 2) < 0, ABS(ROUND(VALUE(SUBSTITUTE(連結実質赤字比率に係る赤字・黒字の構成分析!I$37,"▲", "-")), 2)), NA()) -> #N/A | I33: =IF(ROUND(VALUE(SUBSTITUTE(連結実質赤字比率に係る赤字・黒字の構成分析!I$37,"▲", "-")), 2) >= 0, ABS(ROUND(VALUE(SUBSTITUTE(連結実質赤字比率に係る赤字・黒字の構成分析!I$37,"▲", "-")), 2)), NA()) -> 1.89 | J33: =IF(ROUND(VALUE(SUBSTITUTE(連結実質赤字比率に係る赤字・黒字の構成分析!J$37,"▲", "-")), 2) < 0, ABS(ROUND(VALUE(SUBSTITUTE(連結実質赤字比率に係る赤字・黒字の構成分析!J$37,"▲", "-")), 2)), NA()) -> #N/A | K33: =IF(ROUND(VALUE(SUBSTITUTE(連結実質赤字比率に係る赤字・黒字の構成分析!J$37,"▲", "-")), 2) >= 0, ABS(ROUND(VALUE(SUBSTITUTE(連結実質赤字比率に係る赤字・黒字の構成分析!J$37,"▲", "-")), 2)), NA()) -> 3.01
A34: =IF(連結実質赤字比率に係る赤字・黒字の構成分析!C$36="",NA(),連結実質赤字比率に係る赤字・黒字の構成分析!C$36) -> 病院事業会計 | B34: =IF(ROUND(VALUE(SUBSTITUTE(連結実質赤字比率に係る赤字・黒字の構成分析!F$36,"▲", "-")), 2) < 0, ABS(ROUND(VALUE(SUBSTITUTE(連結実質赤字比率に係る赤字・黒字の構成分析!F$36,"▲", "-")), 2)), NA()) -> #N/A | C34: =IF(ROUND(VALUE(SUBSTITUTE(連結実質赤字比率に係る赤字・黒字の構成分析!F$36,"▲", "-")), 2) >= 0, ABS(ROUND(VALUE(SUBSTITUTE(連結実質赤字比率に係る赤字・黒字の構成分析!F$36,"▲", "-")), 2)), NA()) -> 14.83 | D34: =IF(ROUND(VALUE(SUBSTITUTE(連結実質赤字比率に係る赤字・黒字の構成分析!G$36,"▲", "-")), 2) < 0, ABS(ROUND(VALUE(SUBSTITUTE(連結実質赤字比率に係る赤字・黒字の構成分析!G$36,"▲", "-")), 2)), NA()) -> #N/A | E34: =IF(ROUND(VALUE(SUBSTITUTE(連結実質赤字比率に係る赤字・黒字の構成分析!G$36,"▲", "-")), 2) >= 0, ABS(ROUND(VALUE(SUBSTITUTE(連結実質赤字比率に係る赤字・黒字の構成分析!G$36,"▲", "-")), 2)), NA()) -> 14.19 | F34: =IF(ROUND(VALUE(SUBSTITUTE(連結実質赤字比率に係る赤字・黒字の構成分析!H$36,"▲", "-")), 2) < 0, ABS(ROUND(VALUE(SUBSTITUTE(連結実質赤字比率に係る赤字・黒字の構成分析!H$36,"▲", "-")), 2)), NA()) -> #N/A | G34: =IF(ROUND(VALUE(SUBSTITUTE(連結実質赤字比率に係る赤字・黒字の構成分析!H$36,"▲", "-")), 2) >= 0, ABS(ROUND(VALUE(SUBSTITUTE(連結実質赤字比率に係る赤字・黒字の構成分析!H$36,"▲", "-")), 2)), NA()) -> 12.64 | H34: =IF(ROUND(VALUE(SUBSTITUTE(連結実質赤字比率に係る赤字・黒字の構成分析!I$36,"▲", "-")), 2) < 0, ABS(ROUND(VALUE(SUBSTITUTE(連結実質赤字比率に係る赤字・黒字の構成分析!I$36,"▲", "-")), 2)), NA()) -> #N/A | I34: =IF(ROUND(VALUE(SUBSTITUTE(連結実質赤字比率に係る赤字・黒字の構成分析!I$36,"▲", "-")), 2) >= 0, ABS(ROUND(VALUE(SUBSTITUTE(連結実質赤字比率に係る赤字・黒字の構成分析!I$36,"▲", "-")), 2)), NA()) -> 10.6 | J34: =IF(ROUND(VALUE(SUBSTITUTE(連結実質赤字比率に係る赤字・黒字の構成分析!J$36,"▲", "-")), 2) < 0, ABS(ROUND(VALUE(SUBSTITUTE(連結実質赤字比率に係る赤字・黒字の構成分析!J$36,"▲", "-")), 2)), NA()) -> #N/A | K34: =IF(ROUND(VALUE(SUBSTITUTE(連結実質赤字比率に係る赤字・黒字の構成分析!J$36,"▲", "-")), 2) >= 0, ABS(ROUND(VALUE(SUBSTITUTE(連結実質赤字比率に係る赤字・黒字の構成分析!J$36,"▲", "-")), 2)), NA()) -> 9.36
A35: =IF(連結実質赤字比率に係る赤字・黒字の構成分析!C$35="",NA(),連結実質赤字比率に係る赤字・黒字の構成分析!C$35) -> 一般会計 | B35: =IF(ROUND(VALUE(SUBSTITUTE(連結実質赤字比率に係る赤字・黒字の構成分析!F$35,"▲", "-")), 2) < 0, ABS(ROUND(VALUE(SUBSTITUTE(連結実質赤字比率に係る赤字・黒字の構成分析!F$35,"▲", "-")), 2)), NA()) -> #N/A | C35: =IF(ROUND(VALUE(SUBSTITUTE(連結実質赤字比率に係る赤字・黒字の構成分析!F$35,"▲", "-")), 2) >= 0, ABS(ROUND(VALUE(SUBSTITUTE(連結実質赤字比率に係る赤字・黒字の構成分析!F$35,"▲", "-")), 2)), NA()) -> 11.82 | D35: =IF(ROUND(VALUE(SUBSTITUTE(連結実質赤字比率に係る赤字・黒字の構成分析!G$35,"▲", "-")), 2) < 0, ABS(ROUND(VALUE(SUBSTITUTE(連結実質赤字比率に係る赤字・黒字の構成分析!G$35,"▲", "-")), 2)), NA()) -> #N/A | E35: =IF(ROUND(VALUE(SUBSTITUTE(連結実質赤字比率に係る赤字・黒字の構成分析!G$35,"▲", "-")), 2) >= 0, ABS(ROUND(VALUE(SUBSTITUTE(連結実質赤字比率に係る赤字・黒字の構成分析!G$35,"▲", "-")), 2)), NA()) -> 12.01 | F35: =IF(ROUND(VALUE(SUBSTITUTE(連結実質赤字比率に係る赤字・黒字の構成分析!H$35,"▲", "-")), 2) < 0, ABS(ROUND(VALUE(SUBSTITUTE(連結実質赤字比率に係る赤字・黒字の構成分析!H$35,"▲", "-")), 2)), NA()) -> #N/A | G35: =IF(ROUND(VALUE(SUBSTITUTE(連結実質赤字比率に係る赤字・黒字の構成分析!H$35,"▲", "-")), 2) >= 0, ABS(ROUND(VALUE(SUBSTITUTE(連結実質赤字比率に係る赤字・黒字の構成分析!H$35,"▲", "-")), 2)), NA()) -> 12.22 | H35: =IF(ROUND(VALUE(SUBSTITUTE(連結実質赤字比率に係る赤字・黒字の構成分析!I$35,"▲", "-")), 2) < 0, ABS(ROUND(VALUE(SUBSTITUTE(連結実質赤字比率に係る赤字・黒字の構成分析!I$35,"▲", "-")), 2)), NA()) -> #N/A | I35: =IF(ROUND(VALUE(SUBSTITUTE(連結実質赤字比率に係る赤字・黒字の構成分析!I$35,"▲", "-")), 2) >= 0, ABS(ROUND(VALUE(SUBSTITUTE(連結実質赤字比率に係る赤字・黒字の構成分析!I$35,"▲", "-")), 2)), NA()) -> 12.6 | J35: =IF(ROUND(VALUE(SUBSTITUTE(連結実質赤字比率に係る赤字・黒字の構成分析!J$35,"▲", "-")), 2) < 0, ABS(ROUND(VALUE(SUBSTITUTE(連結実質赤字比率に係る赤字・黒字の構成分析!J$35,"▲", "-")), 2)), NA()) -> #N/A | K35: =IF(ROUND(VALUE(SUBSTITUTE(連結実質赤字比率に係る赤字・黒字の構成分析!J$35,"▲", "-")), 2) >= 0, ABS(ROUND(VALUE(SUBSTITUTE(連結実質赤字比率に係る赤字・黒字の構成分析!J$35,"▲", "-")), 2)), NA()) -> 10.24
A36: =IF(連結実質赤字比率に係る赤字・黒字の構成分析!C$34="",NA(),連結実質赤字比率に係る赤字・黒字の構成分析!C$34) -> 水道事業会計 | B36: =IF(ROUND(VALUE(SUBSTITUTE(連結実質赤字比率に係る赤字・黒字の構成分析!F$34,"▲", "-")), 2) < 0, ABS(ROUND(VALUE(SUBSTITUTE(連結実質赤字比率に係る赤字・黒字の構成分析!F$34,"▲", "-")), 2)), NA()) -> #N/A | C36: =IF(ROUND(VALUE(SUBSTITUTE(連結実質赤字比率に係る赤字・黒字の構成分析!F$34,"▲", "-")), 2) >= 0, ABS(ROUND(VALUE(SUBSTITUTE(連結実質赤字比率に係る赤字・黒字の構成分析!F$34,"▲", "-")), 2)), NA()) -> 10.09 | D36: =IF(ROUND(VALUE(SUBSTITUTE(連結実質赤字比率に係る赤字・黒字の構成分析!G$34,"▲", "-")), 2) < 0, ABS(ROUND(VALUE(SUBSTITUTE(連結実質赤字比率に係る赤字・黒字の構成分析!G$34,"▲", "-")), 2)), NA()) -> #N/A | E36: =IF(ROUND(VALUE(SUBSTITUTE(連結実質赤字比率に係る赤字・黒字の構成分析!G$34,"▲", "-")), 2) >= 0, ABS(ROUND(VALUE(SUBSTITUTE(連結実質赤字比率に係る赤字・黒字の構成分析!G$34,"▲", "-")), 2)), NA()) -> 11.7 | F36: =IF(ROUND(VALUE(SUBSTITUTE(連結実質赤字比率に係る赤字・黒字の構成分析!H$34,"▲", "-")), 2) < 0, ABS(ROUND(VALUE(SUBSTITUTE(連結実質赤字比率に係る赤字・黒字の構成分析!H$34,"▲", "-")), 2)), NA()) -> #N/A | G36: =IF(ROUND(VALUE(SUBSTITUTE(連結実質赤字比率に係る赤字・黒字の構成分析!H$34,"▲", "-")), 2) >= 0, ABS(ROUND(VALUE(SUBSTITUTE(連結実質赤字比率に係る赤字・黒字の構成分析!H$34,"▲", "-")), 2)), NA()) -> 12.08 | H36: =IF(ROUND(VALUE(SUBSTITUTE(連結実質赤字比率に係る赤字・黒字の構成分析!I$34,"▲", "-")), 2) < 0, ABS(ROUND(VALUE(SUBSTITUTE(連結実質赤字比率に係る赤字・黒字の構成分析!I$34,"▲", "-")), 2)), NA()) -> #N/A | I36: =IF(ROUND(VALUE(SUBSTITUTE(連結実質赤字比率に係る赤字・黒字の構成分析!I$34,"▲", "-")), 2) >= 0, ABS(ROUND(VALUE(SUBSTITUTE(連結実質赤字比率に係る赤字・黒字の構成分析!I$34,"▲", "-")), 2)), NA()) -> 11.45 | J36: =IF(ROUND(VALUE(SUBSTITUTE(連結実質赤字比率に係る赤字・黒字の構成分析!J$34,"▲", "-")), 2) < 0, ABS(ROUND(VALUE(SUBSTITUTE(連結実質赤字比率に係る赤字・黒字の構成分析!J$34,"▲", "-")), 2)), NA()) -> #N/A | K36: =IF(ROUND(VALUE(SUBSTITUTE(連結実質赤字比率に係る赤字・黒字の構成分析!J$34,"▲", "-")), 2) >= 0, ABS(ROUND(VALUE(SUBSTITUTE(連結実質赤字比率に係る赤字・黒字の構成分析!J$34,"▲", "-")), 2)), NA()) -> 12.03
A39: 実質公債費比率（分子）の構造
B40: ='実質公債費比率（分子）の構造'!K$44 -> H25 | E40: ='実質公債費比率（分子）の構造'!L$44 -> H26 | H40: ='実質公債費比率（分子）の構造'!M$44 -> H27 | K40: ='実質公債費比率（分子）の構造'!N$44 -> H28 | N40: ='実質公債費比率（分子）の構造'!O$44 -> H29
B41: 元利償還金等 | D41: 算入公債費等 | E41: 元利償還金等 | G41: 算入公債費等 | H41: 元利償還金等 | J41: 算入公債費等 | K41: 元利償還金等 | M41: 算入公債費等 | N41: 元利償還金等 | P41: 算入公債費等
A42: 算入公債費等 | D42: ='実質公債費比率（分子）の構造'!K$52 -> 489 | G42: ='実質公債費比率（分子）の構造'!L$52 -> 592 | J42: ='実質公債費比率（分子）の構造'!M$52 -> 575 | M42: ='実質公債費比率（分子）の構造'!N$52 -> 576 | P42: ='実質公債費比率（分子）の構造'!O$52 -> 593
A43: 一時借入金の利子 | B43: ='実質公債費比率（分子）の構造'!K$51 -> 0 | E43: ='実質公債費比率（分子）の構造'!L$51 -> 0 | H43: ='実質公債費比率（分子）の構造'!M$51 -> 0 | K43: ='実質公債費比率（分子）の構造'!N$51 -> 0 | N43: ='実質公債費比率（分子）の構造'!O$51 -> 0
A44: 債務負担行為に基づく支出額 | B44: ='実質公債費比率（分子）の構造'!K$50 -> - | E44: ='実質公債費比率（分子）の構造'!L$50 -> - | H44: ='実質公債費比率（分子）の構造'!M$50 -> - | K44: ='実質公債費比率（分子）の構造'!N$50 -> - | N44: ='実質公債費比率（分子）の構造'!O$50 -> -
A45: 組合等が起こした地方債の元利償還金に対する負担金等 | B45: ='実質公債費比率（分子）の構造'!K$49 -> 22 | E45: ='実質公債費比率（分子）の構造'!L$49 -> 1 | H45: ='実質公債費比率（分子）の構造'!M$49 -> 5 | K45: ='実質公債費比率（分子）の構造'!N$49 -> 6 | N45: ='実質公債費比率（分子）の構造'!O$49 -> 6
A46: 公営企業債の元利償還金に対する繰入金 | B46: ='実質公債費比率（分子）の構造'!K$48 -> 60 | E46: ='実質公債費比率（分子）の構造'!L$48 -> 52 | H46: ='実質公債費比率（分子）の構造'!M$48 -> 45 | K46: ='実質公債費比率（分子）の構造'!N$48 -> 36 | N46: ='実質公債費比率（分子）の構造'!O$48 -> 40
A47: 満期一括償還地方債に係る年度割相当額 | B47: ='実質公債費比率（分子）の構造'!K$47 -> - | E47: ='実質公債費比率（分子）の構造'!L$47 -> - | H47: ='実質公債費比率（分子）の構造'!M$47 -> - | K47: ='実質公債費比率（分子）の構造'!N$47 -> - | N47: ='実質公債費比率（分子）の構造'!O$47 -> -
...
